BEGIN:VCALENDAR
VERSION:2.0
PRODID:-//Yoga - QiGong - Natur erleben - ECPv6.15.20//NONSGML v1.0//EN
CALSCALE:GREGORIAN
METHOD:PUBLISH
X-WR-CALNAME:Yoga - QiGong - Natur erleben
X-ORIGINAL-URL:https://yoqina.goldeneskreuz.de
X-WR-CALDESC:Veranstaltungen für Yoga - QiGong - Natur erleben
REFRESH-INTERVAL;VALUE=DURATION:PT1H
X-Robots-Tag:noindex
X-PUBLISHED-TTL:PT1H
BEGIN:VTIMEZONE
TZID:Europe/Berlin
BEGIN:DAYLIGHT
TZOFFSETFROM:+0100
TZOFFSETTO:+0200
TZNAME:CEST
DTSTART:20220327T010000
END:DAYLIGHT
BEGIN:STANDARD
TZOFFSETFROM:+0200
TZOFFSETTO:+0100
TZNAME:CET
DTSTART:20221030T010000
END:STANDARD
BEGIN:DAYLIGHT
TZOFFSETFROM:+0100
TZOFFSETTO:+0200
TZNAME:CEST
DTSTART:20230326T010000
END:DAYLIGHT
BEGIN:STANDARD
TZOFFSETFROM:+0200
TZOFFSETTO:+0100
TZNAME:CET
DTSTART:20231029T010000
END:STANDARD
BEGIN:DAYLIGHT
TZOFFSETFROM:+0100
TZOFFSETTO:+0200
TZNAME:CEST
DTSTART:20240331T010000
END:DAYLIGHT
BEGIN:STANDARD
TZOFFSETFROM:+0200
TZOFFSETTO:+0100
TZNAME:CET
DTSTART:20241027T010000
END:STANDARD
END:VTIMEZONE
BEGIN:VEVENT
DTSTART;TZID=Europe/Berlin:20230613T193000
DTEND;TZID=Europe/Berlin:20230613T203000
DTSTAMP:20260424T022357
CREATED:20230608T141926Z
LAST-MODIFIED:20230609T211053Z
UID:10000395-1686684600-1686688200@yoqina.goldeneskreuz.de
SUMMARY:Wandlungsphasen Qigong - Gunzesried
DESCRIPTION:Wandlungsphasen Qigong\nElement Feuer\nDas Wandlungsphasen Elemente Qigong-Programm besteht aus einer Reihe von Übungen\, die auf den fünf Elementen basieren: Holz\, Feuer\, Erde\, Metall und Wasser. Jedes Element repräsentiert eine bestimmte Wandlungsphase und ist mit bestimmten Organen\, Emotionen und körperlichen Merkmalen verbunden. Durch das Üben der Wandlungsphasen Elemente Qigong-Übungen kannst du diese Elemente in deinem Körper ausbalancieren und Gesundheit und Wohlbefinden verbessern. \nDienstags 13.06.2023 – 25.06.2023 \n10er karte 95\,- \nAnmeldung: Bernhard Schneider 017645536898
URL:https://yoqina.goldeneskreuz.de/veranstaltung/wandlungsphasen-qigong-gunzesried/
LOCATION:Berggasthof Goldenes Kreuz\, YoQiNa\, Gunzesried\, Bayern\, 87544\, Deutschland
CATEGORIES:Qigong
ATTACH;FMTTYPE=image/gif:https://yoqina.goldeneskreuz.de/wp-content/uploads/sites/4/2023/06/5-Elemnte.gif
ORGANIZER;CN="Berggasthof Goldenes Kreuz":MAILTO:info@goldeneskreuz.de
END:VEVENT
BEGIN:VEVENT
DTSTART;TZID=Europe/Berlin:20230615T083000
DTEND;TZID=Europe/Berlin:20230615T094500
DTSTAMP:20260424T022357
CREATED:20230609T183511Z
LAST-MODIFIED:20230725T200739Z
UID:10000513-1686817800-1686822300@yoqina.goldeneskreuz.de
SUMMARY:Qigong im Park - Immenstadt
DESCRIPTION:Qigong im Park \nQigong stärkt die Lebenskraft. Die Qigong Übungen beruhen auf alter Tradition zur Gesundheitspflege. Die Qigong Übungen sind für jedes Lebensalter anpassbar und leicht zu erlenen. \n15.06.-03.08.2023 \nKosten: 7\,-/ 5\,- Kneippmitglieder \nOrt: Wiese hinterm Auwaldsee 
URL:https://yoqina.goldeneskreuz.de/veranstaltung/qigong-im-park-immenstadt/2023-06-15/
LOCATION:Immenstadt Auwald\, Immenstadt\, Bayern\, 87509\, Deutschland
CATEGORIES:Qigong
ATTACH;FMTTYPE=image/jpeg:https://yoqina.goldeneskreuz.de/wp-content/uploads/sites/4/2023/06/qigong_im_park_1000.jpg
GEO:47.56177;10.230607
END:VEVENT
BEGIN:VEVENT
DTSTART;TZID=Europe/Berlin:20230619T190000
DTEND;TZID=Europe/Berlin:20230619T203000
DTSTAMP:20260424T022357
CREATED:20230807T101252Z
LAST-MODIFIED:20230807T101439Z
UID:10000589-1687201200-1687206600@yoqina.goldeneskreuz.de
SUMMARY:Hatha Yoga und Entspannung
DESCRIPTION:Hatha Yoga und Entspannung\nYoga ist ein wunderbarer Übungsweg der über die körperliche Ebene hinführt zu Wohlempfinden und Entspannung. Egal ob du geübter Yogi oder Anfänger\, Jung oder etwas älter bist\, mitmachen kann jeder. \nY O G A * T U T * G U T!\nHatha Yoga Übungen in verschiedenen Schwierigkeitsstufen sowie fließende Übungsfolgen\, Achtsamkeitsübungen\, verschiedene Atemtechniken und diverse Entspannungsübungen (z.B. Body scan\, Progressive Muskelentspannung)\, führen durch das 8-wöchiges Kursprogramm. \nWenn du nun neugierig wirst\, sei dabei und melde dich an. \nLeitung: Christa Schneider\, Yogalehrerin BDY/EYU\nGebühr: 10er Karte 100\,-€ oder 12\,-€ pro Stunde (erstes Meeting ist frei)\nMontag\, wöchentlich\, 19:00 – 20:30 Uhr\nAnmeldung über Berggasthof Goldenes Kreuz
URL:https://yoqina.goldeneskreuz.de/veranstaltung/hatha-yoga-und-entspannung-3/2023-06-19/
LOCATION:Berggasthof Goldenes Kreuz\, YoQiNa\, Gunzesried\, Bayern\, 87544\, Deutschland
CATEGORIES:Hatha Yoga,vhs Oberallgäuer Volkshochschule,Yoga,YoQiNa
ATTACH;FMTTYPE=image/jpeg:https://yoqina.goldeneskreuz.de/wp-content/uploads/sites/4/2021/06/YoQiNa-Yoga-Sonthofen-Gunzesried-Blaichach-Oberallgaeu-Kempten-Schneider-1.jpg
ORGANIZER;CN="Berggasthof Goldenes Kreuz":MAILTO:info@goldeneskreuz.de
END:VEVENT
BEGIN:VEVENT
DTSTART;TZID=Europe/Berlin:20230622T083000
DTEND;TZID=Europe/Berlin:20230622T094500
DTSTAMP:20260424T022357
CREATED:20230609T183511Z
LAST-MODIFIED:20230725T200739Z
UID:10000514-1687422600-1687427100@yoqina.goldeneskreuz.de
SUMMARY:Qigong im Park - Immenstadt
DESCRIPTION:Qigong im Park \nQigong stärkt die Lebenskraft. Die Qigong Übungen beruhen auf alter Tradition zur Gesundheitspflege. Die Qigong Übungen sind für jedes Lebensalter anpassbar und leicht zu erlenen. \n15.06.-03.08.2023 \nKosten: 7\,-/ 5\,- Kneippmitglieder \nOrt: Wiese hinterm Auwaldsee 
URL:https://yoqina.goldeneskreuz.de/veranstaltung/qigong-im-park-immenstadt/2023-06-22/
LOCATION:Immenstadt Auwald\, Immenstadt\, Bayern\, 87509\, Deutschland
CATEGORIES:Qigong
ATTACH;FMTTYPE=image/jpeg:https://yoqina.goldeneskreuz.de/wp-content/uploads/sites/4/2023/06/qigong_im_park_1000.jpg
GEO:47.56177;10.230607
END:VEVENT
BEGIN:VEVENT
DTSTART;TZID=Europe/Berlin:20230626T100000
DTEND;TZID=Europe/Berlin:20230626T130000
DTSTAMP:20260424T022357
CREATED:20150531T203700Z
LAST-MODIFIED:20230616T173015Z
UID:10000575-1687773600-1687784400@yoqina.goldeneskreuz.de
SUMMARY:Was blüht denn da am Wegesrand?
DESCRIPTION:Was blüht den da am Wegesrand\nKräuterwanderung entlang des Nagelfluh\nLeichte Wanderung im Gunzesrieder Hochtal\, die uns über Kräuter- und artenreiche Wiesen und Alpgärten führt. Ihr begreift das Zusammenwirken von Kulturlandschaft und Landwirtschaft\, woher der Alpkäse seinen würzigen Geschmack hat und wie Kräuter und Wildpflanzen in der Volksheilkunde Verwendung finden. Gerne auch mit Kinder. \nTermine: 26.Juni 03.10.17.31. Juli 7.14.21.28. August \nLeitung: Christa Schneider\, Köchin\, Wildkräuterfrau und Naturparkführerin.
URL:https://yoqina.goldeneskreuz.de/veranstaltung/was-blueht-denn-da-am-wegesrand/2023-06-26/
LOCATION:Berggasthof Goldenes Kreuz\, YoQiNa\, Gunzesried\, Bayern\, 87544\, Deutschland
CATEGORIES:Natur erleben,Was blüht denn da am Wegesrand,YoQiNa
ATTACH;FMTTYPE=image/jpeg:https://yoqina.goldeneskreuz.de/wp-content/uploads/sites/4/2023/06/was_blueht_den_da_am_wegesrand-rotated-e1686344377351.jpg
ORGANIZER;CN="Berggasthof Goldenes Kreuz":MAILTO:info@goldeneskreuz.de
END:VEVENT
BEGIN:VEVENT
DTSTART;TZID=Europe/Berlin:20230626T190000
DTEND;TZID=Europe/Berlin:20230626T203000
DTSTAMP:20260424T022357
CREATED:20230807T101252Z
LAST-MODIFIED:20230807T101439Z
UID:10000590-1687806000-1687811400@yoqina.goldeneskreuz.de
SUMMARY:Hatha Yoga und Entspannung
DESCRIPTION:Hatha Yoga und Entspannung\nYoga ist ein wunderbarer Übungsweg der über die körperliche Ebene hinführt zu Wohlempfinden und Entspannung. Egal ob du geübter Yogi oder Anfänger\, Jung oder etwas älter bist\, mitmachen kann jeder. \nY O G A * T U T * G U T!\nHatha Yoga Übungen in verschiedenen Schwierigkeitsstufen sowie fließende Übungsfolgen\, Achtsamkeitsübungen\, verschiedene Atemtechniken und diverse Entspannungsübungen (z.B. Body scan\, Progressive Muskelentspannung)\, führen durch das 8-wöchiges Kursprogramm. \nWenn du nun neugierig wirst\, sei dabei und melde dich an. \nLeitung: Christa Schneider\, Yogalehrerin BDY/EYU\nGebühr: 10er Karte 100\,-€ oder 12\,-€ pro Stunde (erstes Meeting ist frei)\nMontag\, wöchentlich\, 19:00 – 20:30 Uhr\nAnmeldung über Berggasthof Goldenes Kreuz
URL:https://yoqina.goldeneskreuz.de/veranstaltung/hatha-yoga-und-entspannung-3/2023-06-26/
LOCATION:Berggasthof Goldenes Kreuz\, YoQiNa\, Gunzesried\, Bayern\, 87544\, Deutschland
CATEGORIES:Hatha Yoga,vhs Oberallgäuer Volkshochschule,Yoga,YoQiNa
ATTACH;FMTTYPE=image/jpeg:https://yoqina.goldeneskreuz.de/wp-content/uploads/sites/4/2021/06/YoQiNa-Yoga-Sonthofen-Gunzesried-Blaichach-Oberallgaeu-Kempten-Schneider-1.jpg
ORGANIZER;CN="Berggasthof Goldenes Kreuz":MAILTO:info@goldeneskreuz.de
END:VEVENT
BEGIN:VEVENT
DTSTART;TZID=Europe/Berlin:20230629T083000
DTEND;TZID=Europe/Berlin:20230629T094500
DTSTAMP:20260424T022357
CREATED:20230609T183511Z
LAST-MODIFIED:20230725T200739Z
UID:10000515-1688027400-1688031900@yoqina.goldeneskreuz.de
SUMMARY:Qigong im Park - Immenstadt
DESCRIPTION:Qigong im Park \nQigong stärkt die Lebenskraft. Die Qigong Übungen beruhen auf alter Tradition zur Gesundheitspflege. Die Qigong Übungen sind für jedes Lebensalter anpassbar und leicht zu erlenen. \n15.06.-03.08.2023 \nKosten: 7\,-/ 5\,- Kneippmitglieder \nOrt: Wiese hinterm Auwaldsee 
URL:https://yoqina.goldeneskreuz.de/veranstaltung/qigong-im-park-immenstadt/2023-06-29/
LOCATION:Immenstadt Auwald\, Immenstadt\, Bayern\, 87509\, Deutschland
CATEGORIES:Qigong
ATTACH;FMTTYPE=image/jpeg:https://yoqina.goldeneskreuz.de/wp-content/uploads/sites/4/2023/06/qigong_im_park_1000.jpg
GEO:47.56177;10.230607
END:VEVENT
END:VCALENDAR