BEGIN:VCALENDAR
VERSION:2.0
PRODID:-//Yoga - QiGong - Natur erleben - ECPv6.15.20//NONSGML v1.0//EN
CALSCALE:GREGORIAN
METHOD:PUBLISH
X-ORIGINAL-URL:https://yoqina.goldeneskreuz.de
X-WR-CALDESC:Veranstaltungen für Yoga - QiGong - Natur erleben
REFRESH-INTERVAL;VALUE=DURATION:PT1H
X-Robots-Tag:noindex
X-PUBLISHED-TTL:PT1H
BEGIN:VTIMEZONE
TZID:Europe/Berlin
BEGIN:DAYLIGHT
TZOFFSETFROM:+0100
TZOFFSETTO:+0200
TZNAME:CEST
DTSTART:20220327T010000
END:DAYLIGHT
BEGIN:STANDARD
TZOFFSETFROM:+0200
TZOFFSETTO:+0100
TZNAME:CET
DTSTART:20221030T010000
END:STANDARD
BEGIN:DAYLIGHT
TZOFFSETFROM:+0100
TZOFFSETTO:+0200
TZNAME:CEST
DTSTART:20230326T010000
END:DAYLIGHT
BEGIN:STANDARD
TZOFFSETFROM:+0200
TZOFFSETTO:+0100
TZNAME:CET
DTSTART:20231029T010000
END:STANDARD
BEGIN:DAYLIGHT
TZOFFSETFROM:+0100
TZOFFSETTO:+0200
TZNAME:CEST
DTSTART:20240331T010000
END:DAYLIGHT
BEGIN:STANDARD
TZOFFSETFROM:+0200
TZOFFSETTO:+0100
TZNAME:CET
DTSTART:20241027T010000
END:STANDARD
END:VTIMEZONE
BEGIN:VEVENT
DTSTART;TZID=Europe/Berlin:20230803T083000
DTEND;TZID=Europe/Berlin:20230803T094500
DTSTAMP:20260423T231916
CREATED:20230609T183511Z
LAST-MODIFIED:20230725T200739Z
UID:10000520-1691051400-1691055900@yoqina.goldeneskreuz.de
SUMMARY:Qigong im Park - Immenstadt
DESCRIPTION:Qigong im Park \nQigong stärkt die Lebenskraft. Die Qigong Übungen beruhen auf alter Tradition zur Gesundheitspflege. Die Qigong Übungen sind für jedes Lebensalter anpassbar und leicht zu erlenen. \n15.06.-03.08.2023 \nKosten: 7\,-/ 5\,- Kneippmitglieder \nOrt: Wiese hinterm Auwaldsee 
URL:https://yoqina.goldeneskreuz.de/veranstaltung/qigong-im-park-immenstadt/2023-08-03/
LOCATION:Immenstadt Auwald\, Immenstadt\, Bayern\, 87509\, Deutschland
CATEGORIES:Qigong
ATTACH;FMTTYPE=image/jpeg:https://yoqina.goldeneskreuz.de/wp-content/uploads/sites/4/2023/06/qigong_im_park_1000.jpg
GEO:47.56177;10.230607
END:VEVENT
BEGIN:VEVENT
DTSTART;TZID=Europe/Berlin:20230805T073000
DTEND;TZID=Europe/Berlin:20230805T083000
DTSTAMP:20260423T231916
CREATED:20230608T202706Z
LAST-MODIFIED:20230812T183523Z
UID:10000457-1691220600-1691224200@yoqina.goldeneskreuz.de
SUMMARY:TaiChi - Qigong im Jahreskreis - Gunzesried
DESCRIPTION:TaiChi Qigong im Jahreskreis \nDer Wandel im Jahreskreis mit leichten Übungen aus dem TaiChi Qigong.Bitte lockere Kleidung\, je nach Witterung dünne Windjacke mitbringenUhrzeit & Ort: samstags von 7.30 bis 8.30 Uhr\, Kräutergarten GunzesriedInfo & Anmeldung: Bernhard Schneider (Lehrer für Qigong & TaiChi) unter Tel: 08321/ 2560Kosten: 9 € pro Person
URL:https://yoqina.goldeneskreuz.de/veranstaltung/taichi-qigong-im-jahreskreis/2023-08-05/
LOCATION:Berggasthof Goldenes Kreuz\, YoQiNa\, Gunzesried\, Bayern\, 87544\, Deutschland
CATEGORIES:Qigong,Qigong & TaiChi,YoQiNa
ATTACH;FMTTYPE=image/jpeg:https://yoqina.goldeneskreuz.de/wp-content/uploads/sites/4/2023/02/iStock-1320098178-2.jpg
ORGANIZER;CN="Berggasthof Goldenes Kreuz":MAILTO:info@goldeneskreuz.de
END:VEVENT
BEGIN:VEVENT
DTSTART;TZID=Europe/Berlin:20230812T073000
DTEND;TZID=Europe/Berlin:20230812T083000
DTSTAMP:20260423T231916
CREATED:20230608T202706Z
LAST-MODIFIED:20230812T183523Z
UID:10000458-1691825400-1691829000@yoqina.goldeneskreuz.de
SUMMARY:TaiChi - Qigong im Jahreskreis - Gunzesried
DESCRIPTION:TaiChi Qigong im Jahreskreis \nDer Wandel im Jahreskreis mit leichten Übungen aus dem TaiChi Qigong.Bitte lockere Kleidung\, je nach Witterung dünne Windjacke mitbringenUhrzeit & Ort: samstags von 7.30 bis 8.30 Uhr\, Kräutergarten GunzesriedInfo & Anmeldung: Bernhard Schneider (Lehrer für Qigong & TaiChi) unter Tel: 08321/ 2560Kosten: 9 € pro Person
URL:https://yoqina.goldeneskreuz.de/veranstaltung/taichi-qigong-im-jahreskreis/2023-08-12/
LOCATION:Berggasthof Goldenes Kreuz\, YoQiNa\, Gunzesried\, Bayern\, 87544\, Deutschland
CATEGORIES:Qigong,Qigong & TaiChi,YoQiNa
ATTACH;FMTTYPE=image/jpeg:https://yoqina.goldeneskreuz.de/wp-content/uploads/sites/4/2023/02/iStock-1320098178-2.jpg
ORGANIZER;CN="Berggasthof Goldenes Kreuz":MAILTO:info@goldeneskreuz.de
END:VEVENT
BEGIN:VEVENT
DTSTART;TZID=Europe/Berlin:20230819T073000
DTEND;TZID=Europe/Berlin:20230819T083000
DTSTAMP:20260423T231916
CREATED:20230608T202706Z
LAST-MODIFIED:20230812T183523Z
UID:10000459-1692430200-1692433800@yoqina.goldeneskreuz.de
SUMMARY:TaiChi - Qigong im Jahreskreis - Gunzesried
DESCRIPTION:TaiChi Qigong im Jahreskreis \nDer Wandel im Jahreskreis mit leichten Übungen aus dem TaiChi Qigong.Bitte lockere Kleidung\, je nach Witterung dünne Windjacke mitbringenUhrzeit & Ort: samstags von 7.30 bis 8.30 Uhr\, Kräutergarten GunzesriedInfo & Anmeldung: Bernhard Schneider (Lehrer für Qigong & TaiChi) unter Tel: 08321/ 2560Kosten: 9 € pro Person
URL:https://yoqina.goldeneskreuz.de/veranstaltung/taichi-qigong-im-jahreskreis/2023-08-19/
LOCATION:Berggasthof Goldenes Kreuz\, YoQiNa\, Gunzesried\, Bayern\, 87544\, Deutschland
CATEGORIES:Qigong,Qigong & TaiChi,YoQiNa
ATTACH;FMTTYPE=image/jpeg:https://yoqina.goldeneskreuz.de/wp-content/uploads/sites/4/2023/02/iStock-1320098178-2.jpg
ORGANIZER;CN="Berggasthof Goldenes Kreuz":MAILTO:info@goldeneskreuz.de
END:VEVENT
BEGIN:VEVENT
DTSTART;TZID=Europe/Berlin:20230826T073000
DTEND;TZID=Europe/Berlin:20230826T083000
DTSTAMP:20260423T231916
CREATED:20230608T202706Z
LAST-MODIFIED:20230812T183523Z
UID:10000460-1693035000-1693038600@yoqina.goldeneskreuz.de
SUMMARY:TaiChi - Qigong im Jahreskreis - Gunzesried
DESCRIPTION:TaiChi Qigong im Jahreskreis \nDer Wandel im Jahreskreis mit leichten Übungen aus dem TaiChi Qigong.Bitte lockere Kleidung\, je nach Witterung dünne Windjacke mitbringenUhrzeit & Ort: samstags von 7.30 bis 8.30 Uhr\, Kräutergarten GunzesriedInfo & Anmeldung: Bernhard Schneider (Lehrer für Qigong & TaiChi) unter Tel: 08321/ 2560Kosten: 9 € pro Person
URL:https://yoqina.goldeneskreuz.de/veranstaltung/taichi-qigong-im-jahreskreis/2023-08-26/
LOCATION:Berggasthof Goldenes Kreuz\, YoQiNa\, Gunzesried\, Bayern\, 87544\, Deutschland
CATEGORIES:Qigong,Qigong & TaiChi,YoQiNa
ATTACH;FMTTYPE=image/jpeg:https://yoqina.goldeneskreuz.de/wp-content/uploads/sites/4/2023/02/iStock-1320098178-2.jpg
ORGANIZER;CN="Berggasthof Goldenes Kreuz":MAILTO:info@goldeneskreuz.de
END:VEVENT
END:VCALENDAR