BEGIN:VCALENDAR
VERSION:2.0
PRODID:-//Yoga - QiGong - Natur erleben - ECPv6.15.20//NONSGML v1.0//EN
CALSCALE:GREGORIAN
METHOD:PUBLISH
X-WR-CALNAME:Yoga - QiGong - Natur erleben
X-ORIGINAL-URL:https://yoqina.goldeneskreuz.de
X-WR-CALDESC:Veranstaltungen für Yoga - QiGong - Natur erleben
REFRESH-INTERVAL;VALUE=DURATION:PT1H
X-Robots-Tag:noindex
X-PUBLISHED-TTL:PT1H
BEGIN:VTIMEZONE
TZID:Europe/Berlin
BEGIN:DAYLIGHT
TZOFFSETFROM:+0100
TZOFFSETTO:+0200
TZNAME:CEST
DTSTART:20220327T010000
END:DAYLIGHT
BEGIN:STANDARD
TZOFFSETFROM:+0200
TZOFFSETTO:+0100
TZNAME:CET
DTSTART:20221030T010000
END:STANDARD
BEGIN:DAYLIGHT
TZOFFSETFROM:+0100
TZOFFSETTO:+0200
TZNAME:CEST
DTSTART:20230326T010000
END:DAYLIGHT
BEGIN:STANDARD
TZOFFSETFROM:+0200
TZOFFSETTO:+0100
TZNAME:CET
DTSTART:20231029T010000
END:STANDARD
BEGIN:DAYLIGHT
TZOFFSETFROM:+0100
TZOFFSETTO:+0200
TZNAME:CEST
DTSTART:20240331T010000
END:DAYLIGHT
BEGIN:STANDARD
TZOFFSETFROM:+0200
TZOFFSETTO:+0100
TZNAME:CET
DTSTART:20241027T010000
END:STANDARD
END:VTIMEZONE
BEGIN:VEVENT
DTSTART;TZID=Europe/Berlin:20231204T083000
DTEND;TZID=Europe/Berlin:20231204T093000
DTSTAMP:20260423T163457
CREATED:20230716T143825Z
LAST-MODIFIED:20231204T114835Z
UID:10000734-1701678600-1701682200@yoqina.goldeneskreuz.de
SUMMARY:Tai Chi Chuan - Sonthofen
DESCRIPTION:Tai Chi Chuan – Yang Stil\nYang Stil 37er Form nach Cheng Man Ching\nDas TaiChi Chuan gehört zu den inneren Stilen  der chinesischen Kampfkünsten.\nDie 37er — Form war in ihrer (relativen) Kürze und Überschaubarkeit im Blick auf die westliche Mentalität sicher ein wichtiger Grundstein dafür\, dass sich Tai Chi Chuan heute auch hierzulande großer Beliebtheit erfreut.\nNeben der 24er Pekingform dürfte die 37er Form wohl die weltweit meistverbreitete Tai Chi Chuan — Übungsfolge sein.\nWird im Blick auf die Formenübung der Gesundheitsaspekt in der Regel in den Vordergrund gestellt\, so ist doch auch die 37er – Form ein elementares Übungselement einer Kampfkunst\, die jedoch auf die innere Kraft (Jing) und nicht auf reine Technik und Muskelkraft setzt.\nGesundheit steht aus Perspektive der Traditionellen Chinesischen Medizin (TCM)  in engem Zusammenhang mit den Konzepten von Gleichgewicht und Harmonie\, die alle Dimensionen des Menschen (Körper und Geist\, Ernährung\, Bewegung\, Lebensstil etc.) umfassen. \nMontags\n08:30 – 09:30 Uhr  Sonthofen/Burgberg\, Erzflöße \n10er Karte 95\,- Einzelstunde 12\,-\nAnmeldung: info@goldeneskreuz.de oder 017645536898
URL:https://yoqina.goldeneskreuz.de/veranstaltung/taichi-chuan-sonthofen-2/2023-12-04/
LOCATION:Sonthofen Erzflöße\, Sonthofenerstr. 38\, Burgberg\, Bayern\, 87545\, Deutschland
CATEGORIES:TaiChi
ATTACH;FMTTYPE=image/jpeg:https://yoqina.goldeneskreuz.de/wp-content/uploads/sites/4/2023/06/taiji.jpg
ORGANIZER;CN="Berggasthof Goldenes Kreuz":MAILTO:info@goldeneskreuz.de
END:VEVENT
BEGIN:VEVENT
DTSTART;TZID=Europe/Berlin:20231204T190000
DTEND;TZID=Europe/Berlin:20231204T203000
DTSTAMP:20260423T163457
CREATED:20230821T110803Z
LAST-MODIFIED:20230901T170604Z
UID:10001081-1701716400-1701721800@yoqina.goldeneskreuz.de
SUMMARY:Hatha Yoga und Entspannung
DESCRIPTION:Hatha Yoga und Entspannung\nYoga ist ein wunderbarer Übungsweg der über die körperliche Ebene hinführt zu Wohlempfinden und Entspannung. Egal ob du geübter Yogi oder Anfänger\, Jung oder etwas älter bist\, mitmachen kann jeder. \nY O G A * T U T * G U T!\nHatha Yoga Übungen in verschiedenen Schwierigkeitsstufen sowie fließende Übungsfolgen\, Achtsamkeitsübungen\, verschiedene Atemtechniken und diverse Entspannungsübungen (z.B. Body scan\, Progressive Muskelentspannung)\, führen durch das 8-wöchiges Kursprogramm. \nWenn du nun neugierig wirst\, sei dabei und melde dich an. \nLeitung: Christa Schneider\, Yogalehrerin BDY/EYU\nGebühr: 10er Karte 110\,-€ oder 13\,-€ pro Stunde (erstes Meeting ist frei)\nMontag\, wöchentlich\, 19:00 – 20:30 Uhr\nAnmeldung über Berggasthof Goldenes Kreuz
URL:https://yoqina.goldeneskreuz.de/veranstaltung/hatha-yoga-und-entspannung-4/2023-12-04/
LOCATION:Berggasthof Goldenes Kreuz\, YoQiNa\, Gunzesried\, Bayern\, 87544\, Deutschland
CATEGORIES:Hatha Yoga,vhs Oberallgäuer Volkshochschule,Yoga,YoQiNa
ATTACH;FMTTYPE=image/jpeg:https://yoqina.goldeneskreuz.de/wp-content/uploads/sites/4/2021/06/YoQiNa-Yoga-Sonthofen-Gunzesried-Blaichach-Oberallgaeu-Kempten-Schneider-1.jpg
ORGANIZER;CN="Berggasthof Goldenes Kreuz":MAILTO:info@goldeneskreuz.de
END:VEVENT
BEGIN:VEVENT
DTSTART;TZID=Europe/Berlin:20231211T083000
DTEND;TZID=Europe/Berlin:20231211T093000
DTSTAMP:20260423T163457
CREATED:20230716T143825Z
LAST-MODIFIED:20231204T114835Z
UID:10000735-1702283400-1702287000@yoqina.goldeneskreuz.de
SUMMARY:Tai Chi Chuan - Sonthofen
DESCRIPTION:Tai Chi Chuan – Yang Stil\nYang Stil 37er Form nach Cheng Man Ching\nDas TaiChi Chuan gehört zu den inneren Stilen  der chinesischen Kampfkünsten.\nDie 37er — Form war in ihrer (relativen) Kürze und Überschaubarkeit im Blick auf die westliche Mentalität sicher ein wichtiger Grundstein dafür\, dass sich Tai Chi Chuan heute auch hierzulande großer Beliebtheit erfreut.\nNeben der 24er Pekingform dürfte die 37er Form wohl die weltweit meistverbreitete Tai Chi Chuan — Übungsfolge sein.\nWird im Blick auf die Formenübung der Gesundheitsaspekt in der Regel in den Vordergrund gestellt\, so ist doch auch die 37er – Form ein elementares Übungselement einer Kampfkunst\, die jedoch auf die innere Kraft (Jing) und nicht auf reine Technik und Muskelkraft setzt.\nGesundheit steht aus Perspektive der Traditionellen Chinesischen Medizin (TCM)  in engem Zusammenhang mit den Konzepten von Gleichgewicht und Harmonie\, die alle Dimensionen des Menschen (Körper und Geist\, Ernährung\, Bewegung\, Lebensstil etc.) umfassen. \nMontags\n08:30 – 09:30 Uhr  Sonthofen/Burgberg\, Erzflöße \n10er Karte 95\,- Einzelstunde 12\,-\nAnmeldung: info@goldeneskreuz.de oder 017645536898
URL:https://yoqina.goldeneskreuz.de/veranstaltung/taichi-chuan-sonthofen-2/2023-12-11/
LOCATION:Sonthofen Erzflöße\, Sonthofenerstr. 38\, Burgberg\, Bayern\, 87545\, Deutschland
CATEGORIES:TaiChi
ATTACH;FMTTYPE=image/jpeg:https://yoqina.goldeneskreuz.de/wp-content/uploads/sites/4/2023/06/taiji.jpg
ORGANIZER;CN="Berggasthof Goldenes Kreuz":MAILTO:info@goldeneskreuz.de
END:VEVENT
BEGIN:VEVENT
DTSTART;TZID=Europe/Berlin:20231211T174500
DTEND;TZID=Europe/Berlin:20231211T184500
DTSTAMP:20260423T163457
CREATED:20230812T182127Z
LAST-MODIFIED:20231204T114645Z
UID:10001136-1702316700-1702320300@yoqina.goldeneskreuz.de
SUMMARY:Qigong im Jahreskreis - Bad Hindelang
DESCRIPTION:Qigong im Jahreskreis – Bad Hindelang\nWandlungsphasen\nDas Wandlungsphasen Elemente Qigong-Programm besteht aus einer Reihe von Übungen\, die auf den fünf Elementen basieren: Holz\, Feuer\, Erde\, Metall und Wasser. Jedes Element repräsentiert eine bestimmte Wandlungsphase und ist mit bestimmten Organen\, Emotionen und körperlichen Merkmalen verbunden. Durch das Üben der Wandlungsphasen Elemente Qigong-Übungen kannst du diese Elemente in deinem Körper ausbalancieren und Gesundheit und Wohlbefinden verbessern.\nDie Übungen sind einfach zu erlernen und können von Menschen jeden Alters und jeder körperlichen Verfassung durchgeführt werden. \nBitte mitbringen: bequeme Kleidung\, warme Socken oder Schuhe mit dünnen Sohlen. \nLeitung: Bernhard Schneider\, Lehrer für Qigong und T’ai Chi Ch’uan SKA\n18.09.2023 – 18.03.2023\nMontag\, wöchentlich\, 17:45 – 18:45 Uhr \n10er Karte 75\,-
URL:https://yoqina.goldeneskreuz.de/veranstaltung/qigong-im-jahreskreis-bad-hindelang/2023-12-11/
LOCATION:Bad Hindelang Fiegenschuhweg 1\, Fiegenschuhwef 1\, Bad Hindelang\, Bayern\, 87541\, Deutschland
CATEGORIES:Qigong,vhs Oberallgäuer Volkshochschule,YoQiNa
ORGANIZER;CN="Berggasthof Goldenes Kreuz":MAILTO:info@goldeneskreuz.de
END:VEVENT
BEGIN:VEVENT
DTSTART;TZID=Europe/Berlin:20231211T190000
DTEND;TZID=Europe/Berlin:20231211T203000
DTSTAMP:20260423T163457
CREATED:20230821T110803Z
LAST-MODIFIED:20230901T170604Z
UID:10001082-1702321200-1702326600@yoqina.goldeneskreuz.de
SUMMARY:Hatha Yoga und Entspannung
DESCRIPTION:Hatha Yoga und Entspannung\nYoga ist ein wunderbarer Übungsweg der über die körperliche Ebene hinführt zu Wohlempfinden und Entspannung. Egal ob du geübter Yogi oder Anfänger\, Jung oder etwas älter bist\, mitmachen kann jeder. \nY O G A * T U T * G U T!\nHatha Yoga Übungen in verschiedenen Schwierigkeitsstufen sowie fließende Übungsfolgen\, Achtsamkeitsübungen\, verschiedene Atemtechniken und diverse Entspannungsübungen (z.B. Body scan\, Progressive Muskelentspannung)\, führen durch das 8-wöchiges Kursprogramm. \nWenn du nun neugierig wirst\, sei dabei und melde dich an. \nLeitung: Christa Schneider\, Yogalehrerin BDY/EYU\nGebühr: 10er Karte 110\,-€ oder 13\,-€ pro Stunde (erstes Meeting ist frei)\nMontag\, wöchentlich\, 19:00 – 20:30 Uhr\nAnmeldung über Berggasthof Goldenes Kreuz
URL:https://yoqina.goldeneskreuz.de/veranstaltung/hatha-yoga-und-entspannung-4/2023-12-11/
LOCATION:Berggasthof Goldenes Kreuz\, YoQiNa\, Gunzesried\, Bayern\, 87544\, Deutschland
CATEGORIES:Hatha Yoga,vhs Oberallgäuer Volkshochschule,Yoga,YoQiNa
ATTACH;FMTTYPE=image/jpeg:https://yoqina.goldeneskreuz.de/wp-content/uploads/sites/4/2021/06/YoQiNa-Yoga-Sonthofen-Gunzesried-Blaichach-Oberallgaeu-Kempten-Schneider-1.jpg
ORGANIZER;CN="Berggasthof Goldenes Kreuz":MAILTO:info@goldeneskreuz.de
END:VEVENT
BEGIN:VEVENT
DTSTART;TZID=Europe/Berlin:20231212T200000
DTEND;TZID=Europe/Berlin:20231212T210000
DTSTAMP:20260423T163457
CREATED:20230812T172435Z
LAST-MODIFIED:20231204T114531Z
UID:10001134-1702411200-1702414800@yoqina.goldeneskreuz.de
SUMMARY:Wandlungsphasen Qigong - Gunzesried
DESCRIPTION:Wandlungsphasen Qigong\nElement Metall\nDienstags 19.09.2023 – 21.11.2023 (Einstieg möglich) \nDas Wandlungsphasen Elemente Qigong-Programm besteht aus einer Reihe von Übungen\, die auf den fünf Elementen basieren: Holz\, Feuer\, Erde\, Metall und Wasser. Jedes Element repräsentiert eine bestimmte Wandlungsphase und ist mit bestimmten Organen\, Emotionen und körperlichen Merkmalen verbunden. Durch das Üben der Wandlungsphasen Elemente Qigong-Übungen kannst du diese Elemente in deinem Körper ausbalancieren und Gesundheit und Wohlbefinden verbessern. \n10er karte 98\,- \nAnmeldung: Bernhard Schneider 017645536898
URL:https://yoqina.goldeneskreuz.de/veranstaltung/wandlungsphasen-qigong-gunzesried-2-2-2/2023-12-12/
LOCATION:Berggasthof Goldenes Kreuz\, YoQiNa\, Gunzesried\, Bayern\, 87544\, Deutschland
CATEGORIES:Qigong,Qigong & TaiChi
ATTACH;FMTTYPE=image/gif:https://yoqina.goldeneskreuz.de/wp-content/uploads/sites/4/2023/06/5-Elemnte.gif
ORGANIZER;CN="Berggasthof Goldenes Kreuz":MAILTO:info@goldeneskreuz.de
END:VEVENT
BEGIN:VEVENT
DTSTART;TZID=Europe/Berlin:20231218T083000
DTEND;TZID=Europe/Berlin:20231218T093000
DTSTAMP:20260423T163457
CREATED:20230716T143825Z
LAST-MODIFIED:20231204T114835Z
UID:10001138-1702888200-1702891800@yoqina.goldeneskreuz.de
SUMMARY:Tai Chi Chuan - Sonthofen
DESCRIPTION:Tai Chi Chuan – Yang Stil\nYang Stil 37er Form nach Cheng Man Ching\nDas TaiChi Chuan gehört zu den inneren Stilen  der chinesischen Kampfkünsten.\nDie 37er — Form war in ihrer (relativen) Kürze und Überschaubarkeit im Blick auf die westliche Mentalität sicher ein wichtiger Grundstein dafür\, dass sich Tai Chi Chuan heute auch hierzulande großer Beliebtheit erfreut.\nNeben der 24er Pekingform dürfte die 37er Form wohl die weltweit meistverbreitete Tai Chi Chuan — Übungsfolge sein.\nWird im Blick auf die Formenübung der Gesundheitsaspekt in der Regel in den Vordergrund gestellt\, so ist doch auch die 37er – Form ein elementares Übungselement einer Kampfkunst\, die jedoch auf die innere Kraft (Jing) und nicht auf reine Technik und Muskelkraft setzt.\nGesundheit steht aus Perspektive der Traditionellen Chinesischen Medizin (TCM)  in engem Zusammenhang mit den Konzepten von Gleichgewicht und Harmonie\, die alle Dimensionen des Menschen (Körper und Geist\, Ernährung\, Bewegung\, Lebensstil etc.) umfassen. \nMontags\n08:30 – 09:30 Uhr  Sonthofen/Burgberg\, Erzflöße \n10er Karte 95\,- Einzelstunde 12\,-\nAnmeldung: info@goldeneskreuz.de oder 017645536898
URL:https://yoqina.goldeneskreuz.de/veranstaltung/taichi-chuan-sonthofen-2/2023-12-18/
LOCATION:Sonthofen Erzflöße\, Sonthofenerstr. 38\, Burgberg\, Bayern\, 87545\, Deutschland
CATEGORIES:TaiChi
ATTACH;FMTTYPE=image/jpeg:https://yoqina.goldeneskreuz.de/wp-content/uploads/sites/4/2023/06/taiji.jpg
ORGANIZER;CN="Berggasthof Goldenes Kreuz":MAILTO:info@goldeneskreuz.de
END:VEVENT
BEGIN:VEVENT
DTSTART;TZID=Europe/Berlin:20231218T174500
DTEND;TZID=Europe/Berlin:20231218T184500
DTSTAMP:20260423T163457
CREATED:20230812T182127Z
LAST-MODIFIED:20231204T114645Z
UID:10001137-1702921500-1702925100@yoqina.goldeneskreuz.de
SUMMARY:Qigong im Jahreskreis - Bad Hindelang
DESCRIPTION:Qigong im Jahreskreis – Bad Hindelang\nWandlungsphasen\nDas Wandlungsphasen Elemente Qigong-Programm besteht aus einer Reihe von Übungen\, die auf den fünf Elementen basieren: Holz\, Feuer\, Erde\, Metall und Wasser. Jedes Element repräsentiert eine bestimmte Wandlungsphase und ist mit bestimmten Organen\, Emotionen und körperlichen Merkmalen verbunden. Durch das Üben der Wandlungsphasen Elemente Qigong-Übungen kannst du diese Elemente in deinem Körper ausbalancieren und Gesundheit und Wohlbefinden verbessern.\nDie Übungen sind einfach zu erlernen und können von Menschen jeden Alters und jeder körperlichen Verfassung durchgeführt werden. \nBitte mitbringen: bequeme Kleidung\, warme Socken oder Schuhe mit dünnen Sohlen. \nLeitung: Bernhard Schneider\, Lehrer für Qigong und T’ai Chi Ch’uan SKA\n18.09.2023 – 18.03.2023\nMontag\, wöchentlich\, 17:45 – 18:45 Uhr \n10er Karte 75\,-
URL:https://yoqina.goldeneskreuz.de/veranstaltung/qigong-im-jahreskreis-bad-hindelang/2023-12-18/
LOCATION:Bad Hindelang Fiegenschuhweg 1\, Fiegenschuhwef 1\, Bad Hindelang\, Bayern\, 87541\, Deutschland
CATEGORIES:Qigong,vhs Oberallgäuer Volkshochschule,YoQiNa
ORGANIZER;CN="Berggasthof Goldenes Kreuz":MAILTO:info@goldeneskreuz.de
END:VEVENT
BEGIN:VEVENT
DTSTART;TZID=Europe/Berlin:20231218T190000
DTEND;TZID=Europe/Berlin:20231218T203000
DTSTAMP:20260423T163457
CREATED:20230821T110803Z
LAST-MODIFIED:20230901T170604Z
UID:10001083-1702926000-1702931400@yoqina.goldeneskreuz.de
SUMMARY:Hatha Yoga und Entspannung
DESCRIPTION:Hatha Yoga und Entspannung\nYoga ist ein wunderbarer Übungsweg der über die körperliche Ebene hinführt zu Wohlempfinden und Entspannung. Egal ob du geübter Yogi oder Anfänger\, Jung oder etwas älter bist\, mitmachen kann jeder. \nY O G A * T U T * G U T!\nHatha Yoga Übungen in verschiedenen Schwierigkeitsstufen sowie fließende Übungsfolgen\, Achtsamkeitsübungen\, verschiedene Atemtechniken und diverse Entspannungsübungen (z.B. Body scan\, Progressive Muskelentspannung)\, führen durch das 8-wöchiges Kursprogramm. \nWenn du nun neugierig wirst\, sei dabei und melde dich an. \nLeitung: Christa Schneider\, Yogalehrerin BDY/EYU\nGebühr: 10er Karte 110\,-€ oder 13\,-€ pro Stunde (erstes Meeting ist frei)\nMontag\, wöchentlich\, 19:00 – 20:30 Uhr\nAnmeldung über Berggasthof Goldenes Kreuz
URL:https://yoqina.goldeneskreuz.de/veranstaltung/hatha-yoga-und-entspannung-4/2023-12-18/
LOCATION:Berggasthof Goldenes Kreuz\, YoQiNa\, Gunzesried\, Bayern\, 87544\, Deutschland
CATEGORIES:Hatha Yoga,vhs Oberallgäuer Volkshochschule,Yoga,YoQiNa
ATTACH;FMTTYPE=image/jpeg:https://yoqina.goldeneskreuz.de/wp-content/uploads/sites/4/2021/06/YoQiNa-Yoga-Sonthofen-Gunzesried-Blaichach-Oberallgaeu-Kempten-Schneider-1.jpg
ORGANIZER;CN="Berggasthof Goldenes Kreuz":MAILTO:info@goldeneskreuz.de
END:VEVENT
BEGIN:VEVENT
DTSTART;TZID=Europe/Berlin:20231219T200000
DTEND;TZID=Europe/Berlin:20231219T210000
DTSTAMP:20260423T163457
CREATED:20230812T172435Z
LAST-MODIFIED:20231204T114531Z
UID:10001135-1703016000-1703019600@yoqina.goldeneskreuz.de
SUMMARY:Wandlungsphasen Qigong - Gunzesried
DESCRIPTION:Wandlungsphasen Qigong\nElement Metall\nDienstags 19.09.2023 – 21.11.2023 (Einstieg möglich) \nDas Wandlungsphasen Elemente Qigong-Programm besteht aus einer Reihe von Übungen\, die auf den fünf Elementen basieren: Holz\, Feuer\, Erde\, Metall und Wasser. Jedes Element repräsentiert eine bestimmte Wandlungsphase und ist mit bestimmten Organen\, Emotionen und körperlichen Merkmalen verbunden. Durch das Üben der Wandlungsphasen Elemente Qigong-Übungen kannst du diese Elemente in deinem Körper ausbalancieren und Gesundheit und Wohlbefinden verbessern. \n10er karte 98\,- \nAnmeldung: Bernhard Schneider 017645536898
URL:https://yoqina.goldeneskreuz.de/veranstaltung/wandlungsphasen-qigong-gunzesried-2-2-2/2023-12-19/
LOCATION:Berggasthof Goldenes Kreuz\, YoQiNa\, Gunzesried\, Bayern\, 87544\, Deutschland
CATEGORIES:Qigong,Qigong & TaiChi
ATTACH;FMTTYPE=image/gif:https://yoqina.goldeneskreuz.de/wp-content/uploads/sites/4/2023/06/5-Elemnte.gif
ORGANIZER;CN="Berggasthof Goldenes Kreuz":MAILTO:info@goldeneskreuz.de
END:VEVENT
END:VCALENDAR