BEGIN:VCALENDAR
VERSION:2.0
PRODID:-//Yoga - QiGong - Natur erleben - ECPv6.15.20//NONSGML v1.0//EN
CALSCALE:GREGORIAN
METHOD:PUBLISH
X-ORIGINAL-URL:https://yoqina.goldeneskreuz.de
X-WR-CALDESC:Veranstaltungen für Yoga - QiGong - Natur erleben
REFRESH-INTERVAL;VALUE=DURATION:PT1H
X-Robots-Tag:noindex
X-PUBLISHED-TTL:PT1H
BEGIN:VTIMEZONE
TZID:Europe/Berlin
BEGIN:DAYLIGHT
TZOFFSETFROM:+0100
TZOFFSETTO:+0200
TZNAME:CEST
DTSTART:20240331T010000
END:DAYLIGHT
BEGIN:STANDARD
TZOFFSETFROM:+0200
TZOFFSETTO:+0100
TZNAME:CET
DTSTART:20241027T010000
END:STANDARD
BEGIN:DAYLIGHT
TZOFFSETFROM:+0100
TZOFFSETTO:+0200
TZNAME:CEST
DTSTART:20250330T010000
END:DAYLIGHT
BEGIN:STANDARD
TZOFFSETFROM:+0200
TZOFFSETTO:+0100
TZNAME:CET
DTSTART:20251026T010000
END:STANDARD
BEGIN:DAYLIGHT
TZOFFSETFROM:+0100
TZOFFSETTO:+0200
TZNAME:CEST
DTSTART:20260329T010000
END:DAYLIGHT
BEGIN:STANDARD
TZOFFSETFROM:+0200
TZOFFSETTO:+0100
TZNAME:CET
DTSTART:20261025T010000
END:STANDARD
END:VTIMEZONE
BEGIN:VEVENT
DTSTART;TZID=Europe/Berlin:20250804T083000
DTEND;TZID=Europe/Berlin:20250804T093000
DTSTAMP:20260422T081637
CREATED:20250414T160152Z
LAST-MODIFIED:20250414T160340Z
UID:10001982-1754296200-1754299800@yoqina.goldeneskreuz.de
SUMMARY:Tai Chi Chuan - Sonthofen
DESCRIPTION:Tai Chi Chuan – Yang Stil\nYang Stil 37er Form nach Cheng Man Ching\nDas TaiChi Chuan gehört zu den inneren Stilen  der chinesischen Kampfkünsten.\nDie 37er — Form war in ihrer (relativen) Kürze und Überschaubarkeit im Blick auf die westliche Mentalität sicher ein wichtiger Grundstein dafür\, dass sich Tai Chi Chuan heute auch hierzulande großer Beliebtheit erfreut.\nNeben der 24er Pekingform dürfte die 37er Form wohl die weltweit meistverbreitete Tai Chi Chuan — Übungsfolge sein.\nWird im Blick auf die Formenübung der Gesundheitsaspekt in der Regel in den Vordergrund gestellt\, so ist doch auch die 37er – Form ein elementares Übungselement einer Kampfkunst\, die jedoch auf die innere Kraft (Jing) und nicht auf reine Technik und Muskelkraft setzt.\nGesundheit steht aus Perspektive der Traditionellen Chinesischen Medizin (TCM)  in engem Zusammenhang mit den Konzepten von Gleichgewicht und Harmonie\, die alle Dimensionen des Menschen (Körper und Geist\, Ernährung\, Bewegung\, Lebensstil etc.) umfassen. \nMontags\n08:30 – 09:30 Uhr  Sonthofen/Burgberg\, Erzflöße \n10er Karte 95\,- Einzelstunde 12\,-\nAnmeldung: info@goldeneskreuz.de oder 017645536898
URL:https://yoqina.goldeneskreuz.de/veranstaltung/taichi-chuan-sonthofen-2-2-2-2/2025-08-04/
LOCATION:Sonthofen Erzflöße\, Sonthofenerstr. 38\, Burgberg\, Bayern\, 87545\, Deutschland
CATEGORIES:News,TaiChi,YoQiNa
ATTACH;FMTTYPE=image/jpeg:https://yoqina.goldeneskreuz.de/wp-content/uploads/sites/4/2023/06/taiji.jpg
ORGANIZER;CN="Berggasthof Goldenes Kreuz":MAILTO:info@goldeneskreuz.de
END:VEVENT
BEGIN:VEVENT
DTSTART;TZID=Europe/Berlin:20250804T190000
DTEND;TZID=Europe/Berlin:20250804T203000
DTSTAMP:20260422T081637
CREATED:20250923T103634Z
LAST-MODIFIED:20250923T110325Z
UID:10002128-1754334000-1754339400@yoqina.goldeneskreuz.de
SUMMARY:Hatha Yoga in Gunzesried
DESCRIPTION:Hatha Yoga in Gunzesried\nWege zu mehr Gelassenheit\n\nYoga ist heute in der westlichen Welt eine der beliebtesten und wirkungsvollsten Methode\, um Stress abzubauen und den Körper beweglich und gesund zu erhalten. Durch Körperarbeit\, Atemachtsamkeit und Entspannungsübungen\, verbessert Yoga die Beweglichkeit\, löst Blockaden und Verspannungen im Körper. Yoga fördert die seelische Ausgeglichenheit und führt so zu mehr Ruhe und Gelassenheit.\n\nBitte beachten: Dieser Kurs ist durch die Zentrale Prüfstelle Prävention zertifiziert. Bei regelmäßiger Teilnahme ist eine Kostenübernahme von bis zu 80% durch die Krankenkasse möglich.\nBitte mitbringen: bequeme Kleidung\, warme Socken. Wenn vorhanden Yogamatte und Decke.\n\nMontag  19:00 – 20:30 Uhr\nGunzesried – Goldenes Kreuz\nAnmeldung: Christa Schneider\nGebühr 12\,- 10er Karte 110\,-
URL:https://yoqina.goldeneskreuz.de/veranstaltung/hatha-yoga-in-gunzesried-2/2025-08-04/
LOCATION:StubbS Immenstadt\, Bahnhofstraße 4\, Eingang Schlossgasse\, Immenstadt\, Bayern\, 87509\, Deutschland
END:VEVENT
BEGIN:VEVENT
DTSTART;TZID=Europe/Berlin:20250807T083000
DTEND;TZID=Europe/Berlin:20250807T094500
DTSTAMP:20260422T081637
CREATED:20250226T200048Z
LAST-MODIFIED:20250414T154531Z
UID:10001969-1754555400-1754559900@yoqina.goldeneskreuz.de
SUMMARY:Qigong im Park - Immenstadt
DESCRIPTION:Qigong im Park \nQigong stärkt die Lebenskraft. Die Qigong Übungen beruhen auf alter Tradition zur Gesundheitspflege. Die Qigong Übungen sind für jedes Lebensalter anpassbar und leicht zu erlenen. \n26- Juni – 14. August 2025 \nKosten: 8\,-/ 6\,- Kneippmitglieder \nOrt: Wiese hinterm Auwaldsee 
URL:https://yoqina.goldeneskreuz.de/veranstaltung/qigong-im-park-kneipp/2025-08-07/
LOCATION:Immenstadt Auwald\, Immenstadt\, Bayern\, 87509\, Deutschland
CATEGORIES:News,Qigong
ATTACH;FMTTYPE=image/jpeg:https://yoqina.goldeneskreuz.de/wp-content/uploads/sites/4/2023/06/qigong_im_park_1000.jpg
GEO:47.56177;10.230607
END:VEVENT
BEGIN:VEVENT
DTSTART;TZID=Europe/Berlin:20250807T093000
DTEND;TZID=Europe/Berlin:20250807T130000
DTSTAMP:20260422T081637
CREATED:20250227T160912Z
LAST-MODIFIED:20250418T152958Z
UID:10001931-1754559000-1754571600@yoqina.goldeneskreuz.de
SUMMARY:Was blüht denn da am Wegesrand?
DESCRIPTION:Was blüht den da am Wegesrand\nKräuterwanderung entlang des Nagelfluh\nJeden Donnerstag vom 26.06.2025 bis 21.08.2025 \nMöchten Sie die faszinierende Welt der heimischen Wildkräuter entdecken und lernen\, wie man sie erkennt und bestimmt? Dann laden ich Sie herzlich zu einer leichten Wanderung im schönen Gunzesrieder Hochtal ein! In dieser kulturlandschaftlich wertvollen Region haben Sie die Möglichkeit\, nicht nur Ihre Kenntnisse über Pflanzen zu erweitern\, sondern auch deren Wirkung und Verwendung in der Küche sowie in der Volksheilkunde zu erfahren. \nNach unserer Entdeckungstour erwartet Sie eine kleine kulinarische Überraschung: Probieren Sie köstliche Kräuteraufstriche\, würzigen Käse und erfrischende Kräuterlimonade. \nBeginn 9.30 Uhr – Ende gegen 13.00 Uhr\nUnkostenbeitrag Erwachsene 35\,00 € Kinder bis 12 Jahre 15\,OO € /Mindestteilnehmer 4 Erwachsene\, gerne auch Gruppen. \nLeitung: Christa Schneider\, Köchin\, Wildkräuterfrau und Naturparkführerin. \nAnmeldung spätestens am Vortag Tel: 08321-2560 oder Kontaktformular \n\n\n  \n\n\n\n Dein Name\n \n \n Deine E-Mail-Adresse\n \n \n Betreff\n \n\n \n Deine Nachricht
URL:https://yoqina.goldeneskreuz.de/veranstaltung/was-blueht-denn-da-am-wegesrand-25/2025-08-07/
LOCATION:Berggasthof Goldenes Kreuz\, YoQiNa\, Gunzesried\, Bayern\, 87544\, Deutschland
CATEGORIES:Kräuterwandern,Natur erleben,News,Wandern,Was blüht denn da am Wegesrand,YoQiNa
ATTACH;FMTTYPE=image/jpeg:https://yoqina.goldeneskreuz.de/wp-content/uploads/sites/4/2023/06/was_blueht_den_da_am_wegesrand-rotated-e1686344377351.jpg
ORGANIZER;CN="Berggasthof Goldenes Kreuz":MAILTO:info@goldeneskreuz.de
END:VEVENT
BEGIN:VEVENT
DTSTART;TZID=Europe/Berlin:20250811T083000
DTEND;TZID=Europe/Berlin:20250811T093000
DTSTAMP:20260422T081637
CREATED:20250414T160152Z
LAST-MODIFIED:20250414T160340Z
UID:10001983-1754901000-1754904600@yoqina.goldeneskreuz.de
SUMMARY:Tai Chi Chuan - Sonthofen
DESCRIPTION:Tai Chi Chuan – Yang Stil\nYang Stil 37er Form nach Cheng Man Ching\nDas TaiChi Chuan gehört zu den inneren Stilen  der chinesischen Kampfkünsten.\nDie 37er — Form war in ihrer (relativen) Kürze und Überschaubarkeit im Blick auf die westliche Mentalität sicher ein wichtiger Grundstein dafür\, dass sich Tai Chi Chuan heute auch hierzulande großer Beliebtheit erfreut.\nNeben der 24er Pekingform dürfte die 37er Form wohl die weltweit meistverbreitete Tai Chi Chuan — Übungsfolge sein.\nWird im Blick auf die Formenübung der Gesundheitsaspekt in der Regel in den Vordergrund gestellt\, so ist doch auch die 37er – Form ein elementares Übungselement einer Kampfkunst\, die jedoch auf die innere Kraft (Jing) und nicht auf reine Technik und Muskelkraft setzt.\nGesundheit steht aus Perspektive der Traditionellen Chinesischen Medizin (TCM)  in engem Zusammenhang mit den Konzepten von Gleichgewicht und Harmonie\, die alle Dimensionen des Menschen (Körper und Geist\, Ernährung\, Bewegung\, Lebensstil etc.) umfassen. \nMontags\n08:30 – 09:30 Uhr  Sonthofen/Burgberg\, Erzflöße \n10er Karte 95\,- Einzelstunde 12\,-\nAnmeldung: info@goldeneskreuz.de oder 017645536898
URL:https://yoqina.goldeneskreuz.de/veranstaltung/taichi-chuan-sonthofen-2-2-2-2/2025-08-11/
LOCATION:Sonthofen Erzflöße\, Sonthofenerstr. 38\, Burgberg\, Bayern\, 87545\, Deutschland
CATEGORIES:News,TaiChi,YoQiNa
ATTACH;FMTTYPE=image/jpeg:https://yoqina.goldeneskreuz.de/wp-content/uploads/sites/4/2023/06/taiji.jpg
ORGANIZER;CN="Berggasthof Goldenes Kreuz":MAILTO:info@goldeneskreuz.de
END:VEVENT
BEGIN:VEVENT
DTSTART;TZID=Europe/Berlin:20250811T190000
DTEND;TZID=Europe/Berlin:20250811T203000
DTSTAMP:20260422T081637
CREATED:20250923T103634Z
LAST-MODIFIED:20250923T110325Z
UID:10002129-1754938800-1754944200@yoqina.goldeneskreuz.de
SUMMARY:Hatha Yoga in Gunzesried
DESCRIPTION:Hatha Yoga in Gunzesried\nWege zu mehr Gelassenheit\n\nYoga ist heute in der westlichen Welt eine der beliebtesten und wirkungsvollsten Methode\, um Stress abzubauen und den Körper beweglich und gesund zu erhalten. Durch Körperarbeit\, Atemachtsamkeit und Entspannungsübungen\, verbessert Yoga die Beweglichkeit\, löst Blockaden und Verspannungen im Körper. Yoga fördert die seelische Ausgeglichenheit und führt so zu mehr Ruhe und Gelassenheit.\n\nBitte beachten: Dieser Kurs ist durch die Zentrale Prüfstelle Prävention zertifiziert. Bei regelmäßiger Teilnahme ist eine Kostenübernahme von bis zu 80% durch die Krankenkasse möglich.\nBitte mitbringen: bequeme Kleidung\, warme Socken. Wenn vorhanden Yogamatte und Decke.\n\nMontag  19:00 – 20:30 Uhr\nGunzesried – Goldenes Kreuz\nAnmeldung: Christa Schneider\nGebühr 12\,- 10er Karte 110\,-
URL:https://yoqina.goldeneskreuz.de/veranstaltung/hatha-yoga-in-gunzesried-2/2025-08-11/
LOCATION:StubbS Immenstadt\, Bahnhofstraße 4\, Eingang Schlossgasse\, Immenstadt\, Bayern\, 87509\, Deutschland
END:VEVENT
BEGIN:VEVENT
DTSTART;TZID=Europe/Berlin:20250814T093000
DTEND;TZID=Europe/Berlin:20250814T130000
DTSTAMP:20260422T081637
CREATED:20250227T160912Z
LAST-MODIFIED:20250418T152958Z
UID:10001932-1755163800-1755176400@yoqina.goldeneskreuz.de
SUMMARY:Was blüht denn da am Wegesrand?
DESCRIPTION:Was blüht den da am Wegesrand\nKräuterwanderung entlang des Nagelfluh\nJeden Donnerstag vom 26.06.2025 bis 21.08.2025 \nMöchten Sie die faszinierende Welt der heimischen Wildkräuter entdecken und lernen\, wie man sie erkennt und bestimmt? Dann laden ich Sie herzlich zu einer leichten Wanderung im schönen Gunzesrieder Hochtal ein! In dieser kulturlandschaftlich wertvollen Region haben Sie die Möglichkeit\, nicht nur Ihre Kenntnisse über Pflanzen zu erweitern\, sondern auch deren Wirkung und Verwendung in der Küche sowie in der Volksheilkunde zu erfahren. \nNach unserer Entdeckungstour erwartet Sie eine kleine kulinarische Überraschung: Probieren Sie köstliche Kräuteraufstriche\, würzigen Käse und erfrischende Kräuterlimonade. \nBeginn 9.30 Uhr – Ende gegen 13.00 Uhr\nUnkostenbeitrag Erwachsene 35\,00 € Kinder bis 12 Jahre 15\,OO € /Mindestteilnehmer 4 Erwachsene\, gerne auch Gruppen. \nLeitung: Christa Schneider\, Köchin\, Wildkräuterfrau und Naturparkführerin. \nAnmeldung spätestens am Vortag Tel: 08321-2560 oder Kontaktformular \n\n\n  \n\n\n\n Dein Name\n \n \n Deine E-Mail-Adresse\n \n \n Betreff\n \n\n \n Deine Nachricht
URL:https://yoqina.goldeneskreuz.de/veranstaltung/was-blueht-denn-da-am-wegesrand-25/2025-08-14/
LOCATION:Berggasthof Goldenes Kreuz\, YoQiNa\, Gunzesried\, Bayern\, 87544\, Deutschland
CATEGORIES:Kräuterwandern,Natur erleben,News,Wandern,Was blüht denn da am Wegesrand,YoQiNa
ATTACH;FMTTYPE=image/jpeg:https://yoqina.goldeneskreuz.de/wp-content/uploads/sites/4/2023/06/was_blueht_den_da_am_wegesrand-rotated-e1686344377351.jpg
ORGANIZER;CN="Berggasthof Goldenes Kreuz":MAILTO:info@goldeneskreuz.de
END:VEVENT
BEGIN:VEVENT
DTSTART;TZID=Europe/Berlin:20250818T083000
DTEND;TZID=Europe/Berlin:20250818T093000
DTSTAMP:20260422T081637
CREATED:20250414T160152Z
LAST-MODIFIED:20250414T160340Z
UID:10001984-1755505800-1755509400@yoqina.goldeneskreuz.de
SUMMARY:Tai Chi Chuan - Sonthofen
DESCRIPTION:Tai Chi Chuan – Yang Stil\nYang Stil 37er Form nach Cheng Man Ching\nDas TaiChi Chuan gehört zu den inneren Stilen  der chinesischen Kampfkünsten.\nDie 37er — Form war in ihrer (relativen) Kürze und Überschaubarkeit im Blick auf die westliche Mentalität sicher ein wichtiger Grundstein dafür\, dass sich Tai Chi Chuan heute auch hierzulande großer Beliebtheit erfreut.\nNeben der 24er Pekingform dürfte die 37er Form wohl die weltweit meistverbreitete Tai Chi Chuan — Übungsfolge sein.\nWird im Blick auf die Formenübung der Gesundheitsaspekt in der Regel in den Vordergrund gestellt\, so ist doch auch die 37er – Form ein elementares Übungselement einer Kampfkunst\, die jedoch auf die innere Kraft (Jing) und nicht auf reine Technik und Muskelkraft setzt.\nGesundheit steht aus Perspektive der Traditionellen Chinesischen Medizin (TCM)  in engem Zusammenhang mit den Konzepten von Gleichgewicht und Harmonie\, die alle Dimensionen des Menschen (Körper und Geist\, Ernährung\, Bewegung\, Lebensstil etc.) umfassen. \nMontags\n08:30 – 09:30 Uhr  Sonthofen/Burgberg\, Erzflöße \n10er Karte 95\,- Einzelstunde 12\,-\nAnmeldung: info@goldeneskreuz.de oder 017645536898
URL:https://yoqina.goldeneskreuz.de/veranstaltung/taichi-chuan-sonthofen-2-2-2-2/2025-08-18/
LOCATION:Sonthofen Erzflöße\, Sonthofenerstr. 38\, Burgberg\, Bayern\, 87545\, Deutschland
CATEGORIES:News,TaiChi,YoQiNa
ATTACH;FMTTYPE=image/jpeg:https://yoqina.goldeneskreuz.de/wp-content/uploads/sites/4/2023/06/taiji.jpg
ORGANIZER;CN="Berggasthof Goldenes Kreuz":MAILTO:info@goldeneskreuz.de
END:VEVENT
BEGIN:VEVENT
DTSTART;TZID=Europe/Berlin:20250818T190000
DTEND;TZID=Europe/Berlin:20250818T203000
DTSTAMP:20260422T081637
CREATED:20250923T103634Z
LAST-MODIFIED:20250923T110325Z
UID:10002130-1755543600-1755549000@yoqina.goldeneskreuz.de
SUMMARY:Hatha Yoga in Gunzesried
DESCRIPTION:Hatha Yoga in Gunzesried\nWege zu mehr Gelassenheit\n\nYoga ist heute in der westlichen Welt eine der beliebtesten und wirkungsvollsten Methode\, um Stress abzubauen und den Körper beweglich und gesund zu erhalten. Durch Körperarbeit\, Atemachtsamkeit und Entspannungsübungen\, verbessert Yoga die Beweglichkeit\, löst Blockaden und Verspannungen im Körper. Yoga fördert die seelische Ausgeglichenheit und führt so zu mehr Ruhe und Gelassenheit.\n\nBitte beachten: Dieser Kurs ist durch die Zentrale Prüfstelle Prävention zertifiziert. Bei regelmäßiger Teilnahme ist eine Kostenübernahme von bis zu 80% durch die Krankenkasse möglich.\nBitte mitbringen: bequeme Kleidung\, warme Socken. Wenn vorhanden Yogamatte und Decke.\n\nMontag  19:00 – 20:30 Uhr\nGunzesried – Goldenes Kreuz\nAnmeldung: Christa Schneider\nGebühr 12\,- 10er Karte 110\,-
URL:https://yoqina.goldeneskreuz.de/veranstaltung/hatha-yoga-in-gunzesried-2/2025-08-18/
LOCATION:StubbS Immenstadt\, Bahnhofstraße 4\, Eingang Schlossgasse\, Immenstadt\, Bayern\, 87509\, Deutschland
END:VEVENT
BEGIN:VEVENT
DTSTART;TZID=Europe/Berlin:20250821T093000
DTEND;TZID=Europe/Berlin:20250821T130000
DTSTAMP:20260422T081637
CREATED:20250227T160912Z
LAST-MODIFIED:20250418T152958Z
UID:10001933-1755768600-1755781200@yoqina.goldeneskreuz.de
SUMMARY:Was blüht denn da am Wegesrand?
DESCRIPTION:Was blüht den da am Wegesrand\nKräuterwanderung entlang des Nagelfluh\nJeden Donnerstag vom 26.06.2025 bis 21.08.2025 \nMöchten Sie die faszinierende Welt der heimischen Wildkräuter entdecken und lernen\, wie man sie erkennt und bestimmt? Dann laden ich Sie herzlich zu einer leichten Wanderung im schönen Gunzesrieder Hochtal ein! In dieser kulturlandschaftlich wertvollen Region haben Sie die Möglichkeit\, nicht nur Ihre Kenntnisse über Pflanzen zu erweitern\, sondern auch deren Wirkung und Verwendung in der Küche sowie in der Volksheilkunde zu erfahren. \nNach unserer Entdeckungstour erwartet Sie eine kleine kulinarische Überraschung: Probieren Sie köstliche Kräuteraufstriche\, würzigen Käse und erfrischende Kräuterlimonade. \nBeginn 9.30 Uhr – Ende gegen 13.00 Uhr\nUnkostenbeitrag Erwachsene 35\,00 € Kinder bis 12 Jahre 15\,OO € /Mindestteilnehmer 4 Erwachsene\, gerne auch Gruppen. \nLeitung: Christa Schneider\, Köchin\, Wildkräuterfrau und Naturparkführerin. \nAnmeldung spätestens am Vortag Tel: 08321-2560 oder Kontaktformular \n\n\n  \n\n\n\n Dein Name\n \n \n Deine E-Mail-Adresse\n \n \n Betreff\n \n\n \n Deine Nachricht
URL:https://yoqina.goldeneskreuz.de/veranstaltung/was-blueht-denn-da-am-wegesrand-25/2025-08-21/
LOCATION:Berggasthof Goldenes Kreuz\, YoQiNa\, Gunzesried\, Bayern\, 87544\, Deutschland
CATEGORIES:Kräuterwandern,Natur erleben,News,Wandern,Was blüht denn da am Wegesrand,YoQiNa
ATTACH;FMTTYPE=image/jpeg:https://yoqina.goldeneskreuz.de/wp-content/uploads/sites/4/2023/06/was_blueht_den_da_am_wegesrand-rotated-e1686344377351.jpg
ORGANIZER;CN="Berggasthof Goldenes Kreuz":MAILTO:info@goldeneskreuz.de
END:VEVENT
BEGIN:VEVENT
DTSTART;TZID=Europe/Berlin:20250825T083000
DTEND;TZID=Europe/Berlin:20250825T093000
DTSTAMP:20260422T081637
CREATED:20250414T160152Z
LAST-MODIFIED:20250414T160340Z
UID:10001985-1756110600-1756114200@yoqina.goldeneskreuz.de
SUMMARY:Tai Chi Chuan - Sonthofen
DESCRIPTION:Tai Chi Chuan – Yang Stil\nYang Stil 37er Form nach Cheng Man Ching\nDas TaiChi Chuan gehört zu den inneren Stilen  der chinesischen Kampfkünsten.\nDie 37er — Form war in ihrer (relativen) Kürze und Überschaubarkeit im Blick auf die westliche Mentalität sicher ein wichtiger Grundstein dafür\, dass sich Tai Chi Chuan heute auch hierzulande großer Beliebtheit erfreut.\nNeben der 24er Pekingform dürfte die 37er Form wohl die weltweit meistverbreitete Tai Chi Chuan — Übungsfolge sein.\nWird im Blick auf die Formenübung der Gesundheitsaspekt in der Regel in den Vordergrund gestellt\, so ist doch auch die 37er – Form ein elementares Übungselement einer Kampfkunst\, die jedoch auf die innere Kraft (Jing) und nicht auf reine Technik und Muskelkraft setzt.\nGesundheit steht aus Perspektive der Traditionellen Chinesischen Medizin (TCM)  in engem Zusammenhang mit den Konzepten von Gleichgewicht und Harmonie\, die alle Dimensionen des Menschen (Körper und Geist\, Ernährung\, Bewegung\, Lebensstil etc.) umfassen. \nMontags\n08:30 – 09:30 Uhr  Sonthofen/Burgberg\, Erzflöße \n10er Karte 95\,- Einzelstunde 12\,-\nAnmeldung: info@goldeneskreuz.de oder 017645536898
URL:https://yoqina.goldeneskreuz.de/veranstaltung/taichi-chuan-sonthofen-2-2-2-2/2025-08-25/
LOCATION:Sonthofen Erzflöße\, Sonthofenerstr. 38\, Burgberg\, Bayern\, 87545\, Deutschland
CATEGORIES:News,TaiChi,YoQiNa
ATTACH;FMTTYPE=image/jpeg:https://yoqina.goldeneskreuz.de/wp-content/uploads/sites/4/2023/06/taiji.jpg
ORGANIZER;CN="Berggasthof Goldenes Kreuz":MAILTO:info@goldeneskreuz.de
END:VEVENT
BEGIN:VEVENT
DTSTART;TZID=Europe/Berlin:20250825T190000
DTEND;TZID=Europe/Berlin:20250825T203000
DTSTAMP:20260422T081637
CREATED:20250923T103634Z
LAST-MODIFIED:20250923T110325Z
UID:10002131-1756148400-1756153800@yoqina.goldeneskreuz.de
SUMMARY:Hatha Yoga in Gunzesried
DESCRIPTION:Hatha Yoga in Gunzesried\nWege zu mehr Gelassenheit\n\nYoga ist heute in der westlichen Welt eine der beliebtesten und wirkungsvollsten Methode\, um Stress abzubauen und den Körper beweglich und gesund zu erhalten. Durch Körperarbeit\, Atemachtsamkeit und Entspannungsübungen\, verbessert Yoga die Beweglichkeit\, löst Blockaden und Verspannungen im Körper. Yoga fördert die seelische Ausgeglichenheit und führt so zu mehr Ruhe und Gelassenheit.\n\nBitte beachten: Dieser Kurs ist durch die Zentrale Prüfstelle Prävention zertifiziert. Bei regelmäßiger Teilnahme ist eine Kostenübernahme von bis zu 80% durch die Krankenkasse möglich.\nBitte mitbringen: bequeme Kleidung\, warme Socken. Wenn vorhanden Yogamatte und Decke.\n\nMontag  19:00 – 20:30 Uhr\nGunzesried – Goldenes Kreuz\nAnmeldung: Christa Schneider\nGebühr 12\,- 10er Karte 110\,-
URL:https://yoqina.goldeneskreuz.de/veranstaltung/hatha-yoga-in-gunzesried-2/2025-08-25/
LOCATION:StubbS Immenstadt\, Bahnhofstraße 4\, Eingang Schlossgasse\, Immenstadt\, Bayern\, 87509\, Deutschland
END:VEVENT
END:VCALENDAR