BEGIN:VCALENDAR
VERSION:2.0
PRODID:-//Yoga - QiGong - Natur erleben - ECPv6.15.20//NONSGML v1.0//EN
CALSCALE:GREGORIAN
METHOD:PUBLISH
X-WR-CALNAME:Yoga - QiGong - Natur erleben
X-ORIGINAL-URL:https://yoqina.goldeneskreuz.de
X-WR-CALDESC:Veranstaltungen für Yoga - QiGong - Natur erleben
REFRESH-INTERVAL;VALUE=DURATION:PT1H
X-Robots-Tag:noindex
X-PUBLISHED-TTL:PT1H
BEGIN:VTIMEZONE
TZID:Europe/Berlin
BEGIN:DAYLIGHT
TZOFFSETFROM:+0100
TZOFFSETTO:+0200
TZNAME:CEST
DTSTART:20250330T010000
END:DAYLIGHT
BEGIN:STANDARD
TZOFFSETFROM:+0200
TZOFFSETTO:+0100
TZNAME:CET
DTSTART:20251026T010000
END:STANDARD
BEGIN:DAYLIGHT
TZOFFSETFROM:+0100
TZOFFSETTO:+0200
TZNAME:CEST
DTSTART:20260329T010000
END:DAYLIGHT
BEGIN:STANDARD
TZOFFSETFROM:+0200
TZOFFSETTO:+0100
TZNAME:CET
DTSTART:20261025T010000
END:STANDARD
BEGIN:DAYLIGHT
TZOFFSETFROM:+0100
TZOFFSETTO:+0200
TZNAME:CEST
DTSTART:20270328T010000
END:DAYLIGHT
BEGIN:STANDARD
TZOFFSETFROM:+0200
TZOFFSETTO:+0100
TZNAME:CET
DTSTART:20271031T010000
END:STANDARD
END:VTIMEZONE
BEGIN:VEVENT
DTSTART;TZID=Europe/Berlin:20260421T174500
DTEND;TZID=Europe/Berlin:20260421T184500
DTSTAMP:20260421T181339
CREATED:20260103T174638Z
LAST-MODIFIED:20260103T175547Z
UID:10002295-1776793500-1776797100@yoqina.goldeneskreuz.de
SUMMARY:Hatha Yoga in Immenstadt
DESCRIPTION:Hatha Yoga\nWege zu mehr Gelassenheit\n\nYoga ist heute in der westlichen Welt eine der beliebtesten und wirkungsvollsten Methode\, um Stress abzubauen und den Körper beweglich und gesund zu erhalten. Durch Körperarbeit\, Atemachtsamkeit und Entspannungsübungen\, verbessert Yoga die Beweglichkeit\, löst Blockaden und Verspannungen im Körper. Yoga fördert die seelische Ausgeglichenheit und führt so zu mehr Ruhe und Gelassenheit.\n\nBitte beachten: Dieser Kurs ist durch die Zentrale Prüfstelle Prävention zertifiziert. Bei regelmäßiger Teilnahme ist eine Kostenübernahme von bis zu 80% durch die Krankenkasse möglich.\nBitte mitbringen: bequeme Kleidung\, warme Socken. Wenn vorhanden Yogamatte und Decke.\n\nDienstag 13.01.26 – 28.07.2026 17:45 – 18:45 Uhr\nJanuar 2026 in Immenstadt – StubbS / ab Februar im Evangelischen Gemeindehaus\nAnmeldung: Christa Schneider\n10er Karte 150\,-
URL:https://yoqina.goldeneskreuz.de/veranstaltung/hatha-yoga-in-immenstadt-3-3/2026-04-21/
LOCATION:StubbS Immenstadt\, Bahnhofstraße 4\, Eingang Schlossgasse\, Immenstadt\, Bayern\, 87509\, Deutschland
CATEGORIES:Entspannungsyoga,Hatha Yoga,News,Yoga
ATTACH;FMTTYPE=image/jpeg:https://yoqina.goldeneskreuz.de/wp-content/uploads/sites/4/2024/03/iStock-1051663108.jpg
ORGANIZER;CN="Berggasthof Goldenes Kreuz":MAILTO:info@goldeneskreuz.de
END:VEVENT
BEGIN:VEVENT
DTSTART;TZID=Europe/Berlin:20260427T083000
DTEND;TZID=Europe/Berlin:20260427T093000
DTSTAMP:20260421T181339
CREATED:20251227T184858Z
LAST-MODIFIED:20260407T091612Z
UID:10002020-1777278600-1777282200@yoqina.goldeneskreuz.de
SUMMARY:Tai Chi Chuan - Sonthofen
DESCRIPTION:Tai Chi Chuan – Yang Stil\nYang Stil 37er Form nach Cheng Man Ching\nDas TaiChi Chuan gehört zu den inneren Stilen  der chinesischen Kampfkünsten.\nDie 37er — Form war in ihrer (relativen) Kürze und Überschaubarkeit im Blick auf die westliche Mentalität sicher ein wichtiger Grundstein dafür\, dass sich Tai Chi Chuan heute auch hierzulande großer Beliebtheit erfreut.\nNeben der 24er Pekingform dürfte die 37er Form wohl die weltweit meistverbreitete Tai Chi Chuan — Übungsfolge sein.\nWird im Blick auf die Formenübung der Gesundheitsaspekt in der Regel in den Vordergrund gestellt\, so ist doch auch die 37er – Form ein elementares Übungselement einer Kampfkunst\, die jedoch auf die innere Kraft (Jing) und nicht auf reine Technik und Muskelkraft setzt.\nGesundheit steht aus Perspektive der Traditionellen Chinesischen Medizin (TCM)  in engem Zusammenhang mit den Konzepten von Gleichgewicht und Harmonie\, die alle Dimensionen des Menschen (Körper und Geist\, Ernährung\, Bewegung\, Lebensstil etc.) umfassen. \nMontags\n08:30 – 09:30 Uhr  Sonthofen/Burgberg\, Erzflöße \n10er Karte 95\,- Einzelstunde 12\,-\nAnmeldung: info@goldeneskreuz.de oder 017645536898
URL:https://yoqina.goldeneskreuz.de/veranstaltung/taichi-chuan-sonthofen-2-2-2-2-2/2026-04-27/
LOCATION:Sonthofen Erzflöße\, Sonthofenerstr. 38\, Burgberg\, Bayern\, 87545\, Deutschland
CATEGORIES:News,TaiChi,YoQiNa
ATTACH;FMTTYPE=image/jpeg:https://yoqina.goldeneskreuz.de/wp-content/uploads/sites/4/2023/06/taiji.jpg
ORGANIZER;CN="Berggasthof Goldenes Kreuz":MAILTO:info@goldeneskreuz.de
END:VEVENT
BEGIN:VEVENT
DTSTART;TZID=Europe/Berlin:20260427T174500
DTEND;TZID=Europe/Berlin:20260427T184500
DTSTAMP:20260421T181339
CREATED:20260407T084937Z
LAST-MODIFIED:20260407T084937Z
UID:10002709-1777311900-1777315500@yoqina.goldeneskreuz.de
SUMMARY:Qigong - Bad Hindelang
DESCRIPTION:Qigong – Bad Hindelang\nGesundheitsübungen\nLungen stärkendes Qigong \nDer Kranich symbolisiert in China und Japan den glückverheißenden Vogel der Unsterblichkeit. Er steht für Friedfertigkeit\, Grazie\, Leichtigkeit und elegantes Auftreten. Er ist der Vermittler zwischen Himmel und Erde. Aus diesen Gründen wurden die ruhigen Bewegungen dieses Vogels in der „Übung des Kranichs“ imitiert und weiterentwickelt zu einem Übungskonzept\, das zur Gesundheitspflege und Stabilität hervorragend geeignet ist.\nMontag\, wöchentlich\, 17:45 – 18:45 Uhr  Einzel 8\,50 / 10er Karte 75\,-\nBitte mitbringen: bequeme Kleidung\, warme Socken oder Schuhe mit dünnen Sohlen \nLeitung: Bernhard Schneider\, Lehrer für Qigong und T’ai Chi Ch’uan SKA
URL:https://yoqina.goldeneskreuz.de/veranstaltung/qigong-bad-hindelang-4/2026-04-27/
LOCATION:Bad Hindelang Fiegenschuhweg 1\, Fiegenschuhwef 1\, Bad Hindelang\, Bayern\, 87541\, Deutschland
CATEGORIES:News,Qigong,Qigong & TaiChi,YoQiNa
ATTACH;FMTTYPE=image/jpeg:https://yoqina.goldeneskreuz.de/wp-content/uploads/sites/4/2024/01/zen-1024-768.jpg
ORGANIZER;CN="Berggasthof Goldenes Kreuz":MAILTO:info@goldeneskreuz.de
END:VEVENT
BEGIN:VEVENT
DTSTART;TZID=Europe/Berlin:20260427T190000
DTEND;TZID=Europe/Berlin:20260427T203000
DTSTAMP:20260421T181339
CREATED:20260103T124937Z
LAST-MODIFIED:20260407T082954Z
UID:10002264-1777316400-1777321800@yoqina.goldeneskreuz.de
SUMMARY:Hatha Yoga in Gunzesried
DESCRIPTION:Hatha Yoga in Gunzesried\nWege zu mehr Gelassenheit\n\nYoga ist heute in der westlichen Welt eine der beliebtesten und wirkungsvollsten Methode\, um Stress abzubauen und den Körper beweglich und gesund zu erhalten. Durch Körperarbeit\, Atemachtsamkeit und Entspannungsübungen\, verbessert Yoga die Beweglichkeit\, löst Blockaden und Verspannungen im Körper. Yoga fördert die seelische Ausgeglichenheit und führt so zu mehr Ruhe und Gelassenheit.\n\nBitte beachten: Dieser Kurs ist durch die Zentrale Prüfstelle Prävention zertifiziert. Bei regelmäßiger Teilnahme ist eine Kostenübernahme von bis zu 80% durch die Krankenkasse möglich.\nBitte mitbringen: bequeme Kleidung\, warme Socken. Wenn vorhanden Yogamatte und Decke.\n\nMontag  19:00 – 20:30 Uhr\nGunzesried – Goldenes Kreuz\nAnmeldung: Christa Schneider\nGebühr 12\,- 10er Karte 110\,-
URL:https://yoqina.goldeneskreuz.de/veranstaltung/hatha-yoga-in-gunzesried-3/2026-04-27/
LOCATION:Berggasthof Goldenes Kreuz\, YoQiNa\, Gunzesried\, Bayern\, 87544\, Deutschland
CATEGORIES:Hatha Yoga,Yoga
ATTACH;FMTTYPE=image/jpeg:https://yoqina.goldeneskreuz.de/wp-content/uploads/sites/4/2024/01/Yoga-Ohm.jpg
ORGANIZER;CN="Berggasthof Goldenes Kreuz":MAILTO:info@goldeneskreuz.de
END:VEVENT
BEGIN:VEVENT
DTSTART;TZID=Europe/Berlin:20260428T174500
DTEND;TZID=Europe/Berlin:20260428T184500
DTSTAMP:20260421T181339
CREATED:20260103T174638Z
LAST-MODIFIED:20260103T175547Z
UID:10002296-1777398300-1777401900@yoqina.goldeneskreuz.de
SUMMARY:Hatha Yoga in Immenstadt
DESCRIPTION:Hatha Yoga\nWege zu mehr Gelassenheit\n\nYoga ist heute in der westlichen Welt eine der beliebtesten und wirkungsvollsten Methode\, um Stress abzubauen und den Körper beweglich und gesund zu erhalten. Durch Körperarbeit\, Atemachtsamkeit und Entspannungsübungen\, verbessert Yoga die Beweglichkeit\, löst Blockaden und Verspannungen im Körper. Yoga fördert die seelische Ausgeglichenheit und führt so zu mehr Ruhe und Gelassenheit.\n\nBitte beachten: Dieser Kurs ist durch die Zentrale Prüfstelle Prävention zertifiziert. Bei regelmäßiger Teilnahme ist eine Kostenübernahme von bis zu 80% durch die Krankenkasse möglich.\nBitte mitbringen: bequeme Kleidung\, warme Socken. Wenn vorhanden Yogamatte und Decke.\n\nDienstag 13.01.26 – 28.07.2026 17:45 – 18:45 Uhr\nJanuar 2026 in Immenstadt – StubbS / ab Februar im Evangelischen Gemeindehaus\nAnmeldung: Christa Schneider\n10er Karte 150\,-
URL:https://yoqina.goldeneskreuz.de/veranstaltung/hatha-yoga-in-immenstadt-3-3/2026-04-28/
LOCATION:StubbS Immenstadt\, Bahnhofstraße 4\, Eingang Schlossgasse\, Immenstadt\, Bayern\, 87509\, Deutschland
CATEGORIES:Entspannungsyoga,Hatha Yoga,News,Yoga
ATTACH;FMTTYPE=image/jpeg:https://yoqina.goldeneskreuz.de/wp-content/uploads/sites/4/2024/03/iStock-1051663108.jpg
ORGANIZER;CN="Berggasthof Goldenes Kreuz":MAILTO:info@goldeneskreuz.de
END:VEVENT
END:VCALENDAR