BEGIN:VCALENDAR
VERSION:2.0
PRODID:-//Yoga - QiGong - Natur erleben - ECPv6.15.14//NONSGML v1.0//EN
CALSCALE:GREGORIAN
METHOD:PUBLISH
X-ORIGINAL-URL:https://yoqina.goldeneskreuz.de
X-WR-CALDESC:Veranstaltungen für Yoga - QiGong - Natur erleben
REFRESH-INTERVAL;VALUE=DURATION:PT1H
X-Robots-Tag:noindex
X-PUBLISHED-TTL:PT1H
BEGIN:VTIMEZONE
TZID:Europe/Berlin
BEGIN:DAYLIGHT
TZOFFSETFROM:+0100
TZOFFSETTO:+0200
TZNAME:CEST
DTSTART:20230326T010000
END:DAYLIGHT
BEGIN:STANDARD
TZOFFSETFROM:+0200
TZOFFSETTO:+0100
TZNAME:CET
DTSTART:20231029T010000
END:STANDARD
BEGIN:DAYLIGHT
TZOFFSETFROM:+0100
TZOFFSETTO:+0200
TZNAME:CEST
DTSTART:20240331T010000
END:DAYLIGHT
BEGIN:STANDARD
TZOFFSETFROM:+0200
TZOFFSETTO:+0100
TZNAME:CET
DTSTART:20241027T010000
END:STANDARD
BEGIN:DAYLIGHT
TZOFFSETFROM:+0100
TZOFFSETTO:+0200
TZNAME:CEST
DTSTART:20250330T010000
END:DAYLIGHT
BEGIN:STANDARD
TZOFFSETFROM:+0200
TZOFFSETTO:+0100
TZNAME:CET
DTSTART:20251026T010000
END:STANDARD
END:VTIMEZONE
BEGIN:VEVENT
DTSTART;TZID=Europe/Berlin:20240617T100000
DTEND;TZID=Europe/Berlin:20240617T130000
DTSTAMP:20260420T033954
CREATED:20231212T121519Z
LAST-MODIFIED:20231231T210020Z
UID:10001164-1718618400-1718629200@yoqina.goldeneskreuz.de
SUMMARY:Was blüht denn da am Wegesrand?
DESCRIPTION:Was blüht den da am Wegesrand\nKräuterwanderung entlang des Nagelfluh\nLeichte Wanderung im Gunzesrieder Hochtal\, die uns über Kräuter- und artenreiche Wiesen und Alpgärten führt. Ihr begreift das Zusammenwirken von Kulturlandschaft und Landwirtschaft\, woher der Alpkäse seinen würzigen Geschmack hat und wie Kräuter und Wildpflanzen in der Volksheilkunde Verwendung finden. Gerne auch mit Kinder. \nLeitung: Christa Schneider\, Köchin\, Wildkräuterfrau und Naturparkführerin. \n\n\n  \n\n\n\n Dein Name\n \n \n Deine E-Mail-Adresse\n \n \n Betreff\n \n\n \n Deine Nachricht
URL:https://yoqina.goldeneskreuz.de/veranstaltung/was-blueht-denn-da-am-wegesrand-3/2024-06-17/
LOCATION:Berggasthof Goldenes Kreuz\, YoQiNa\, Gunzesried\, Bayern\, 87544\, Deutschland
CATEGORIES:Kräuterwandern,Natur erleben,News,Was blüht denn da am Wegesrand,YoQiNa
ATTACH;FMTTYPE=image/jpeg:https://yoqina.goldeneskreuz.de/wp-content/uploads/sites/4/2023/06/was_blueht_den_da_am_wegesrand-rotated-e1686344377351.jpg
ORGANIZER;CN="Berggasthof Goldenes Kreuz":MAILTO:info@goldeneskreuz.de
END:VEVENT
BEGIN:VEVENT
DTSTART;TZID=Europe/Berlin:20240623T090000
DTEND;TZID=Europe/Berlin:20240623T150000
DTSTAMP:20260420T033954
CREATED:20231209T190451Z
LAST-MODIFIED:20241202T181757Z
UID:10001153-1719133200-1719154800@yoqina.goldeneskreuz.de
SUMMARY:Von der Wiese auf den Tisch
DESCRIPTION:Von der Wiese auf den Tisch\nKräuter sammeln und damit kochen\nWildkräuter sammeln und zu leckeren Gerichten verarbeiten. Mit selbst gesammelten heimischen Wildkräutern zaubern wir schmackhafte Gerichte und allerlei Leckeres auf den Tisch. Bei einer einfachen Kräuterwanderung im Gunzesrieder Tal lernen Sie Wildkräuter zu bestimmen und anschließend\, wie sie in der Küche verarbeitet werden. Achtsamer Umgang mit dem Lebensraum Natur\, der uns diese heilsamen Nahrungsmittel zur Verfügung stellt und die Freude am Kochen ist das\, was ich Ihnen in diesem Kurs vermitteln möchte. Ich freue mich auf Sie! \nBitte mitbringen: gutes Schuhwerk\, wettertaugliche Kleidung\, kleines Messer/Schere\, 2 kleine Gläser für Proben und Stofftasche zum Sammeln. \nLeitung: Christa Schneider\, Köchin\, Wildkräuterfrau und Naturparkführerin. \nAnmeldung über Oberallgäuer Volkshochschule bzw. Christa Schneider
URL:https://yoqina.goldeneskreuz.de/veranstaltung/von-der-wiese-auf-den-tisch-3/
LOCATION:Berggasthof Goldenes Kreuz\, YoQiNa\, Gunzesried\, Bayern\, 87544\, Deutschland
CATEGORIES:Kräuterküche,Natur erleben,News,vhs Oberallgäuer Volkshochschule,von der Wiese auf den Tisch,YoQiNa
ATTACH;FMTTYPE=image/jpeg:https://yoqina.goldeneskreuz.de/wp-content/uploads/sites/4/2021/07/YoQiNa-Kochkurs-Kraeuterkochkurs-Oberallgaeu-Schneider-kochen-mit-Gartenkraeuter.jpg
ORGANIZER;CN="vhs Oberallg%C3%A4uer Volkshochschule":MAILTO:info@goldeneskreuz.de
END:VEVENT
BEGIN:VEVENT
DTSTART;TZID=Europe/Berlin:20240624T100000
DTEND;TZID=Europe/Berlin:20240624T130000
DTSTAMP:20260420T033954
CREATED:20231212T121519Z
LAST-MODIFIED:20231231T210020Z
UID:10001211-1719223200-1719234000@yoqina.goldeneskreuz.de
SUMMARY:Was blüht denn da am Wegesrand?
DESCRIPTION:Was blüht den da am Wegesrand\nKräuterwanderung entlang des Nagelfluh\nLeichte Wanderung im Gunzesrieder Hochtal\, die uns über Kräuter- und artenreiche Wiesen und Alpgärten führt. Ihr begreift das Zusammenwirken von Kulturlandschaft und Landwirtschaft\, woher der Alpkäse seinen würzigen Geschmack hat und wie Kräuter und Wildpflanzen in der Volksheilkunde Verwendung finden. Gerne auch mit Kinder. \nLeitung: Christa Schneider\, Köchin\, Wildkräuterfrau und Naturparkführerin. \n\n\n  \n\n\n\n Dein Name\n \n \n Deine E-Mail-Adresse\n \n \n Betreff\n \n\n \n Deine Nachricht
URL:https://yoqina.goldeneskreuz.de/veranstaltung/was-blueht-denn-da-am-wegesrand-3/2024-06-24/
LOCATION:Berggasthof Goldenes Kreuz\, YoQiNa\, Gunzesried\, Bayern\, 87544\, Deutschland
CATEGORIES:Kräuterwandern,Natur erleben,News,Was blüht denn da am Wegesrand,YoQiNa
ATTACH;FMTTYPE=image/jpeg:https://yoqina.goldeneskreuz.de/wp-content/uploads/sites/4/2023/06/was_blueht_den_da_am_wegesrand-rotated-e1686344377351.jpg
ORGANIZER;CN="Berggasthof Goldenes Kreuz":MAILTO:info@goldeneskreuz.de
END:VEVENT
END:VCALENDAR