BEGIN:VCALENDAR
VERSION:2.0
PRODID:-//Yoga - QiGong - Natur erleben - ECPv6.15.20//NONSGML v1.0//EN
CALSCALE:GREGORIAN
METHOD:PUBLISH
X-ORIGINAL-URL:https://yoqina.goldeneskreuz.de
X-WR-CALDESC:Veranstaltungen für Yoga - QiGong - Natur erleben
REFRESH-INTERVAL;VALUE=DURATION:PT1H
X-Robots-Tag:noindex
X-PUBLISHED-TTL:PT1H
BEGIN:VTIMEZONE
TZID:Europe/Berlin
BEGIN:DAYLIGHT
TZOFFSETFROM:+0100
TZOFFSETTO:+0200
TZNAME:CEST
DTSTART:20220327T010000
END:DAYLIGHT
BEGIN:STANDARD
TZOFFSETFROM:+0200
TZOFFSETTO:+0100
TZNAME:CET
DTSTART:20221030T010000
END:STANDARD
BEGIN:DAYLIGHT
TZOFFSETFROM:+0100
TZOFFSETTO:+0200
TZNAME:CEST
DTSTART:20230326T010000
END:DAYLIGHT
BEGIN:STANDARD
TZOFFSETFROM:+0200
TZOFFSETTO:+0100
TZNAME:CET
DTSTART:20231029T010000
END:STANDARD
BEGIN:DAYLIGHT
TZOFFSETFROM:+0100
TZOFFSETTO:+0200
TZNAME:CEST
DTSTART:20240331T010000
END:DAYLIGHT
BEGIN:STANDARD
TZOFFSETFROM:+0200
TZOFFSETTO:+0100
TZNAME:CET
DTSTART:20241027T010000
END:STANDARD
BEGIN:DAYLIGHT
TZOFFSETFROM:+0100
TZOFFSETTO:+0200
TZNAME:CEST
DTSTART:20250330T010000
END:DAYLIGHT
BEGIN:STANDARD
TZOFFSETFROM:+0200
TZOFFSETTO:+0100
TZNAME:CET
DTSTART:20251026T010000
END:STANDARD
END:VTIMEZONE
BEGIN:VEVENT
DTSTART;VALUE=DATE:20240315
DTEND;VALUE=DATE:20240318
DTSTAMP:20260421T182051
CREATED:20231215T070010Z
LAST-MODIFIED:20231215T090803Z
UID:10001165-1710460800-1710719999@yoqina.goldeneskreuz.de
SUMMARY:Yoga Qigong Natur erleben
DESCRIPTION:Yoga Qigong Natur erleben\nSchneeschuhtour\nErholsame Tage im Gunzesrieder Tal und dem Naturpark Nagelfluh. \nEs erwartet dich Yoga\, Qigong und geführte Schneeschuhtour im Gunzesrieder Tal. \nVegetarische Vollpension und gemütliches Beisammensein mit Gleichgesinnten. \n15.03.-17.03.2024 \nWir freuen uns auf dich – Bernhard und Christa \nYoga Qgong Natur erleben Flyer 2024
URL:https://yoqina.goldeneskreuz.de/veranstaltung/yoga-qigong-natur-erleben-3/
LOCATION:Berggasthof Goldenes Kreuz\, YoQiNa\, Gunzesried\, Bayern\, 87544\, Deutschland
CATEGORIES:Goldenes Kreuz,Hatha Yoga,Natur erleben,News,News,News,Qigong,Schneeschuh,Yoga,YoQiNa
ATTACH;FMTTYPE=image/jpeg:https://yoqina.goldeneskreuz.de/wp-content/uploads/sites/4/2023/02/iStock-1320098178-2.jpg
ORGANIZER;CN="Berggasthof Goldenes Kreuz":MAILTO:info@goldeneskreuz.de
END:VEVENT
BEGIN:VEVENT
DTSTART;TZID=Europe/Berlin:20240219T190000
DTEND;TZID=Europe/Berlin:20240219T203000
DTSTAMP:20260421T182051
CREATED:20231215T093515Z
LAST-MODIFIED:20231215T094135Z
UID:10001177-1708369200-1708374600@yoqina.goldeneskreuz.de
SUMMARY:Hatha Yoga und Entspannung
DESCRIPTION:Hatha Yoga und Entspannung\nYoga ist ein wunderbarer Übungsweg der über die körperliche Ebene hinführt zu Wohlempfinden und Entspannung. Egal ob du geübter Yogi oder Anfänger\, Jung oder etwas älter bist\, mitmachen kann jeder. \nY O G A * T U T * G U T!\nHatha Yoga Übungen in verschiedenen Schwierigkeitsstufen sowie fließende Übungsfolgen\, Achtsamkeitsübungen\, verschiedene Atemtechniken und diverse Entspannungsübungen (z.B. Body scan\, Progressive Muskelentspannung)\, führen durch das 8-wöchiges Kursprogramm. \nWenn du nun neugierig wirst\, sei dabei und melde dich an. \nLeitung: Christa Schneider\, Yogalehrerin BDY/EYU\nGebühr: 10er Karte 110\,-€ oder 13\,-€ pro Stunde (erstes Meeting ist frei)\nMontag\, wöchentlich\, 19:00 – 20:30 Uhr\nAnmeldung über Berggasthof Goldenes Kreuz
URL:https://yoqina.goldeneskreuz.de/veranstaltung/hatha-yoga-und-entspannung/2024-02-19/
LOCATION:Berggasthof Goldenes Kreuz\, YoQiNa\, Gunzesried\, Bayern\, 87544\, Deutschland
CATEGORIES:Hatha Yoga,vhs Oberallgäuer Volkshochschule,Yoga,YoQiNa
ATTACH;FMTTYPE=image/jpeg:https://yoqina.goldeneskreuz.de/wp-content/uploads/sites/4/2021/06/YoQiNa-Yoga-Sonthofen-Gunzesried-Blaichach-Oberallgaeu-Kempten-Schneider-1.jpg
ORGANIZER;CN="Berggasthof Goldenes Kreuz":MAILTO:info@goldeneskreuz.de
END:VEVENT
BEGIN:VEVENT
DTSTART;TZID=Europe/Berlin:20231218T190000
DTEND;TZID=Europe/Berlin:20231218T203000
DTSTAMP:20260421T182051
CREATED:20230821T110803Z
LAST-MODIFIED:20230901T170604Z
UID:10001083-1702926000-1702931400@yoqina.goldeneskreuz.de
SUMMARY:Hatha Yoga und Entspannung
DESCRIPTION:Hatha Yoga und Entspannung\nYoga ist ein wunderbarer Übungsweg der über die körperliche Ebene hinführt zu Wohlempfinden und Entspannung. Egal ob du geübter Yogi oder Anfänger\, Jung oder etwas älter bist\, mitmachen kann jeder. \nY O G A * T U T * G U T!\nHatha Yoga Übungen in verschiedenen Schwierigkeitsstufen sowie fließende Übungsfolgen\, Achtsamkeitsübungen\, verschiedene Atemtechniken und diverse Entspannungsübungen (z.B. Body scan\, Progressive Muskelentspannung)\, führen durch das 8-wöchiges Kursprogramm. \nWenn du nun neugierig wirst\, sei dabei und melde dich an. \nLeitung: Christa Schneider\, Yogalehrerin BDY/EYU\nGebühr: 10er Karte 110\,-€ oder 13\,-€ pro Stunde (erstes Meeting ist frei)\nMontag\, wöchentlich\, 19:00 – 20:30 Uhr\nAnmeldung über Berggasthof Goldenes Kreuz
URL:https://yoqina.goldeneskreuz.de/veranstaltung/hatha-yoga-und-entspannung-4/2023-12-18/
LOCATION:Berggasthof Goldenes Kreuz\, YoQiNa\, Gunzesried\, Bayern\, 87544\, Deutschland
CATEGORIES:Hatha Yoga,vhs Oberallgäuer Volkshochschule,Yoga,YoQiNa
ATTACH;FMTTYPE=image/jpeg:https://yoqina.goldeneskreuz.de/wp-content/uploads/sites/4/2021/06/YoQiNa-Yoga-Sonthofen-Gunzesried-Blaichach-Oberallgaeu-Kempten-Schneider-1.jpg
ORGANIZER;CN="Berggasthof Goldenes Kreuz":MAILTO:info@goldeneskreuz.de
END:VEVENT
BEGIN:VEVENT
DTSTART;TZID=Europe/Berlin:20231114T171500
DTEND;TZID=Europe/Berlin:20231114T183000
DTSTAMP:20260421T182051
CREATED:20230822T081024Z
LAST-MODIFIED:20230822T081157Z
UID:10001068-1699982100-1699986600@yoqina.goldeneskreuz.de
SUMMARY:Hatha Yoga in Immenstadt
DESCRIPTION:Hatha Yoga\nWege zu mehr Gelassenheit\n\nYoga ist heute in der westlichen Welt eine der beliebtesten und wirkungsvollsten Methode\, um Stress abzubauen und den Körper beweglich und gesund zu erhalten. Durch Körperarbeit\, Atemachtsamkeit und Entspannungsübungen\, verbessert Yoga die Beweglichkeit\, löst Blockaden und Verspannungen im Körper. Yoga fördert die seelische Ausgeglichenheit und führt so zu mehr Ruhe und Gelassenheit.\n\nBitte beachten: Dieser Kurs ist durch die Zentrale Prüfstelle Prävention zertifiziert. Bei regelmäßiger Teilnahme ist eine Kostenübernahme von bis zu 80% durch die Krankenkasse möglich.\nBitte mitbringen: bequeme Kleidung\, warme Socken. Wenn vorhanden Yogamatte und Decke.\n\n12.09.-14.11.2023  17:15 – 18:30 Uhr\nImmenstadt – StubbS\nAnmeldung Oberallgäuer Volkshochschule e.V.
URL:https://yoqina.goldeneskreuz.de/veranstaltung/hatha-yoga/2023-11-14/
LOCATION:StubbS Immenstadt\, Bahnhofstraße 4\, Eingang Schlossgasse\, Immenstadt\, Bayern\, 87509\, Deutschland
CATEGORIES:Hatha Yoga,Yoga,YoQiNa
ORGANIZER;CN="vhs Oberallg%C3%A4uer Volkshochschule":MAILTO:info@goldeneskreuz.de
END:VEVENT
BEGIN:VEVENT
DTSTART;TZID=Europe/Berlin:20231109T101500
DTEND;TZID=Europe/Berlin:20231109T113000
DTSTAMP:20260421T182051
CREATED:20230822T083519Z
LAST-MODIFIED:20230822T083520Z
UID:10001091-1699524900-1699529400@yoqina.goldeneskreuz.de
SUMMARY:Hatha Yoga in Immenstadt
DESCRIPTION:Hatha Yoga in Immenstadt\nNeue Wege zu mehr Gelassenheit und Entspannung\nYoga ist heute in der westlichen Welt eine der beliebtesten und wirkungsvollsten Methode\, um Stress abzubauen und den Körper\, beweglich und gesund zu erhalten. Durch Körperarbeit\, Atemachtsamkeit und Entspannungsübungen\, verbessert Yoga die Beweglichkeit\, löst Blockaden und Verspannungen im Körper. Yoga fördert die seelische Ausgeglichenheit und führt so zu mehr Ruhe und Gelassenheit.\n\nBitte beachten: Dieser Kurs ist durch die Zentrale Prüfstelle Prävention zertifiziert. Bei regelmäßiger Teilnahme ist eine Kostenübernahme von bis zu 80% durch die Krankenkasse möglich.\nBitte mitbringen: bequeme Kleidung\, warme Socken. Wenn vorhanden Yogamatte und Decke.\n\nDo 14.09. – 09.11.2023  10:15 – 11:30 Uhr\nImmenstadt im StubbS\n\nAnmeldung über Oberallgäuer Volkshochschule e.V.\n\nBitte beachten: Kein Kurs am 19.10.2023. Kurs findet auch in den Herbstferien (02.11.2023) statt.
URL:https://yoqina.goldeneskreuz.de/veranstaltung/hatha-yoga-in-immenstadt/2023-11-09/
LOCATION:StubbS Immenstadt\, Bahnhofstraße 4\, Eingang Schlossgasse\, Immenstadt\, Bayern\, 87509\, Deutschland
CATEGORIES:Hatha Yoga,News,Yoga,YoQiNa
ATTACH;FMTTYPE=image/jpeg:https://yoqina.goldeneskreuz.de/wp-content/uploads/sites/4/2021/07/YoQiNa-Yogakurs-Sonthofen-Gunzesried-Blaichach-Oberallgaeu-Kempten-Schneider-Hathayoga-Yogakissen.jpg
ORGANIZER;CN="vhs Oberallg%C3%A4uer Volkshochschule":MAILTO:info@goldeneskreuz.de
END:VEVENT
BEGIN:VEVENT
DTSTART;TZID=Europe/Berlin:20230731T190000
DTEND;TZID=Europe/Berlin:20230731T203000
DTSTAMP:20260421T182052
CREATED:20230807T101252Z
LAST-MODIFIED:20230807T101439Z
UID:10000595-1690830000-1690835400@yoqina.goldeneskreuz.de
SUMMARY:Hatha Yoga und Entspannung
DESCRIPTION:Hatha Yoga und Entspannung\nYoga ist ein wunderbarer Übungsweg der über die körperliche Ebene hinführt zu Wohlempfinden und Entspannung. Egal ob du geübter Yogi oder Anfänger\, Jung oder etwas älter bist\, mitmachen kann jeder. \nY O G A * T U T * G U T!\nHatha Yoga Übungen in verschiedenen Schwierigkeitsstufen sowie fließende Übungsfolgen\, Achtsamkeitsübungen\, verschiedene Atemtechniken und diverse Entspannungsübungen (z.B. Body scan\, Progressive Muskelentspannung)\, führen durch das 8-wöchiges Kursprogramm. \nWenn du nun neugierig wirst\, sei dabei und melde dich an. \nLeitung: Christa Schneider\, Yogalehrerin BDY/EYU\nGebühr: 10er Karte 100\,-€ oder 12\,-€ pro Stunde (erstes Meeting ist frei)\nMontag\, wöchentlich\, 19:00 – 20:30 Uhr\nAnmeldung über Berggasthof Goldenes Kreuz
URL:https://yoqina.goldeneskreuz.de/veranstaltung/hatha-yoga-und-entspannung-3/2023-07-31/
LOCATION:Berggasthof Goldenes Kreuz\, YoQiNa\, Gunzesried\, Bayern\, 87544\, Deutschland
CATEGORIES:Hatha Yoga,vhs Oberallgäuer Volkshochschule,Yoga,YoQiNa
ATTACH;FMTTYPE=image/jpeg:https://yoqina.goldeneskreuz.de/wp-content/uploads/sites/4/2021/06/YoQiNa-Yoga-Sonthofen-Gunzesried-Blaichach-Oberallgaeu-Kempten-Schneider-1.jpg
ORGANIZER;CN="Berggasthof Goldenes Kreuz":MAILTO:info@goldeneskreuz.de
END:VEVENT
END:VCALENDAR