BEGIN:VCALENDAR
VERSION:2.0
PRODID:-//Yoga - QiGong - Natur erleben - ECPv6.15.20//NONSGML v1.0//EN
CALSCALE:GREGORIAN
METHOD:PUBLISH
X-WR-CALNAME:Yoga - QiGong - Natur erleben
X-ORIGINAL-URL:https://yoqina.goldeneskreuz.de
X-WR-CALDESC:Veranstaltungen für Yoga - QiGong - Natur erleben
REFRESH-INTERVAL;VALUE=DURATION:PT1H
X-Robots-Tag:noindex
X-PUBLISHED-TTL:PT1H
BEGIN:VTIMEZONE
TZID:Europe/Berlin
BEGIN:DAYLIGHT
TZOFFSETFROM:+0100
TZOFFSETTO:+0200
TZNAME:CEST
DTSTART:20220327T010000
END:DAYLIGHT
BEGIN:STANDARD
TZOFFSETFROM:+0200
TZOFFSETTO:+0100
TZNAME:CET
DTSTART:20221030T010000
END:STANDARD
BEGIN:DAYLIGHT
TZOFFSETFROM:+0100
TZOFFSETTO:+0200
TZNAME:CEST
DTSTART:20230326T010000
END:DAYLIGHT
BEGIN:STANDARD
TZOFFSETFROM:+0200
TZOFFSETTO:+0100
TZNAME:CET
DTSTART:20231029T010000
END:STANDARD
BEGIN:DAYLIGHT
TZOFFSETFROM:+0100
TZOFFSETTO:+0200
TZNAME:CEST
DTSTART:20240331T010000
END:DAYLIGHT
BEGIN:STANDARD
TZOFFSETFROM:+0200
TZOFFSETTO:+0100
TZNAME:CET
DTSTART:20241027T010000
END:STANDARD
END:VTIMEZONE
BEGIN:VEVENT
DTSTART;TZID=Europe/Berlin:20230912T171500
DTEND;TZID=Europe/Berlin:20230912T183000
DTSTAMP:20260423T003828
CREATED:20230822T081024Z
LAST-MODIFIED:20230822T081157Z
UID:10001061-1694538900-1694543400@yoqina.goldeneskreuz.de
SUMMARY:Hatha Yoga in Immenstadt
DESCRIPTION:Hatha Yoga\nWege zu mehr Gelassenheit\n\nYoga ist heute in der westlichen Welt eine der beliebtesten und wirkungsvollsten Methode\, um Stress abzubauen und den Körper beweglich und gesund zu erhalten. Durch Körperarbeit\, Atemachtsamkeit und Entspannungsübungen\, verbessert Yoga die Beweglichkeit\, löst Blockaden und Verspannungen im Körper. Yoga fördert die seelische Ausgeglichenheit und führt so zu mehr Ruhe und Gelassenheit.\n\nBitte beachten: Dieser Kurs ist durch die Zentrale Prüfstelle Prävention zertifiziert. Bei regelmäßiger Teilnahme ist eine Kostenübernahme von bis zu 80% durch die Krankenkasse möglich.\nBitte mitbringen: bequeme Kleidung\, warme Socken. Wenn vorhanden Yogamatte und Decke.\n\n12.09.-14.11.2023  17:15 – 18:30 Uhr\nImmenstadt – StubbS\nAnmeldung Oberallgäuer Volkshochschule e.V.
URL:https://yoqina.goldeneskreuz.de/veranstaltung/hatha-yoga/2023-09-12/
LOCATION:StubbS Immenstadt\, Bahnhofstraße 4\, Eingang Schlossgasse\, Immenstadt\, Bayern\, 87509\, Deutschland
CATEGORIES:Hatha Yoga,Yoga,YoQiNa
ORGANIZER;CN="vhs Oberallg%C3%A4uer Volkshochschule":MAILTO:info@goldeneskreuz.de
END:VEVENT
BEGIN:VEVENT
DTSTART;TZID=Europe/Berlin:20230914T101500
DTEND;TZID=Europe/Berlin:20230914T113000
DTSTAMP:20260423T003828
CREATED:20230822T083519Z
LAST-MODIFIED:20230822T083520Z
UID:10001084-1694686500-1694691000@yoqina.goldeneskreuz.de
SUMMARY:Hatha Yoga in Immenstadt
DESCRIPTION:Hatha Yoga in Immenstadt\nNeue Wege zu mehr Gelassenheit und Entspannung\nYoga ist heute in der westlichen Welt eine der beliebtesten und wirkungsvollsten Methode\, um Stress abzubauen und den Körper\, beweglich und gesund zu erhalten. Durch Körperarbeit\, Atemachtsamkeit und Entspannungsübungen\, verbessert Yoga die Beweglichkeit\, löst Blockaden und Verspannungen im Körper. Yoga fördert die seelische Ausgeglichenheit und führt so zu mehr Ruhe und Gelassenheit.\n\nBitte beachten: Dieser Kurs ist durch die Zentrale Prüfstelle Prävention zertifiziert. Bei regelmäßiger Teilnahme ist eine Kostenübernahme von bis zu 80% durch die Krankenkasse möglich.\nBitte mitbringen: bequeme Kleidung\, warme Socken. Wenn vorhanden Yogamatte und Decke.\n\nDo 14.09. – 09.11.2023  10:15 – 11:30 Uhr\nImmenstadt im StubbS\n\nAnmeldung über Oberallgäuer Volkshochschule e.V.\n\nBitte beachten: Kein Kurs am 19.10.2023. Kurs findet auch in den Herbstferien (02.11.2023) statt.
URL:https://yoqina.goldeneskreuz.de/veranstaltung/hatha-yoga-in-immenstadt/2023-09-14/
LOCATION:StubbS Immenstadt\, Bahnhofstraße 4\, Eingang Schlossgasse\, Immenstadt\, Bayern\, 87509\, Deutschland
CATEGORIES:Hatha Yoga,News,Yoga,YoQiNa
ATTACH;FMTTYPE=image/jpeg:https://yoqina.goldeneskreuz.de/wp-content/uploads/sites/4/2021/07/YoQiNa-Yogakurs-Sonthofen-Gunzesried-Blaichach-Oberallgaeu-Kempten-Schneider-Hathayoga-Yogakissen.jpg
ORGANIZER;CN="vhs Oberallg%C3%A4uer Volkshochschule":MAILTO:info@goldeneskreuz.de
END:VEVENT
BEGIN:VEVENT
DTSTART;TZID=Europe/Berlin:20230919T171500
DTEND;TZID=Europe/Berlin:20230919T183000
DTSTAMP:20260423T003828
CREATED:20230822T081024Z
LAST-MODIFIED:20230822T081157Z
UID:10001062-1695143700-1695148200@yoqina.goldeneskreuz.de
SUMMARY:Hatha Yoga in Immenstadt
DESCRIPTION:Hatha Yoga\nWege zu mehr Gelassenheit\n\nYoga ist heute in der westlichen Welt eine der beliebtesten und wirkungsvollsten Methode\, um Stress abzubauen und den Körper beweglich und gesund zu erhalten. Durch Körperarbeit\, Atemachtsamkeit und Entspannungsübungen\, verbessert Yoga die Beweglichkeit\, löst Blockaden und Verspannungen im Körper. Yoga fördert die seelische Ausgeglichenheit und führt so zu mehr Ruhe und Gelassenheit.\n\nBitte beachten: Dieser Kurs ist durch die Zentrale Prüfstelle Prävention zertifiziert. Bei regelmäßiger Teilnahme ist eine Kostenübernahme von bis zu 80% durch die Krankenkasse möglich.\nBitte mitbringen: bequeme Kleidung\, warme Socken. Wenn vorhanden Yogamatte und Decke.\n\n12.09.-14.11.2023  17:15 – 18:30 Uhr\nImmenstadt – StubbS\nAnmeldung Oberallgäuer Volkshochschule e.V.
URL:https://yoqina.goldeneskreuz.de/veranstaltung/hatha-yoga/2023-09-19/
LOCATION:StubbS Immenstadt\, Bahnhofstraße 4\, Eingang Schlossgasse\, Immenstadt\, Bayern\, 87509\, Deutschland
CATEGORIES:Hatha Yoga,Yoga,YoQiNa
ORGANIZER;CN="vhs Oberallg%C3%A4uer Volkshochschule":MAILTO:info@goldeneskreuz.de
END:VEVENT
BEGIN:VEVENT
DTSTART;TZID=Europe/Berlin:20230921T101500
DTEND;TZID=Europe/Berlin:20230921T113000
DTSTAMP:20260423T003828
CREATED:20230822T083519Z
LAST-MODIFIED:20230822T083520Z
UID:10001085-1695291300-1695295800@yoqina.goldeneskreuz.de
SUMMARY:Hatha Yoga in Immenstadt
DESCRIPTION:Hatha Yoga in Immenstadt\nNeue Wege zu mehr Gelassenheit und Entspannung\nYoga ist heute in der westlichen Welt eine der beliebtesten und wirkungsvollsten Methode\, um Stress abzubauen und den Körper\, beweglich und gesund zu erhalten. Durch Körperarbeit\, Atemachtsamkeit und Entspannungsübungen\, verbessert Yoga die Beweglichkeit\, löst Blockaden und Verspannungen im Körper. Yoga fördert die seelische Ausgeglichenheit und führt so zu mehr Ruhe und Gelassenheit.\n\nBitte beachten: Dieser Kurs ist durch die Zentrale Prüfstelle Prävention zertifiziert. Bei regelmäßiger Teilnahme ist eine Kostenübernahme von bis zu 80% durch die Krankenkasse möglich.\nBitte mitbringen: bequeme Kleidung\, warme Socken. Wenn vorhanden Yogamatte und Decke.\n\nDo 14.09. – 09.11.2023  10:15 – 11:30 Uhr\nImmenstadt im StubbS\n\nAnmeldung über Oberallgäuer Volkshochschule e.V.\n\nBitte beachten: Kein Kurs am 19.10.2023. Kurs findet auch in den Herbstferien (02.11.2023) statt.
URL:https://yoqina.goldeneskreuz.de/veranstaltung/hatha-yoga-in-immenstadt/2023-09-21/
LOCATION:StubbS Immenstadt\, Bahnhofstraße 4\, Eingang Schlossgasse\, Immenstadt\, Bayern\, 87509\, Deutschland
CATEGORIES:Hatha Yoga,News,Yoga,YoQiNa
ATTACH;FMTTYPE=image/jpeg:https://yoqina.goldeneskreuz.de/wp-content/uploads/sites/4/2021/07/YoQiNa-Yogakurs-Sonthofen-Gunzesried-Blaichach-Oberallgaeu-Kempten-Schneider-Hathayoga-Yogakissen.jpg
ORGANIZER;CN="vhs Oberallg%C3%A4uer Volkshochschule":MAILTO:info@goldeneskreuz.de
END:VEVENT
BEGIN:VEVENT
DTSTART;TZID=Europe/Berlin:20230926T171500
DTEND;TZID=Europe/Berlin:20230926T183000
DTSTAMP:20260423T003828
CREATED:20230822T081024Z
LAST-MODIFIED:20230822T081157Z
UID:10001063-1695748500-1695753000@yoqina.goldeneskreuz.de
SUMMARY:Hatha Yoga in Immenstadt
DESCRIPTION:Hatha Yoga\nWege zu mehr Gelassenheit\n\nYoga ist heute in der westlichen Welt eine der beliebtesten und wirkungsvollsten Methode\, um Stress abzubauen und den Körper beweglich und gesund zu erhalten. Durch Körperarbeit\, Atemachtsamkeit und Entspannungsübungen\, verbessert Yoga die Beweglichkeit\, löst Blockaden und Verspannungen im Körper. Yoga fördert die seelische Ausgeglichenheit und führt so zu mehr Ruhe und Gelassenheit.\n\nBitte beachten: Dieser Kurs ist durch die Zentrale Prüfstelle Prävention zertifiziert. Bei regelmäßiger Teilnahme ist eine Kostenübernahme von bis zu 80% durch die Krankenkasse möglich.\nBitte mitbringen: bequeme Kleidung\, warme Socken. Wenn vorhanden Yogamatte und Decke.\n\n12.09.-14.11.2023  17:15 – 18:30 Uhr\nImmenstadt – StubbS\nAnmeldung Oberallgäuer Volkshochschule e.V.
URL:https://yoqina.goldeneskreuz.de/veranstaltung/hatha-yoga/2023-09-26/
LOCATION:StubbS Immenstadt\, Bahnhofstraße 4\, Eingang Schlossgasse\, Immenstadt\, Bayern\, 87509\, Deutschland
CATEGORIES:Hatha Yoga,Yoga,YoQiNa
ORGANIZER;CN="vhs Oberallg%C3%A4uer Volkshochschule":MAILTO:info@goldeneskreuz.de
END:VEVENT
BEGIN:VEVENT
DTSTART;TZID=Europe/Berlin:20230928T101500
DTEND;TZID=Europe/Berlin:20230928T113000
DTSTAMP:20260423T003828
CREATED:20230822T083519Z
LAST-MODIFIED:20230822T083520Z
UID:10001086-1695896100-1695900600@yoqina.goldeneskreuz.de
SUMMARY:Hatha Yoga in Immenstadt
DESCRIPTION:Hatha Yoga in Immenstadt\nNeue Wege zu mehr Gelassenheit und Entspannung\nYoga ist heute in der westlichen Welt eine der beliebtesten und wirkungsvollsten Methode\, um Stress abzubauen und den Körper\, beweglich und gesund zu erhalten. Durch Körperarbeit\, Atemachtsamkeit und Entspannungsübungen\, verbessert Yoga die Beweglichkeit\, löst Blockaden und Verspannungen im Körper. Yoga fördert die seelische Ausgeglichenheit und führt so zu mehr Ruhe und Gelassenheit.\n\nBitte beachten: Dieser Kurs ist durch die Zentrale Prüfstelle Prävention zertifiziert. Bei regelmäßiger Teilnahme ist eine Kostenübernahme von bis zu 80% durch die Krankenkasse möglich.\nBitte mitbringen: bequeme Kleidung\, warme Socken. Wenn vorhanden Yogamatte und Decke.\n\nDo 14.09. – 09.11.2023  10:15 – 11:30 Uhr\nImmenstadt im StubbS\n\nAnmeldung über Oberallgäuer Volkshochschule e.V.\n\nBitte beachten: Kein Kurs am 19.10.2023. Kurs findet auch in den Herbstferien (02.11.2023) statt.
URL:https://yoqina.goldeneskreuz.de/veranstaltung/hatha-yoga-in-immenstadt/2023-09-28/
LOCATION:StubbS Immenstadt\, Bahnhofstraße 4\, Eingang Schlossgasse\, Immenstadt\, Bayern\, 87509\, Deutschland
CATEGORIES:Hatha Yoga,News,Yoga,YoQiNa
ATTACH;FMTTYPE=image/jpeg:https://yoqina.goldeneskreuz.de/wp-content/uploads/sites/4/2021/07/YoQiNa-Yogakurs-Sonthofen-Gunzesried-Blaichach-Oberallgaeu-Kempten-Schneider-Hathayoga-Yogakissen.jpg
ORGANIZER;CN="vhs Oberallg%C3%A4uer Volkshochschule":MAILTO:info@goldeneskreuz.de
END:VEVENT
END:VCALENDAR