BEGIN:VCALENDAR
VERSION:2.0
PRODID:-//Yoga - QiGong - Natur erleben - ECPv6.15.14//NONSGML v1.0//EN
CALSCALE:GREGORIAN
METHOD:PUBLISH
X-ORIGINAL-URL:https://yoqina.goldeneskreuz.de
X-WR-CALDESC:Veranstaltungen für Yoga - QiGong - Natur erleben
REFRESH-INTERVAL;VALUE=DURATION:PT1H
X-Robots-Tag:noindex
X-PUBLISHED-TTL:PT1H
BEGIN:VTIMEZONE
TZID:Europe/Berlin
BEGIN:DAYLIGHT
TZOFFSETFROM:+0100
TZOFFSETTO:+0200
TZNAME:CEST
DTSTART:20230326T010000
END:DAYLIGHT
BEGIN:STANDARD
TZOFFSETFROM:+0200
TZOFFSETTO:+0100
TZNAME:CET
DTSTART:20231029T010000
END:STANDARD
BEGIN:DAYLIGHT
TZOFFSETFROM:+0100
TZOFFSETTO:+0200
TZNAME:CEST
DTSTART:20240331T010000
END:DAYLIGHT
BEGIN:STANDARD
TZOFFSETFROM:+0200
TZOFFSETTO:+0100
TZNAME:CET
DTSTART:20241027T010000
END:STANDARD
BEGIN:DAYLIGHT
TZOFFSETFROM:+0100
TZOFFSETTO:+0200
TZNAME:CEST
DTSTART:20250330T010000
END:DAYLIGHT
BEGIN:STANDARD
TZOFFSETFROM:+0200
TZOFFSETTO:+0100
TZNAME:CET
DTSTART:20251026T010000
END:STANDARD
END:VTIMEZONE
BEGIN:VEVENT
DTSTART;TZID=Europe/Berlin:20240805T190000
DTEND;TZID=Europe/Berlin:20240805T203000
DTSTAMP:20260420T082853
CREATED:20240330T183254Z
LAST-MODIFIED:20241023T162855Z
UID:10001704-1722884400-1722889800@yoqina.goldeneskreuz.de
SUMMARY:Hatha Yoga in Gunzesried
DESCRIPTION:Hatha Yoga in Gunzesried\nWege zu mehr Gelassenheit\n\nYoga ist heute in der westlichen Welt eine der beliebtesten und wirkungsvollsten Methode\, um Stress abzubauen und den Körper beweglich und gesund zu erhalten. Durch Körperarbeit\, Atemachtsamkeit und Entspannungsübungen\, verbessert Yoga die Beweglichkeit\, löst Blockaden und Verspannungen im Körper. Yoga fördert die seelische Ausgeglichenheit und führt so zu mehr Ruhe und Gelassenheit.\n\nBitte beachten: Dieser Kurs ist durch die Zentrale Prüfstelle Prävention zertifiziert. Bei regelmäßiger Teilnahme ist eine Kostenübernahme von bis zu 80% durch die Krankenkasse möglich.\nBitte mitbringen: bequeme Kleidung\, warme Socken. Wenn vorhanden Yogamatte und Decke.\n\nMontag  19:00 – 20:30 Uhr  (Sommer 19:30 – 21:00)\nGunzesried – Goldenes Kreuz\nAnmeldung: Christa Schneider\nGebühr 12\,- 10er Karte 110\,-
URL:https://yoqina.goldeneskreuz.de/veranstaltung/hatha-yoga-in-gunzesried/2024-08-05/
LOCATION:StubbS Immenstadt\, Bahnhofstraße 4\, Eingang Schlossgasse\, Immenstadt\, Bayern\, 87509\, Deutschland
CATEGORIES:Hatha Yoga,Yoga,YoQiNa
ATTACH;FMTTYPE=image/jpeg:https://yoqina.goldeneskreuz.de/wp-content/uploads/sites/4/2024/03/iStock-1051663108.jpg
ORGANIZER;CN="Berggasthof Goldenes Kreuz":MAILTO:info@goldeneskreuz.de
END:VEVENT
BEGIN:VEVENT
DTSTART;TZID=Europe/Berlin:20240812T190000
DTEND;TZID=Europe/Berlin:20240812T203000
DTSTAMP:20260420T082853
CREATED:20240330T183254Z
LAST-MODIFIED:20241023T162855Z
UID:10001705-1723489200-1723494600@yoqina.goldeneskreuz.de
SUMMARY:Hatha Yoga in Gunzesried
DESCRIPTION:Hatha Yoga in Gunzesried\nWege zu mehr Gelassenheit\n\nYoga ist heute in der westlichen Welt eine der beliebtesten und wirkungsvollsten Methode\, um Stress abzubauen und den Körper beweglich und gesund zu erhalten. Durch Körperarbeit\, Atemachtsamkeit und Entspannungsübungen\, verbessert Yoga die Beweglichkeit\, löst Blockaden und Verspannungen im Körper. Yoga fördert die seelische Ausgeglichenheit und führt so zu mehr Ruhe und Gelassenheit.\n\nBitte beachten: Dieser Kurs ist durch die Zentrale Prüfstelle Prävention zertifiziert. Bei regelmäßiger Teilnahme ist eine Kostenübernahme von bis zu 80% durch die Krankenkasse möglich.\nBitte mitbringen: bequeme Kleidung\, warme Socken. Wenn vorhanden Yogamatte und Decke.\n\nMontag  19:00 – 20:30 Uhr  (Sommer 19:30 – 21:00)\nGunzesried – Goldenes Kreuz\nAnmeldung: Christa Schneider\nGebühr 12\,- 10er Karte 110\,-
URL:https://yoqina.goldeneskreuz.de/veranstaltung/hatha-yoga-in-gunzesried/2024-08-12/
LOCATION:StubbS Immenstadt\, Bahnhofstraße 4\, Eingang Schlossgasse\, Immenstadt\, Bayern\, 87509\, Deutschland
CATEGORIES:Hatha Yoga,Yoga,YoQiNa
ATTACH;FMTTYPE=image/jpeg:https://yoqina.goldeneskreuz.de/wp-content/uploads/sites/4/2024/03/iStock-1051663108.jpg
ORGANIZER;CN="Berggasthof Goldenes Kreuz":MAILTO:info@goldeneskreuz.de
END:VEVENT
BEGIN:VEVENT
DTSTART;TZID=Europe/Berlin:20240819T190000
DTEND;TZID=Europe/Berlin:20240819T203000
DTSTAMP:20260420T082853
CREATED:20240330T183254Z
LAST-MODIFIED:20241023T162855Z
UID:10001706-1724094000-1724099400@yoqina.goldeneskreuz.de
SUMMARY:Hatha Yoga in Gunzesried
DESCRIPTION:Hatha Yoga in Gunzesried\nWege zu mehr Gelassenheit\n\nYoga ist heute in der westlichen Welt eine der beliebtesten und wirkungsvollsten Methode\, um Stress abzubauen und den Körper beweglich und gesund zu erhalten. Durch Körperarbeit\, Atemachtsamkeit und Entspannungsübungen\, verbessert Yoga die Beweglichkeit\, löst Blockaden und Verspannungen im Körper. Yoga fördert die seelische Ausgeglichenheit und führt so zu mehr Ruhe und Gelassenheit.\n\nBitte beachten: Dieser Kurs ist durch die Zentrale Prüfstelle Prävention zertifiziert. Bei regelmäßiger Teilnahme ist eine Kostenübernahme von bis zu 80% durch die Krankenkasse möglich.\nBitte mitbringen: bequeme Kleidung\, warme Socken. Wenn vorhanden Yogamatte und Decke.\n\nMontag  19:00 – 20:30 Uhr  (Sommer 19:30 – 21:00)\nGunzesried – Goldenes Kreuz\nAnmeldung: Christa Schneider\nGebühr 12\,- 10er Karte 110\,-
URL:https://yoqina.goldeneskreuz.de/veranstaltung/hatha-yoga-in-gunzesried/2024-08-19/
LOCATION:StubbS Immenstadt\, Bahnhofstraße 4\, Eingang Schlossgasse\, Immenstadt\, Bayern\, 87509\, Deutschland
CATEGORIES:Hatha Yoga,Yoga,YoQiNa
ATTACH;FMTTYPE=image/jpeg:https://yoqina.goldeneskreuz.de/wp-content/uploads/sites/4/2024/03/iStock-1051663108.jpg
ORGANIZER;CN="Berggasthof Goldenes Kreuz":MAILTO:info@goldeneskreuz.de
END:VEVENT
BEGIN:VEVENT
DTSTART;TZID=Europe/Berlin:20240826T190000
DTEND;TZID=Europe/Berlin:20240826T203000
DTSTAMP:20260420T082853
CREATED:20240330T183254Z
LAST-MODIFIED:20241023T162855Z
UID:10001707-1724698800-1724704200@yoqina.goldeneskreuz.de
SUMMARY:Hatha Yoga in Gunzesried
DESCRIPTION:Hatha Yoga in Gunzesried\nWege zu mehr Gelassenheit\n\nYoga ist heute in der westlichen Welt eine der beliebtesten und wirkungsvollsten Methode\, um Stress abzubauen und den Körper beweglich und gesund zu erhalten. Durch Körperarbeit\, Atemachtsamkeit und Entspannungsübungen\, verbessert Yoga die Beweglichkeit\, löst Blockaden und Verspannungen im Körper. Yoga fördert die seelische Ausgeglichenheit und führt so zu mehr Ruhe und Gelassenheit.\n\nBitte beachten: Dieser Kurs ist durch die Zentrale Prüfstelle Prävention zertifiziert. Bei regelmäßiger Teilnahme ist eine Kostenübernahme von bis zu 80% durch die Krankenkasse möglich.\nBitte mitbringen: bequeme Kleidung\, warme Socken. Wenn vorhanden Yogamatte und Decke.\n\nMontag  19:00 – 20:30 Uhr  (Sommer 19:30 – 21:00)\nGunzesried – Goldenes Kreuz\nAnmeldung: Christa Schneider\nGebühr 12\,- 10er Karte 110\,-
URL:https://yoqina.goldeneskreuz.de/veranstaltung/hatha-yoga-in-gunzesried/2024-08-26/
LOCATION:StubbS Immenstadt\, Bahnhofstraße 4\, Eingang Schlossgasse\, Immenstadt\, Bayern\, 87509\, Deutschland
CATEGORIES:Hatha Yoga,Yoga,YoQiNa
ATTACH;FMTTYPE=image/jpeg:https://yoqina.goldeneskreuz.de/wp-content/uploads/sites/4/2024/03/iStock-1051663108.jpg
ORGANIZER;CN="Berggasthof Goldenes Kreuz":MAILTO:info@goldeneskreuz.de
END:VEVENT
END:VCALENDAR