BEGIN:VCALENDAR
VERSION:2.0
PRODID:-//Yoga - QiGong - Natur erleben - ECPv6.15.14//NONSGML v1.0//EN
CALSCALE:GREGORIAN
METHOD:PUBLISH
X-WR-CALNAME:Yoga - QiGong - Natur erleben
X-ORIGINAL-URL:https://yoqina.goldeneskreuz.de
X-WR-CALDESC:Veranstaltungen für Yoga - QiGong - Natur erleben
REFRESH-INTERVAL;VALUE=DURATION:PT1H
X-Robots-Tag:noindex
X-PUBLISHED-TTL:PT1H
BEGIN:VTIMEZONE
TZID:Europe/Berlin
BEGIN:DAYLIGHT
TZOFFSETFROM:+0100
TZOFFSETTO:+0200
TZNAME:CEST
DTSTART:20240331T010000
END:DAYLIGHT
BEGIN:STANDARD
TZOFFSETFROM:+0200
TZOFFSETTO:+0100
TZNAME:CET
DTSTART:20241027T010000
END:STANDARD
BEGIN:DAYLIGHT
TZOFFSETFROM:+0100
TZOFFSETTO:+0200
TZNAME:CEST
DTSTART:20250330T010000
END:DAYLIGHT
BEGIN:STANDARD
TZOFFSETFROM:+0200
TZOFFSETTO:+0100
TZNAME:CET
DTSTART:20251026T010000
END:STANDARD
BEGIN:DAYLIGHT
TZOFFSETFROM:+0100
TZOFFSETTO:+0200
TZNAME:CEST
DTSTART:20260329T010000
END:DAYLIGHT
BEGIN:STANDARD
TZOFFSETFROM:+0200
TZOFFSETTO:+0100
TZNAME:CET
DTSTART:20261025T010000
END:STANDARD
END:VTIMEZONE
BEGIN:VEVENT
DTSTART;TZID=Europe/Berlin:20250304T174500
DTEND;TZID=Europe/Berlin:20250304T184500
DTSTAMP:20260419T185220
CREATED:20250923T111535Z
LAST-MODIFIED:20250923T111535Z
UID:10002172-1741110300-1741113900@yoqina.goldeneskreuz.de
SUMMARY:Hatha Yoga in Immenstadt
DESCRIPTION:Hatha Yoga\nWege zu mehr Gelassenheit\n\nYoga ist heute in der westlichen Welt eine der beliebtesten und wirkungsvollsten Methode\, um Stress abzubauen und den Körper beweglich und gesund zu erhalten. Durch Körperarbeit\, Atemachtsamkeit und Entspannungsübungen\, verbessert Yoga die Beweglichkeit\, löst Blockaden und Verspannungen im Körper. Yoga fördert die seelische Ausgeglichenheit und führt so zu mehr Ruhe und Gelassenheit.\n\nBitte beachten: Dieser Kurs ist durch die Zentrale Prüfstelle Prävention zertifiziert. Bei regelmäßiger Teilnahme ist eine Kostenübernahme von bis zu 80% durch die Krankenkasse möglich.\nBitte mitbringen: bequeme Kleidung\, warme Socken. Wenn vorhanden Yogamatte und Decke.\n\nDienstag 23.09. – 18.11.2025 17:45 – 18:45 Uhr\nImmenstadt – StubbS\nAnmeldung: Christa Schneider\nAchter Karte 90\,-
URL:https://yoqina.goldeneskreuz.de/veranstaltung/hatha-yoga-in-immenstadt-3/2025-03-04/
LOCATION:StubbS Immenstadt\, Bahnhofstraße 4\, Eingang Schlossgasse\, Immenstadt\, Bayern\, 87509\, Deutschland
CATEGORIES:Entspannungsyoga,Hatha Yoga,News,Yoga
ATTACH;FMTTYPE=image/jpeg:https://yoqina.goldeneskreuz.de/wp-content/uploads/sites/4/2024/03/iStock-1051663108.jpg
ORGANIZER;CN="Berggasthof Goldenes Kreuz":MAILTO:info@goldeneskreuz.de
END:VEVENT
BEGIN:VEVENT
DTSTART;TZID=Europe/Berlin:20250306T100000
DTEND;TZID=Europe/Berlin:20250306T110000
DTSTAMP:20260419T185220
CREATED:20250226T195242Z
LAST-MODIFIED:20250227T093506Z
UID:10001864-1741255200-1741258800@yoqina.goldeneskreuz.de
SUMMARY:Hatha Yoga und Kneipp in Immenstadt
DESCRIPTION:Hatha Yoga und Kneipp in Immenstadt\nNeue Wege zu mehr Gelassenheit und Entspannung\nYoga ist heute in der westlichen Welt eine der beliebtesten und wirkungsvollsten Methode\, um Stress abzubauen und den Körper\, beweglich und gesund zu erhalten. Durch Körperarbeit\, Atemachtsamkeit und Entspannungsübungen\, verbessert Yoga die Beweglichkeit\, löst Blockaden und Verspannungen im Körper. Yoga fördert die seelische Ausgeglichenheit und führt so zu mehr Ruhe und Gelassenheit.\n\nBitte mitbringen: bequeme Kleidung\, warme Socken. Wenn vorhanden Yogamatte und Decke.\n\nDo 13.02. – 10.04.2025  09:00 – 10:00 Uhr\nImmenstadt im StubbS\n\nAnmeldung über Kneippverein Immenstadt
URL:https://yoqina.goldeneskreuz.de/veranstaltung/hatha-yoga-kneipp/2025-03-06/
LOCATION:StubbS Immenstadt\, Bahnhofstraße 4\, Eingang Schlossgasse\, Immenstadt\, Bayern\, 87509\, Deutschland
CATEGORIES:Entspannungsyoga,Hatha Yoga,News,Yoga
ATTACH;FMTTYPE=image/jpeg:https://yoqina.goldeneskreuz.de/wp-content/uploads/sites/4/2021/07/YoQiNa-Yogakurs-Sonthofen-Gunzesried-Blaichach-Oberallgaeu-Kempten-Schneider-Hathayoga-Yogakissen.jpg
ORGANIZER;CN="Kneippverein Immenstadt e.V.":MAILTO:info@kneippverein-immenstadt.de
END:VEVENT
BEGIN:VEVENT
DTSTART;TZID=Europe/Berlin:20250310T190000
DTEND;TZID=Europe/Berlin:20250310T203000
DTSTAMP:20260419T185220
CREATED:20240330T183254Z
LAST-MODIFIED:20241023T162855Z
UID:10001730-1741633200-1741638600@yoqina.goldeneskreuz.de
SUMMARY:Hatha Yoga in Gunzesried
DESCRIPTION:Hatha Yoga in Gunzesried\nWege zu mehr Gelassenheit\n\nYoga ist heute in der westlichen Welt eine der beliebtesten und wirkungsvollsten Methode\, um Stress abzubauen und den Körper beweglich und gesund zu erhalten. Durch Körperarbeit\, Atemachtsamkeit und Entspannungsübungen\, verbessert Yoga die Beweglichkeit\, löst Blockaden und Verspannungen im Körper. Yoga fördert die seelische Ausgeglichenheit und führt so zu mehr Ruhe und Gelassenheit.\n\nBitte beachten: Dieser Kurs ist durch die Zentrale Prüfstelle Prävention zertifiziert. Bei regelmäßiger Teilnahme ist eine Kostenübernahme von bis zu 80% durch die Krankenkasse möglich.\nBitte mitbringen: bequeme Kleidung\, warme Socken. Wenn vorhanden Yogamatte und Decke.\n\nMontag  19:00 – 20:30 Uhr  (Sommer 19:30 – 21:00)\nGunzesried – Goldenes Kreuz\nAnmeldung: Christa Schneider\nGebühr 12\,- 10er Karte 110\,-
URL:https://yoqina.goldeneskreuz.de/veranstaltung/hatha-yoga-in-gunzesried/2025-03-10/
LOCATION:StubbS Immenstadt\, Bahnhofstraße 4\, Eingang Schlossgasse\, Immenstadt\, Bayern\, 87509\, Deutschland
CATEGORIES:Hatha Yoga,Yoga,YoQiNa
ATTACH;FMTTYPE=image/jpeg:https://yoqina.goldeneskreuz.de/wp-content/uploads/sites/4/2024/03/iStock-1051663108.jpg
ORGANIZER;CN="Berggasthof Goldenes Kreuz":MAILTO:info@goldeneskreuz.de
END:VEVENT
BEGIN:VEVENT
DTSTART;TZID=Europe/Berlin:20250311T174500
DTEND;TZID=Europe/Berlin:20250311T184500
DTSTAMP:20260419T185220
CREATED:20250923T111535Z
LAST-MODIFIED:20250923T111535Z
UID:10002154-1741715100-1741718700@yoqina.goldeneskreuz.de
SUMMARY:Hatha Yoga in Immenstadt
DESCRIPTION:Hatha Yoga\nWege zu mehr Gelassenheit\n\nYoga ist heute in der westlichen Welt eine der beliebtesten und wirkungsvollsten Methode\, um Stress abzubauen und den Körper beweglich und gesund zu erhalten. Durch Körperarbeit\, Atemachtsamkeit und Entspannungsübungen\, verbessert Yoga die Beweglichkeit\, löst Blockaden und Verspannungen im Körper. Yoga fördert die seelische Ausgeglichenheit und führt so zu mehr Ruhe und Gelassenheit.\n\nBitte beachten: Dieser Kurs ist durch die Zentrale Prüfstelle Prävention zertifiziert. Bei regelmäßiger Teilnahme ist eine Kostenübernahme von bis zu 80% durch die Krankenkasse möglich.\nBitte mitbringen: bequeme Kleidung\, warme Socken. Wenn vorhanden Yogamatte und Decke.\n\nDienstag 23.09. – 18.11.2025 17:45 – 18:45 Uhr\nImmenstadt – StubbS\nAnmeldung: Christa Schneider\nAchter Karte 90\,-
URL:https://yoqina.goldeneskreuz.de/veranstaltung/hatha-yoga-in-immenstadt-3/2025-03-11/
LOCATION:StubbS Immenstadt\, Bahnhofstraße 4\, Eingang Schlossgasse\, Immenstadt\, Bayern\, 87509\, Deutschland
CATEGORIES:Entspannungsyoga,Hatha Yoga,News,Yoga
ATTACH;FMTTYPE=image/jpeg:https://yoqina.goldeneskreuz.de/wp-content/uploads/sites/4/2024/03/iStock-1051663108.jpg
ORGANIZER;CN="Berggasthof Goldenes Kreuz":MAILTO:info@goldeneskreuz.de
END:VEVENT
BEGIN:VEVENT
DTSTART;TZID=Europe/Berlin:20250313T100000
DTEND;TZID=Europe/Berlin:20250313T110000
DTSTAMP:20260419T185220
CREATED:20250226T195242Z
LAST-MODIFIED:20250227T093506Z
UID:10001865-1741860000-1741863600@yoqina.goldeneskreuz.de
SUMMARY:Hatha Yoga und Kneipp in Immenstadt
DESCRIPTION:Hatha Yoga und Kneipp in Immenstadt\nNeue Wege zu mehr Gelassenheit und Entspannung\nYoga ist heute in der westlichen Welt eine der beliebtesten und wirkungsvollsten Methode\, um Stress abzubauen und den Körper\, beweglich und gesund zu erhalten. Durch Körperarbeit\, Atemachtsamkeit und Entspannungsübungen\, verbessert Yoga die Beweglichkeit\, löst Blockaden und Verspannungen im Körper. Yoga fördert die seelische Ausgeglichenheit und führt so zu mehr Ruhe und Gelassenheit.\n\nBitte mitbringen: bequeme Kleidung\, warme Socken. Wenn vorhanden Yogamatte und Decke.\n\nDo 13.02. – 10.04.2025  09:00 – 10:00 Uhr\nImmenstadt im StubbS\n\nAnmeldung über Kneippverein Immenstadt
URL:https://yoqina.goldeneskreuz.de/veranstaltung/hatha-yoga-kneipp/2025-03-13/
LOCATION:StubbS Immenstadt\, Bahnhofstraße 4\, Eingang Schlossgasse\, Immenstadt\, Bayern\, 87509\, Deutschland
CATEGORIES:Entspannungsyoga,Hatha Yoga,News,Yoga
ATTACH;FMTTYPE=image/jpeg:https://yoqina.goldeneskreuz.de/wp-content/uploads/sites/4/2021/07/YoQiNa-Yogakurs-Sonthofen-Gunzesried-Blaichach-Oberallgaeu-Kempten-Schneider-Hathayoga-Yogakissen.jpg
ORGANIZER;CN="Kneippverein Immenstadt e.V.":MAILTO:info@kneippverein-immenstadt.de
END:VEVENT
BEGIN:VEVENT
DTSTART;TZID=Europe/Berlin:20250317T190000
DTEND;TZID=Europe/Berlin:20250317T203000
DTSTAMP:20260419T185220
CREATED:20240330T183254Z
LAST-MODIFIED:20241023T162855Z
UID:10001731-1742238000-1742243400@yoqina.goldeneskreuz.de
SUMMARY:Hatha Yoga in Gunzesried
DESCRIPTION:Hatha Yoga in Gunzesried\nWege zu mehr Gelassenheit\n\nYoga ist heute in der westlichen Welt eine der beliebtesten und wirkungsvollsten Methode\, um Stress abzubauen und den Körper beweglich und gesund zu erhalten. Durch Körperarbeit\, Atemachtsamkeit und Entspannungsübungen\, verbessert Yoga die Beweglichkeit\, löst Blockaden und Verspannungen im Körper. Yoga fördert die seelische Ausgeglichenheit und führt so zu mehr Ruhe und Gelassenheit.\n\nBitte beachten: Dieser Kurs ist durch die Zentrale Prüfstelle Prävention zertifiziert. Bei regelmäßiger Teilnahme ist eine Kostenübernahme von bis zu 80% durch die Krankenkasse möglich.\nBitte mitbringen: bequeme Kleidung\, warme Socken. Wenn vorhanden Yogamatte und Decke.\n\nMontag  19:00 – 20:30 Uhr  (Sommer 19:30 – 21:00)\nGunzesried – Goldenes Kreuz\nAnmeldung: Christa Schneider\nGebühr 12\,- 10er Karte 110\,-
URL:https://yoqina.goldeneskreuz.de/veranstaltung/hatha-yoga-in-gunzesried/2025-03-17/
LOCATION:StubbS Immenstadt\, Bahnhofstraße 4\, Eingang Schlossgasse\, Immenstadt\, Bayern\, 87509\, Deutschland
CATEGORIES:Hatha Yoga,Yoga,YoQiNa
ATTACH;FMTTYPE=image/jpeg:https://yoqina.goldeneskreuz.de/wp-content/uploads/sites/4/2024/03/iStock-1051663108.jpg
ORGANIZER;CN="Berggasthof Goldenes Kreuz":MAILTO:info@goldeneskreuz.de
END:VEVENT
BEGIN:VEVENT
DTSTART;TZID=Europe/Berlin:20250318T174500
DTEND;TZID=Europe/Berlin:20250318T184500
DTSTAMP:20260419T185220
CREATED:20250923T111535Z
LAST-MODIFIED:20250923T111535Z
UID:10002155-1742319900-1742323500@yoqina.goldeneskreuz.de
SUMMARY:Hatha Yoga in Immenstadt
DESCRIPTION:Hatha Yoga\nWege zu mehr Gelassenheit\n\nYoga ist heute in der westlichen Welt eine der beliebtesten und wirkungsvollsten Methode\, um Stress abzubauen und den Körper beweglich und gesund zu erhalten. Durch Körperarbeit\, Atemachtsamkeit und Entspannungsübungen\, verbessert Yoga die Beweglichkeit\, löst Blockaden und Verspannungen im Körper. Yoga fördert die seelische Ausgeglichenheit und führt so zu mehr Ruhe und Gelassenheit.\n\nBitte beachten: Dieser Kurs ist durch die Zentrale Prüfstelle Prävention zertifiziert. Bei regelmäßiger Teilnahme ist eine Kostenübernahme von bis zu 80% durch die Krankenkasse möglich.\nBitte mitbringen: bequeme Kleidung\, warme Socken. Wenn vorhanden Yogamatte und Decke.\n\nDienstag 23.09. – 18.11.2025 17:45 – 18:45 Uhr\nImmenstadt – StubbS\nAnmeldung: Christa Schneider\nAchter Karte 90\,-
URL:https://yoqina.goldeneskreuz.de/veranstaltung/hatha-yoga-in-immenstadt-3/2025-03-18/
LOCATION:StubbS Immenstadt\, Bahnhofstraße 4\, Eingang Schlossgasse\, Immenstadt\, Bayern\, 87509\, Deutschland
CATEGORIES:Entspannungsyoga,Hatha Yoga,News,Yoga
ATTACH;FMTTYPE=image/jpeg:https://yoqina.goldeneskreuz.de/wp-content/uploads/sites/4/2024/03/iStock-1051663108.jpg
ORGANIZER;CN="Berggasthof Goldenes Kreuz":MAILTO:info@goldeneskreuz.de
END:VEVENT
BEGIN:VEVENT
DTSTART;TZID=Europe/Berlin:20250320T100000
DTEND;TZID=Europe/Berlin:20250320T110000
DTSTAMP:20260419T185220
CREATED:20250226T195242Z
LAST-MODIFIED:20250227T093506Z
UID:10001866-1742464800-1742468400@yoqina.goldeneskreuz.de
SUMMARY:Hatha Yoga und Kneipp in Immenstadt
DESCRIPTION:Hatha Yoga und Kneipp in Immenstadt\nNeue Wege zu mehr Gelassenheit und Entspannung\nYoga ist heute in der westlichen Welt eine der beliebtesten und wirkungsvollsten Methode\, um Stress abzubauen und den Körper\, beweglich und gesund zu erhalten. Durch Körperarbeit\, Atemachtsamkeit und Entspannungsübungen\, verbessert Yoga die Beweglichkeit\, löst Blockaden und Verspannungen im Körper. Yoga fördert die seelische Ausgeglichenheit und führt so zu mehr Ruhe und Gelassenheit.\n\nBitte mitbringen: bequeme Kleidung\, warme Socken. Wenn vorhanden Yogamatte und Decke.\n\nDo 13.02. – 10.04.2025  09:00 – 10:00 Uhr\nImmenstadt im StubbS\n\nAnmeldung über Kneippverein Immenstadt
URL:https://yoqina.goldeneskreuz.de/veranstaltung/hatha-yoga-kneipp/2025-03-20/
LOCATION:StubbS Immenstadt\, Bahnhofstraße 4\, Eingang Schlossgasse\, Immenstadt\, Bayern\, 87509\, Deutschland
CATEGORIES:Entspannungsyoga,Hatha Yoga,News,Yoga
ATTACH;FMTTYPE=image/jpeg:https://yoqina.goldeneskreuz.de/wp-content/uploads/sites/4/2021/07/YoQiNa-Yogakurs-Sonthofen-Gunzesried-Blaichach-Oberallgaeu-Kempten-Schneider-Hathayoga-Yogakissen.jpg
ORGANIZER;CN="Kneippverein Immenstadt e.V.":MAILTO:info@kneippverein-immenstadt.de
END:VEVENT
BEGIN:VEVENT
DTSTART;TZID=Europe/Berlin:20250324T190000
DTEND;TZID=Europe/Berlin:20250324T203000
DTSTAMP:20260419T185220
CREATED:20240330T183254Z
LAST-MODIFIED:20241023T162855Z
UID:10001732-1742842800-1742848200@yoqina.goldeneskreuz.de
SUMMARY:Hatha Yoga in Gunzesried
DESCRIPTION:Hatha Yoga in Gunzesried\nWege zu mehr Gelassenheit\n\nYoga ist heute in der westlichen Welt eine der beliebtesten und wirkungsvollsten Methode\, um Stress abzubauen und den Körper beweglich und gesund zu erhalten. Durch Körperarbeit\, Atemachtsamkeit und Entspannungsübungen\, verbessert Yoga die Beweglichkeit\, löst Blockaden und Verspannungen im Körper. Yoga fördert die seelische Ausgeglichenheit und führt so zu mehr Ruhe und Gelassenheit.\n\nBitte beachten: Dieser Kurs ist durch die Zentrale Prüfstelle Prävention zertifiziert. Bei regelmäßiger Teilnahme ist eine Kostenübernahme von bis zu 80% durch die Krankenkasse möglich.\nBitte mitbringen: bequeme Kleidung\, warme Socken. Wenn vorhanden Yogamatte und Decke.\n\nMontag  19:00 – 20:30 Uhr  (Sommer 19:30 – 21:00)\nGunzesried – Goldenes Kreuz\nAnmeldung: Christa Schneider\nGebühr 12\,- 10er Karte 110\,-
URL:https://yoqina.goldeneskreuz.de/veranstaltung/hatha-yoga-in-gunzesried/2025-03-24/
LOCATION:StubbS Immenstadt\, Bahnhofstraße 4\, Eingang Schlossgasse\, Immenstadt\, Bayern\, 87509\, Deutschland
CATEGORIES:Hatha Yoga,Yoga,YoQiNa
ATTACH;FMTTYPE=image/jpeg:https://yoqina.goldeneskreuz.de/wp-content/uploads/sites/4/2024/03/iStock-1051663108.jpg
ORGANIZER;CN="Berggasthof Goldenes Kreuz":MAILTO:info@goldeneskreuz.de
END:VEVENT
BEGIN:VEVENT
DTSTART;TZID=Europe/Berlin:20250325T174500
DTEND;TZID=Europe/Berlin:20250325T184500
DTSTAMP:20260419T185220
CREATED:20250923T111535Z
LAST-MODIFIED:20250923T111535Z
UID:10002156-1742924700-1742928300@yoqina.goldeneskreuz.de
SUMMARY:Hatha Yoga in Immenstadt
DESCRIPTION:Hatha Yoga\nWege zu mehr Gelassenheit\n\nYoga ist heute in der westlichen Welt eine der beliebtesten und wirkungsvollsten Methode\, um Stress abzubauen und den Körper beweglich und gesund zu erhalten. Durch Körperarbeit\, Atemachtsamkeit und Entspannungsübungen\, verbessert Yoga die Beweglichkeit\, löst Blockaden und Verspannungen im Körper. Yoga fördert die seelische Ausgeglichenheit und führt so zu mehr Ruhe und Gelassenheit.\n\nBitte beachten: Dieser Kurs ist durch die Zentrale Prüfstelle Prävention zertifiziert. Bei regelmäßiger Teilnahme ist eine Kostenübernahme von bis zu 80% durch die Krankenkasse möglich.\nBitte mitbringen: bequeme Kleidung\, warme Socken. Wenn vorhanden Yogamatte und Decke.\n\nDienstag 23.09. – 18.11.2025 17:45 – 18:45 Uhr\nImmenstadt – StubbS\nAnmeldung: Christa Schneider\nAchter Karte 90\,-
URL:https://yoqina.goldeneskreuz.de/veranstaltung/hatha-yoga-in-immenstadt-3/2025-03-25/
LOCATION:StubbS Immenstadt\, Bahnhofstraße 4\, Eingang Schlossgasse\, Immenstadt\, Bayern\, 87509\, Deutschland
CATEGORIES:Entspannungsyoga,Hatha Yoga,News,Yoga
ATTACH;FMTTYPE=image/jpeg:https://yoqina.goldeneskreuz.de/wp-content/uploads/sites/4/2024/03/iStock-1051663108.jpg
ORGANIZER;CN="Berggasthof Goldenes Kreuz":MAILTO:info@goldeneskreuz.de
END:VEVENT
BEGIN:VEVENT
DTSTART;TZID=Europe/Berlin:20250327T100000
DTEND;TZID=Europe/Berlin:20250327T110000
DTSTAMP:20260419T185220
CREATED:20250226T195242Z
LAST-MODIFIED:20250227T093506Z
UID:10001867-1743069600-1743073200@yoqina.goldeneskreuz.de
SUMMARY:Hatha Yoga und Kneipp in Immenstadt
DESCRIPTION:Hatha Yoga und Kneipp in Immenstadt\nNeue Wege zu mehr Gelassenheit und Entspannung\nYoga ist heute in der westlichen Welt eine der beliebtesten und wirkungsvollsten Methode\, um Stress abzubauen und den Körper\, beweglich und gesund zu erhalten. Durch Körperarbeit\, Atemachtsamkeit und Entspannungsübungen\, verbessert Yoga die Beweglichkeit\, löst Blockaden und Verspannungen im Körper. Yoga fördert die seelische Ausgeglichenheit und führt so zu mehr Ruhe und Gelassenheit.\n\nBitte mitbringen: bequeme Kleidung\, warme Socken. Wenn vorhanden Yogamatte und Decke.\n\nDo 13.02. – 10.04.2025  09:00 – 10:00 Uhr\nImmenstadt im StubbS\n\nAnmeldung über Kneippverein Immenstadt
URL:https://yoqina.goldeneskreuz.de/veranstaltung/hatha-yoga-kneipp/2025-03-27/
LOCATION:StubbS Immenstadt\, Bahnhofstraße 4\, Eingang Schlossgasse\, Immenstadt\, Bayern\, 87509\, Deutschland
CATEGORIES:Entspannungsyoga,Hatha Yoga,News,Yoga
ATTACH;FMTTYPE=image/jpeg:https://yoqina.goldeneskreuz.de/wp-content/uploads/sites/4/2021/07/YoQiNa-Yogakurs-Sonthofen-Gunzesried-Blaichach-Oberallgaeu-Kempten-Schneider-Hathayoga-Yogakissen.jpg
ORGANIZER;CN="Kneippverein Immenstadt e.V.":MAILTO:info@kneippverein-immenstadt.de
END:VEVENT
END:VCALENDAR