BEGIN:VCALENDAR
VERSION:2.0
PRODID:-//Yoga - QiGong - Natur erleben - ECPv6.15.20//NONSGML v1.0//EN
CALSCALE:GREGORIAN
METHOD:PUBLISH
X-ORIGINAL-URL:https://yoqina.goldeneskreuz.de
X-WR-CALDESC:Veranstaltungen für Yoga - QiGong - Natur erleben
REFRESH-INTERVAL;VALUE=DURATION:PT1H
X-Robots-Tag:noindex
X-PUBLISHED-TTL:PT1H
BEGIN:VTIMEZONE
TZID:Europe/Berlin
BEGIN:DAYLIGHT
TZOFFSETFROM:+0100
TZOFFSETTO:+0200
TZNAME:CEST
DTSTART:20230326T010000
END:DAYLIGHT
BEGIN:STANDARD
TZOFFSETFROM:+0200
TZOFFSETTO:+0100
TZNAME:CET
DTSTART:20231029T010000
END:STANDARD
BEGIN:DAYLIGHT
TZOFFSETFROM:+0100
TZOFFSETTO:+0200
TZNAME:CEST
DTSTART:20240331T010000
END:DAYLIGHT
BEGIN:STANDARD
TZOFFSETFROM:+0200
TZOFFSETTO:+0100
TZNAME:CET
DTSTART:20241027T010000
END:STANDARD
BEGIN:DAYLIGHT
TZOFFSETFROM:+0100
TZOFFSETTO:+0200
TZNAME:CEST
DTSTART:20250330T010000
END:DAYLIGHT
BEGIN:STANDARD
TZOFFSETFROM:+0200
TZOFFSETTO:+0100
TZNAME:CET
DTSTART:20251026T010000
END:STANDARD
BEGIN:DAYLIGHT
TZOFFSETFROM:+0100
TZOFFSETTO:+0200
TZNAME:CEST
DTSTART:20260329T010000
END:DAYLIGHT
BEGIN:STANDARD
TZOFFSETFROM:+0200
TZOFFSETTO:+0100
TZNAME:CET
DTSTART:20261025T010000
END:STANDARD
END:VTIMEZONE
BEGIN:VEVENT
DTSTART;TZID=Europe/Berlin:20250821T093000
DTEND;TZID=Europe/Berlin:20250821T130000
DTSTAMP:20260421T151222
CREATED:20250227T160912Z
LAST-MODIFIED:20250418T152958Z
UID:10001933-1755768600-1755781200@yoqina.goldeneskreuz.de
SUMMARY:Was blüht denn da am Wegesrand?
DESCRIPTION:Was blüht den da am Wegesrand\nKräuterwanderung entlang des Nagelfluh\nJeden Donnerstag vom 26.06.2025 bis 21.08.2025 \nMöchten Sie die faszinierende Welt der heimischen Wildkräuter entdecken und lernen\, wie man sie erkennt und bestimmt? Dann laden ich Sie herzlich zu einer leichten Wanderung im schönen Gunzesrieder Hochtal ein! In dieser kulturlandschaftlich wertvollen Region haben Sie die Möglichkeit\, nicht nur Ihre Kenntnisse über Pflanzen zu erweitern\, sondern auch deren Wirkung und Verwendung in der Küche sowie in der Volksheilkunde zu erfahren. \nNach unserer Entdeckungstour erwartet Sie eine kleine kulinarische Überraschung: Probieren Sie köstliche Kräuteraufstriche\, würzigen Käse und erfrischende Kräuterlimonade. \nBeginn 9.30 Uhr – Ende gegen 13.00 Uhr\nUnkostenbeitrag Erwachsene 35\,00 € Kinder bis 12 Jahre 15\,OO € /Mindestteilnehmer 4 Erwachsene\, gerne auch Gruppen. \nLeitung: Christa Schneider\, Köchin\, Wildkräuterfrau und Naturparkführerin. \nAnmeldung spätestens am Vortag Tel: 08321-2560 oder Kontaktformular \n\n\n  \n\n\n\n Dein Name\n \n \n Deine E-Mail-Adresse\n \n \n Betreff\n \n\n \n Deine Nachricht
URL:https://yoqina.goldeneskreuz.de/veranstaltung/was-blueht-denn-da-am-wegesrand-25/2025-08-21/
LOCATION:Berggasthof Goldenes Kreuz\, YoQiNa\, Gunzesried\, Bayern\, 87544\, Deutschland
CATEGORIES:Kräuterwandern,Natur erleben,News,Wandern,Was blüht denn da am Wegesrand,YoQiNa
ATTACH;FMTTYPE=image/jpeg:https://yoqina.goldeneskreuz.de/wp-content/uploads/sites/4/2023/06/was_blueht_den_da_am_wegesrand-rotated-e1686344377351.jpg
ORGANIZER;CN="Berggasthof Goldenes Kreuz":MAILTO:info@goldeneskreuz.de
END:VEVENT
BEGIN:VEVENT
DTSTART;VALUE=DATE:20250718
DTEND;VALUE=DATE:20250721
DTSTAMP:20260421T151222
CREATED:20241120T194819Z
LAST-MODIFIED:20250227T075244Z
UID:10001766-1752796800-1753055999@yoqina.goldeneskreuz.de
SUMMARY:Yoga Qigong Natur erleben
DESCRIPTION:Yoga Qigong Natur erleben\nBergwandern und Kräuterküche\nDas Gunzesrieder Tal\, eingebettet in die malerische Alpenlandschaft\, bietet die perfekte Kulisse für ein ganzheitliches und abwechslungsreiches Programm. Hier kombinieren wir Elemente aus Yoga\, Qigong\, Kräuterkunde\, Wanderung im Naturpark Nagelfluh und kulinarischen Erlebnissen zu einem unvergesslichen Erlebnis für Körper und Geist. \n18.-20.Juli 2025 \nWir freuen uns auf dich – Bernhard und Christa \nYoQiNa Flyer 2025
URL:https://yoqina.goldeneskreuz.de/veranstaltung/yoga-qigong-natur-erleben-25-sommer/
LOCATION:Berggasthof Goldenes Kreuz\, YoQiNa\, Gunzesried\, Bayern\, 87544\, Deutschland
CATEGORIES:Goldenes Kreuz,Hatha Yoga,Natur erleben,News,News,News,Qigong,Schneeschuh,Yoga,YoQiNa
ATTACH;FMTTYPE=image/jpeg:https://yoqina.goldeneskreuz.de/wp-content/uploads/sites/4/2023/02/iStock-1320098178-2.jpg
ORGANIZER;CN="Berggasthof Goldenes Kreuz":MAILTO:info@goldeneskreuz.de
END:VEVENT
BEGIN:VEVENT
DTSTART;VALUE=DATE:20240705
DTEND;VALUE=DATE:20240708
DTSTAMP:20260421T151222
CREATED:20231215T091039Z
LAST-MODIFIED:20231215T092205Z
UID:10001167-1720137600-1720396799@yoqina.goldeneskreuz.de
SUMMARY:Yoga Qigong Natur erleben
DESCRIPTION:Yoga Qigong Natur erleben\nBergwandern und Kräuterküche\nErholsame Tage im Gunzesrieder Tal und dem Naturpark Nagelfluh. \nEs erwartet dich Yoga\, Qigong und geführte Kräuterwanderung im Gunzesrieder Tal. \nVegetarische Vollpension und gemütliches Beisammensein mit Gleichgesinnten. \n05.-07.Juli 2024 \nWir freuen uns auf dich – Bernhard und Christa \nYoga Qgong Natur erleben Flyer 2024
URL:https://yoqina.goldeneskreuz.de/veranstaltung/yoga-qigong-natur-erleben-4/
LOCATION:Berggasthof Goldenes Kreuz\, YoQiNa\, Gunzesried\, Bayern\, 87544\, Deutschland
CATEGORIES:Goldenes Kreuz,Hatha Yoga,Natur erleben,News,News,News,Qigong,Schneeschuh,Yoga,YoQiNa
ATTACH;FMTTYPE=image/jpeg:https://yoqina.goldeneskreuz.de/wp-content/uploads/sites/4/2023/02/iStock-1320098178-2.jpg
ORGANIZER;CN="Berggasthof Goldenes Kreuz":MAILTO:info@goldeneskreuz.de
END:VEVENT
END:VCALENDAR