BEGIN:VCALENDAR
VERSION:2.0
PRODID:-//Yoga - QiGong - Natur erleben - ECPv6.15.14//NONSGML v1.0//EN
CALSCALE:GREGORIAN
METHOD:PUBLISH
X-ORIGINAL-URL:https://yoqina.goldeneskreuz.de
X-WR-CALDESC:Veranstaltungen für Yoga - QiGong - Natur erleben
REFRESH-INTERVAL;VALUE=DURATION:PT1H
X-Robots-Tag:noindex
X-PUBLISHED-TTL:PT1H
BEGIN:VTIMEZONE
TZID:Europe/Berlin
BEGIN:DAYLIGHT
TZOFFSETFROM:+0100
TZOFFSETTO:+0200
TZNAME:CEST
DTSTART:20240331T010000
END:DAYLIGHT
BEGIN:STANDARD
TZOFFSETFROM:+0200
TZOFFSETTO:+0100
TZNAME:CET
DTSTART:20241027T010000
END:STANDARD
BEGIN:DAYLIGHT
TZOFFSETFROM:+0100
TZOFFSETTO:+0200
TZNAME:CEST
DTSTART:20250330T010000
END:DAYLIGHT
BEGIN:STANDARD
TZOFFSETFROM:+0200
TZOFFSETTO:+0100
TZNAME:CET
DTSTART:20251026T010000
END:STANDARD
BEGIN:DAYLIGHT
TZOFFSETFROM:+0100
TZOFFSETTO:+0200
TZNAME:CEST
DTSTART:20260329T010000
END:DAYLIGHT
BEGIN:STANDARD
TZOFFSETFROM:+0200
TZOFFSETTO:+0100
TZNAME:CET
DTSTART:20261025T010000
END:STANDARD
END:VTIMEZONE
BEGIN:VEVENT
DTSTART;TZID=Europe/Berlin:20250206T083000
DTEND;TZID=Europe/Berlin:20250206T093000
DTSTAMP:20260419T223456
CREATED:20241023T160432Z
LAST-MODIFIED:20241112T100910Z
UID:10001752-1738830600-1738834200@yoqina.goldeneskreuz.de
SUMMARY:Qigong mit Kneipp - Immenstadt
DESCRIPTION:Qigong mit Kneipp\nQigong stärkt die Lebenskraft. Die Qigong Übungen beruhen auf alter Tradition zur Gesundheitspflege. Die Qigong Übungen sind für jedes Lebensalter anpassbar und leicht zu erlenen. \nDonnerstags 8.30 -9.30 Uhr bis 06.02.2025 \nKosten: 9\,-/ 7\,- Kneippmitglieder \nOrt: StubbS Immenstadt
URL:https://yoqina.goldeneskreuz.de/veranstaltung/qigong-mit-kneipp-immenstadt-2/2025-02-06/
LOCATION:StubbS Immenstadt\, Bahnhofstraße 4\, Eingang Schlossgasse\, Immenstadt\, Bayern\, 87509\, Deutschland
CATEGORIES:Qigong,Qigong & TaiChi
ATTACH;FMTTYPE=image/jpeg:https://yoqina.goldeneskreuz.de/wp-content/uploads/sites/4/2024/01/qigong-1024-768.jpg
ORGANIZER;CN="Kneippverein Immenstadt e.V.":MAILTO:info@kneippverein-immenstadt.de
END:VEVENT
END:VCALENDAR