BEGIN:VCALENDAR
VERSION:2.0
PRODID:-//Yoga - QiGong - Natur erleben - ECPv6.15.14//NONSGML v1.0//EN
CALSCALE:GREGORIAN
METHOD:PUBLISH
X-ORIGINAL-URL:https://yoqina.goldeneskreuz.de
X-WR-CALDESC:Veranstaltungen für Yoga - QiGong - Natur erleben
REFRESH-INTERVAL;VALUE=DURATION:PT1H
X-Robots-Tag:noindex
X-PUBLISHED-TTL:PT1H
BEGIN:VTIMEZONE
TZID:Europe/Berlin
BEGIN:DAYLIGHT
TZOFFSETFROM:+0100
TZOFFSETTO:+0200
TZNAME:CEST
DTSTART:20240331T010000
END:DAYLIGHT
BEGIN:STANDARD
TZOFFSETFROM:+0200
TZOFFSETTO:+0100
TZNAME:CET
DTSTART:20241027T010000
END:STANDARD
BEGIN:DAYLIGHT
TZOFFSETFROM:+0100
TZOFFSETTO:+0200
TZNAME:CEST
DTSTART:20250330T010000
END:DAYLIGHT
BEGIN:STANDARD
TZOFFSETFROM:+0200
TZOFFSETTO:+0100
TZNAME:CET
DTSTART:20251026T010000
END:STANDARD
BEGIN:DAYLIGHT
TZOFFSETFROM:+0100
TZOFFSETTO:+0200
TZNAME:CEST
DTSTART:20260329T010000
END:DAYLIGHT
BEGIN:STANDARD
TZOFFSETFROM:+0200
TZOFFSETTO:+0100
TZNAME:CET
DTSTART:20261025T010000
END:STANDARD
END:VTIMEZONE
BEGIN:VEVENT
DTSTART;TZID=Europe/Berlin:20250311T193000
DTEND;TZID=Europe/Berlin:20250311T203000
DTSTAMP:20260419T205255
CREATED:20250227T081620Z
LAST-MODIFIED:20250227T170221Z
UID:10001701-1741721400-1741725000@yoqina.goldeneskreuz.de
SUMMARY:Tai Chi Chuan & Qigong in Gunzesried
DESCRIPTION:Tai Chi Chuan & Qigong\nTai Chi Chuan im Yang Stil und Qigong Gesundheitsübungen\nTai Chi Chuan im Yang Stil – dieser Stil ist bekannt für seine sanften und offenen Bewegungen. Er betont eine kontinuierliche\, langsame und gleichmäßige Flussbewegung\, die sowohl Entspannung als auch Bewusstsein fördert. \nDie Qigong Gesundheitsübungen sind Festigkeit und Sanftheit zugleich\, verbinden Fülle mit Leere\, Ruhe mit Gelassenheit und weisen eine enge Verbindung von Willen (Yi)\, Vitalität (Qi)\, und Geist (Shen) auf. \nBitte mitbringen: bequeme Kleidung\, warme Socken oder Schuhe mit dünnen Sohlen \nUhrzeit & Ort: Dienstags von 19.30 bis 20.30 Uhr\, Kreuz GunzesriedInfo & Anmeldung: Bernhard Schneider (Lehrer für Qigong & TaiChi) unter Tel: 08321/ 2560Kosten: 12 € pro Std. oder 10er Karte 95\,-
URL:https://yoqina.goldeneskreuz.de/veranstaltung/tai-chi-chuan-qigong-gunzesried-25/2025-03-11/
LOCATION:Berggasthof Goldenes Kreuz\, YoQiNa\, Gunzesried\, Bayern\, 87544\, Deutschland
CATEGORIES:News,Qigong,Qigong & TaiChi,TaiChi
ATTACH;FMTTYPE=image/png:https://yoqina.goldeneskreuz.de/wp-content/uploads/sites/4/2021/06/YoQiNa-Yoga-onlineyoga-Oberallgaeu-Schneider-Haende.png
ORGANIZER;CN="Berggasthof Goldenes Kreuz":MAILTO:info@goldeneskreuz.de
END:VEVENT
BEGIN:VEVENT
DTSTART;VALUE=DATE:20250314
DTEND;VALUE=DATE:20250317
DTSTAMP:20260419T205255
CREATED:20231215T090010Z
LAST-MODIFIED:20241208T133954Z
UID:10001825-1741910400-1742169599@yoqina.goldeneskreuz.de
SUMMARY:Yoga Qigong Natur erleben
DESCRIPTION:Yoga Qigong Natur erleben\nSchneeschuhtour\nDas Gunzesrieder Tal\, eingebettet in die malerische Alpenlandschaft\, bietet die perfekte Kulisse für ein ganzheitliches und abwechslungsreiches Programm. Hier kombinieren wir Elemente aus Yoga\, Qigong\, Kräuterkunde\, Schneeschuhtour und kulinarischen Erlebnissen zu einem unvergesslichen Erlebnis für Körper und Geist. \n14.03.-16.03.2025 \nWir freuen uns auf dich – Bernhard und Christa \nYoQiNa Flyer 2025
URL:https://yoqina.goldeneskreuz.de/veranstaltung/yoga-qigong-natur-erleben/
LOCATION:Berggasthof Goldenes Kreuz\, YoQiNa\, Gunzesried\, Bayern\, 87544\, Deutschland
CATEGORIES:Goldenes Kreuz,Hatha Yoga,Kräuterküche,Natur erleben,News,News,News,Qigong,Schneeschuh,Wandern,Yoga,YoQiNa
ATTACH;FMTTYPE=image/jpeg:https://yoqina.goldeneskreuz.de/wp-content/uploads/sites/4/2023/02/iStock-1320098178-2.jpg
ORGANIZER;CN="Berggasthof Goldenes Kreuz":MAILTO:info@goldeneskreuz.de
END:VEVENT
BEGIN:VEVENT
DTSTART;TZID=Europe/Berlin:20250318T193000
DTEND;TZID=Europe/Berlin:20250318T203000
DTSTAMP:20260419T205255
CREATED:20250227T081620Z
LAST-MODIFIED:20250227T170221Z
UID:10001956-1742326200-1742329800@yoqina.goldeneskreuz.de
SUMMARY:Tai Chi Chuan & Qigong in Gunzesried
DESCRIPTION:Tai Chi Chuan & Qigong\nTai Chi Chuan im Yang Stil und Qigong Gesundheitsübungen\nTai Chi Chuan im Yang Stil – dieser Stil ist bekannt für seine sanften und offenen Bewegungen. Er betont eine kontinuierliche\, langsame und gleichmäßige Flussbewegung\, die sowohl Entspannung als auch Bewusstsein fördert. \nDie Qigong Gesundheitsübungen sind Festigkeit und Sanftheit zugleich\, verbinden Fülle mit Leere\, Ruhe mit Gelassenheit und weisen eine enge Verbindung von Willen (Yi)\, Vitalität (Qi)\, und Geist (Shen) auf. \nBitte mitbringen: bequeme Kleidung\, warme Socken oder Schuhe mit dünnen Sohlen \nUhrzeit & Ort: Dienstags von 19.30 bis 20.30 Uhr\, Kreuz GunzesriedInfo & Anmeldung: Bernhard Schneider (Lehrer für Qigong & TaiChi) unter Tel: 08321/ 2560Kosten: 12 € pro Std. oder 10er Karte 95\,-
URL:https://yoqina.goldeneskreuz.de/veranstaltung/tai-chi-chuan-qigong-gunzesried-25/2025-03-18/
LOCATION:Berggasthof Goldenes Kreuz\, YoQiNa\, Gunzesried\, Bayern\, 87544\, Deutschland
CATEGORIES:News,Qigong,Qigong & TaiChi,TaiChi
ATTACH;FMTTYPE=image/png:https://yoqina.goldeneskreuz.de/wp-content/uploads/sites/4/2021/06/YoQiNa-Yoga-onlineyoga-Oberallgaeu-Schneider-Haende.png
ORGANIZER;CN="Berggasthof Goldenes Kreuz":MAILTO:info@goldeneskreuz.de
END:VEVENT
BEGIN:VEVENT
DTSTART;TZID=Europe/Berlin:20250331T174500
DTEND;TZID=Europe/Berlin:20250331T184500
DTSTAMP:20260419T205255
CREATED:20250326T105854Z
LAST-MODIFIED:20250326T112007Z
UID:10001780-1743443100-1743446700@yoqina.goldeneskreuz.de
SUMMARY:TaiChi Qigong - Bad Hindelang
DESCRIPTION:TaiChi – Qigong – Bad Hindelang\nGesundheitsübungen\nTaiChi und Yangsheng sind wie perfekte Partner im Tanz des Lebens. Sie laden dich ein\, achtsamer durch den Alltag zu gehen und Schritt für Schritt zu mehr Gesundheit und Lebensfreude zu gelangen Im Einklang zueinander verhelfen sie uns zu einer Stärkung des gesamten körperlichen\, seelischen und geistigen Systems. \nMontag\, wöchentlich\, 17:45 – 18:45 Uhr  Einzel 8\,50 / 10er Karte 75\,-\nBitte mitbringen: bequeme Kleidung\, warme Socken oder Schuhe mit dünnen Sohlen \nLeitung: Bernhard Schneider\, Lehrer für Qigong und T’ai Chi Ch’uan SKA
URL:https://yoqina.goldeneskreuz.de/veranstaltung/qigong-bad-hindelang-2-2-2/
LOCATION:Bad Hindelang Fiegenschuhweg 1\, Fiegenschuhwef 1\, Bad Hindelang\, Bayern\, 87541\, Deutschland
CATEGORIES:News,Qigong,Qigong & TaiChi,TaiChi,YoQiNa
ATTACH;FMTTYPE=image/jpeg:https://yoqina.goldeneskreuz.de/wp-content/uploads/sites/4/2024/01/zen-1024-768.jpg
ORGANIZER;CN="Berggasthof Goldenes Kreuz":MAILTO:info@goldeneskreuz.de
END:VEVENT
END:VCALENDAR