BEGIN:VCALENDAR
VERSION:2.0
PRODID:-//Yoga - QiGong - Natur erleben - ECPv6.15.14//NONSGML v1.0//EN
CALSCALE:GREGORIAN
METHOD:PUBLISH
X-WR-CALNAME:Yoga - QiGong - Natur erleben
X-ORIGINAL-URL:https://yoqina.goldeneskreuz.de
X-WR-CALDESC:Veranstaltungen für Yoga - QiGong - Natur erleben
REFRESH-INTERVAL;VALUE=DURATION:PT1H
X-Robots-Tag:noindex
X-PUBLISHED-TTL:PT1H
BEGIN:VTIMEZONE
TZID:Europe/Berlin
BEGIN:DAYLIGHT
TZOFFSETFROM:+0100
TZOFFSETTO:+0200
TZNAME:CEST
DTSTART:20230326T010000
END:DAYLIGHT
BEGIN:STANDARD
TZOFFSETFROM:+0200
TZOFFSETTO:+0100
TZNAME:CET
DTSTART:20231029T010000
END:STANDARD
BEGIN:DAYLIGHT
TZOFFSETFROM:+0100
TZOFFSETTO:+0200
TZNAME:CEST
DTSTART:20240331T010000
END:DAYLIGHT
BEGIN:STANDARD
TZOFFSETFROM:+0200
TZOFFSETTO:+0100
TZNAME:CET
DTSTART:20241027T010000
END:STANDARD
BEGIN:DAYLIGHT
TZOFFSETFROM:+0100
TZOFFSETTO:+0200
TZNAME:CEST
DTSTART:20250330T010000
END:DAYLIGHT
BEGIN:STANDARD
TZOFFSETFROM:+0200
TZOFFSETTO:+0100
TZNAME:CET
DTSTART:20251026T010000
END:STANDARD
END:VTIMEZONE
BEGIN:VEVENT
DTSTART;TZID=Europe/Berlin:20240701T100000
DTEND;TZID=Europe/Berlin:20240701T130000
DTSTAMP:20260420T023833
CREATED:20231212T121519Z
LAST-MODIFIED:20231231T210020Z
UID:10001212-1719828000-1719838800@yoqina.goldeneskreuz.de
SUMMARY:Was blüht denn da am Wegesrand?
DESCRIPTION:Was blüht den da am Wegesrand\nKräuterwanderung entlang des Nagelfluh\nLeichte Wanderung im Gunzesrieder Hochtal\, die uns über Kräuter- und artenreiche Wiesen und Alpgärten führt. Ihr begreift das Zusammenwirken von Kulturlandschaft und Landwirtschaft\, woher der Alpkäse seinen würzigen Geschmack hat und wie Kräuter und Wildpflanzen in der Volksheilkunde Verwendung finden. Gerne auch mit Kinder. \nLeitung: Christa Schneider\, Köchin\, Wildkräuterfrau und Naturparkführerin. \n\n\n  \n\n\n\n Dein Name\n \n \n Deine E-Mail-Adresse\n \n \n Betreff\n \n\n \n Deine Nachricht
URL:https://yoqina.goldeneskreuz.de/veranstaltung/was-blueht-denn-da-am-wegesrand-3/2024-07-01/
LOCATION:Berggasthof Goldenes Kreuz\, YoQiNa\, Gunzesried\, Bayern\, 87544\, Deutschland
CATEGORIES:Kräuterwandern,Natur erleben,News,Was blüht denn da am Wegesrand,YoQiNa
ATTACH;FMTTYPE=image/jpeg:https://yoqina.goldeneskreuz.de/wp-content/uploads/sites/4/2023/06/was_blueht_den_da_am_wegesrand-rotated-e1686344377351.jpg
ORGANIZER;CN="Berggasthof Goldenes Kreuz":MAILTO:info@goldeneskreuz.de
END:VEVENT
BEGIN:VEVENT
DTSTART;TZID=Europe/Berlin:20240708T100000
DTEND;TZID=Europe/Berlin:20240708T130000
DTSTAMP:20260420T023833
CREATED:20231212T121519Z
LAST-MODIFIED:20231231T210020Z
UID:10001213-1720432800-1720443600@yoqina.goldeneskreuz.de
SUMMARY:Was blüht denn da am Wegesrand?
DESCRIPTION:Was blüht den da am Wegesrand\nKräuterwanderung entlang des Nagelfluh\nLeichte Wanderung im Gunzesrieder Hochtal\, die uns über Kräuter- und artenreiche Wiesen und Alpgärten führt. Ihr begreift das Zusammenwirken von Kulturlandschaft und Landwirtschaft\, woher der Alpkäse seinen würzigen Geschmack hat und wie Kräuter und Wildpflanzen in der Volksheilkunde Verwendung finden. Gerne auch mit Kinder. \nLeitung: Christa Schneider\, Köchin\, Wildkräuterfrau und Naturparkführerin. \n\n\n  \n\n\n\n Dein Name\n \n \n Deine E-Mail-Adresse\n \n \n Betreff\n \n\n \n Deine Nachricht
URL:https://yoqina.goldeneskreuz.de/veranstaltung/was-blueht-denn-da-am-wegesrand-3/2024-07-08/
LOCATION:Berggasthof Goldenes Kreuz\, YoQiNa\, Gunzesried\, Bayern\, 87544\, Deutschland
CATEGORIES:Kräuterwandern,Natur erleben,News,Was blüht denn da am Wegesrand,YoQiNa
ATTACH;FMTTYPE=image/jpeg:https://yoqina.goldeneskreuz.de/wp-content/uploads/sites/4/2023/06/was_blueht_den_da_am_wegesrand-rotated-e1686344377351.jpg
ORGANIZER;CN="Berggasthof Goldenes Kreuz":MAILTO:info@goldeneskreuz.de
END:VEVENT
BEGIN:VEVENT
DTSTART;TZID=Europe/Berlin:20240715T100000
DTEND;TZID=Europe/Berlin:20240715T130000
DTSTAMP:20260420T023833
CREATED:20231212T121519Z
LAST-MODIFIED:20231231T210020Z
UID:10001214-1721037600-1721048400@yoqina.goldeneskreuz.de
SUMMARY:Was blüht denn da am Wegesrand?
DESCRIPTION:Was blüht den da am Wegesrand\nKräuterwanderung entlang des Nagelfluh\nLeichte Wanderung im Gunzesrieder Hochtal\, die uns über Kräuter- und artenreiche Wiesen und Alpgärten führt. Ihr begreift das Zusammenwirken von Kulturlandschaft und Landwirtschaft\, woher der Alpkäse seinen würzigen Geschmack hat und wie Kräuter und Wildpflanzen in der Volksheilkunde Verwendung finden. Gerne auch mit Kinder. \nLeitung: Christa Schneider\, Köchin\, Wildkräuterfrau und Naturparkführerin. \n\n\n  \n\n\n\n Dein Name\n \n \n Deine E-Mail-Adresse\n \n \n Betreff\n \n\n \n Deine Nachricht
URL:https://yoqina.goldeneskreuz.de/veranstaltung/was-blueht-denn-da-am-wegesrand-3/2024-07-15/
LOCATION:Berggasthof Goldenes Kreuz\, YoQiNa\, Gunzesried\, Bayern\, 87544\, Deutschland
CATEGORIES:Kräuterwandern,Natur erleben,News,Was blüht denn da am Wegesrand,YoQiNa
ATTACH;FMTTYPE=image/jpeg:https://yoqina.goldeneskreuz.de/wp-content/uploads/sites/4/2023/06/was_blueht_den_da_am_wegesrand-rotated-e1686344377351.jpg
ORGANIZER;CN="Berggasthof Goldenes Kreuz":MAILTO:info@goldeneskreuz.de
END:VEVENT
BEGIN:VEVENT
DTSTART;TZID=Europe/Berlin:20240722T100000
DTEND;TZID=Europe/Berlin:20240722T130000
DTSTAMP:20260420T023833
CREATED:20231212T121519Z
LAST-MODIFIED:20231231T210020Z
UID:10001215-1721642400-1721653200@yoqina.goldeneskreuz.de
SUMMARY:Was blüht denn da am Wegesrand?
DESCRIPTION:Was blüht den da am Wegesrand\nKräuterwanderung entlang des Nagelfluh\nLeichte Wanderung im Gunzesrieder Hochtal\, die uns über Kräuter- und artenreiche Wiesen und Alpgärten führt. Ihr begreift das Zusammenwirken von Kulturlandschaft und Landwirtschaft\, woher der Alpkäse seinen würzigen Geschmack hat und wie Kräuter und Wildpflanzen in der Volksheilkunde Verwendung finden. Gerne auch mit Kinder. \nLeitung: Christa Schneider\, Köchin\, Wildkräuterfrau und Naturparkführerin. \n\n\n  \n\n\n\n Dein Name\n \n \n Deine E-Mail-Adresse\n \n \n Betreff\n \n\n \n Deine Nachricht
URL:https://yoqina.goldeneskreuz.de/veranstaltung/was-blueht-denn-da-am-wegesrand-3/2024-07-22/
LOCATION:Berggasthof Goldenes Kreuz\, YoQiNa\, Gunzesried\, Bayern\, 87544\, Deutschland
CATEGORIES:Kräuterwandern,Natur erleben,News,Was blüht denn da am Wegesrand,YoQiNa
ATTACH;FMTTYPE=image/jpeg:https://yoqina.goldeneskreuz.de/wp-content/uploads/sites/4/2023/06/was_blueht_den_da_am_wegesrand-rotated-e1686344377351.jpg
ORGANIZER;CN="Berggasthof Goldenes Kreuz":MAILTO:info@goldeneskreuz.de
END:VEVENT
BEGIN:VEVENT
DTSTART;TZID=Europe/Berlin:20240729T100000
DTEND;TZID=Europe/Berlin:20240729T130000
DTSTAMP:20260420T023833
CREATED:20231212T121519Z
LAST-MODIFIED:20231231T210020Z
UID:10001216-1722247200-1722258000@yoqina.goldeneskreuz.de
SUMMARY:Was blüht denn da am Wegesrand?
DESCRIPTION:Was blüht den da am Wegesrand\nKräuterwanderung entlang des Nagelfluh\nLeichte Wanderung im Gunzesrieder Hochtal\, die uns über Kräuter- und artenreiche Wiesen und Alpgärten führt. Ihr begreift das Zusammenwirken von Kulturlandschaft und Landwirtschaft\, woher der Alpkäse seinen würzigen Geschmack hat und wie Kräuter und Wildpflanzen in der Volksheilkunde Verwendung finden. Gerne auch mit Kinder. \nLeitung: Christa Schneider\, Köchin\, Wildkräuterfrau und Naturparkführerin. \n\n\n  \n\n\n\n Dein Name\n \n \n Deine E-Mail-Adresse\n \n \n Betreff\n \n\n \n Deine Nachricht
URL:https://yoqina.goldeneskreuz.de/veranstaltung/was-blueht-denn-da-am-wegesrand-3/2024-07-29/
LOCATION:Berggasthof Goldenes Kreuz\, YoQiNa\, Gunzesried\, Bayern\, 87544\, Deutschland
CATEGORIES:Kräuterwandern,Natur erleben,News,Was blüht denn da am Wegesrand,YoQiNa
ATTACH;FMTTYPE=image/jpeg:https://yoqina.goldeneskreuz.de/wp-content/uploads/sites/4/2023/06/was_blueht_den_da_am_wegesrand-rotated-e1686344377351.jpg
ORGANIZER;CN="Berggasthof Goldenes Kreuz":MAILTO:info@goldeneskreuz.de
END:VEVENT
END:VCALENDAR