BEGIN:VCALENDAR
VERSION:2.0
PRODID:-//Yoga - QiGong - Natur erleben - ECPv6.15.14//NONSGML v1.0//EN
CALSCALE:GREGORIAN
METHOD:PUBLISH
X-WR-CALNAME:Yoga - QiGong - Natur erleben
X-ORIGINAL-URL:https://yoqina.goldeneskreuz.de
X-WR-CALDESC:Veranstaltungen für Yoga - QiGong - Natur erleben
REFRESH-INTERVAL;VALUE=DURATION:PT1H
X-Robots-Tag:noindex
X-PUBLISHED-TTL:PT1H
BEGIN:VTIMEZONE
TZID:Europe/Berlin
BEGIN:DAYLIGHT
TZOFFSETFROM:+0100
TZOFFSETTO:+0200
TZNAME:CEST
DTSTART:20240331T010000
END:DAYLIGHT
BEGIN:STANDARD
TZOFFSETFROM:+0200
TZOFFSETTO:+0100
TZNAME:CET
DTSTART:20241027T010000
END:STANDARD
BEGIN:DAYLIGHT
TZOFFSETFROM:+0100
TZOFFSETTO:+0200
TZNAME:CEST
DTSTART:20250330T010000
END:DAYLIGHT
BEGIN:STANDARD
TZOFFSETFROM:+0200
TZOFFSETTO:+0100
TZNAME:CET
DTSTART:20251026T010000
END:STANDARD
BEGIN:DAYLIGHT
TZOFFSETFROM:+0100
TZOFFSETTO:+0200
TZNAME:CEST
DTSTART:20260329T010000
END:DAYLIGHT
BEGIN:STANDARD
TZOFFSETFROM:+0200
TZOFFSETTO:+0100
TZNAME:CET
DTSTART:20261025T010000
END:STANDARD
END:VTIMEZONE
BEGIN:VEVENT
DTSTART;TZID=Europe/Berlin:20250505T193000
DTEND;TZID=Europe/Berlin:20250505T203000
DTSTAMP:20260420T214819
CREATED:20250227T165310Z
LAST-MODIFIED:20250603T124941Z
UID:10001944-1746473400-1746477000@yoqina.goldeneskreuz.de
SUMMARY:Qigong - Yi Jin Jing - Immenstadt
DESCRIPTION:Qigong – Yi Jin Jing\nMuskel- und Sehnen stärkendes Qigong\nDas Yi Jin Jing ist eine Form des Qigong\, die aus 12 Einzelübungen besteht und aus Atmung und Konzentration gesteuert wird. Die Übungsform hat zum Ziel die Stärkung der Muskeln und Lockerung der Faszien\, damit diese ihre natürliche Lage und den Spannungszustand wieder erlangen. Kraft\, Flexibilität und Ausdauer kann gefördert werden. \nBitte mitbringen: bequeme Kleidung\, warme Socken oder Schuhe mit dünnen Sohlen. \nLeitung: Bernhard Schneider\, Lehrer für Qigong und T’ai Chi Ch’uan SKA\n10 Abende\, 05.05.- 21.07.2025\nMontag\, 19:30 – 20:30 Uhr Kosten 92\,- \nAnmeldung über Oberallgäuer Volkshochschule
URL:https://yoqina.goldeneskreuz.de/veranstaltung/qigong-yi-yin-jing-immenstadt-2505/2025-05-05/
LOCATION:StubbS Immenstadt\, Bahnhofstraße 4\, Eingang Schlossgasse\, Immenstadt\, Bayern\, 87509\, Deutschland
CATEGORIES:News,Qigong,vhs Oberallgäuer Volkshochschule,YoQiNa
ATTACH;FMTTYPE=image/jpeg:https://yoqina.goldeneskreuz.de/wp-content/uploads/sites/4/2023/02/iStock-1320098178-2.jpg
ORGANIZER;CN="vhs Oberallg%C3%A4uer Volkshochschule":MAILTO:info@goldeneskreuz.de
END:VEVENT
BEGIN:VEVENT
DTSTART;TZID=Europe/Berlin:20250512T193000
DTEND;TZID=Europe/Berlin:20250512T203000
DTSTAMP:20260420T214819
CREATED:20250227T165310Z
LAST-MODIFIED:20250603T124941Z
UID:10001945-1747078200-1747081800@yoqina.goldeneskreuz.de
SUMMARY:Qigong - Yi Jin Jing - Immenstadt
DESCRIPTION:Qigong – Yi Jin Jing\nMuskel- und Sehnen stärkendes Qigong\nDas Yi Jin Jing ist eine Form des Qigong\, die aus 12 Einzelübungen besteht und aus Atmung und Konzentration gesteuert wird. Die Übungsform hat zum Ziel die Stärkung der Muskeln und Lockerung der Faszien\, damit diese ihre natürliche Lage und den Spannungszustand wieder erlangen. Kraft\, Flexibilität und Ausdauer kann gefördert werden. \nBitte mitbringen: bequeme Kleidung\, warme Socken oder Schuhe mit dünnen Sohlen. \nLeitung: Bernhard Schneider\, Lehrer für Qigong und T’ai Chi Ch’uan SKA\n10 Abende\, 05.05.- 21.07.2025\nMontag\, 19:30 – 20:30 Uhr Kosten 92\,- \nAnmeldung über Oberallgäuer Volkshochschule
URL:https://yoqina.goldeneskreuz.de/veranstaltung/qigong-yi-yin-jing-immenstadt-2505/2025-05-12/
LOCATION:StubbS Immenstadt\, Bahnhofstraße 4\, Eingang Schlossgasse\, Immenstadt\, Bayern\, 87509\, Deutschland
CATEGORIES:News,Qigong,vhs Oberallgäuer Volkshochschule,YoQiNa
ATTACH;FMTTYPE=image/jpeg:https://yoqina.goldeneskreuz.de/wp-content/uploads/sites/4/2023/02/iStock-1320098178-2.jpg
ORGANIZER;CN="vhs Oberallg%C3%A4uer Volkshochschule":MAILTO:info@goldeneskreuz.de
END:VEVENT
BEGIN:VEVENT
DTSTART;TZID=Europe/Berlin:20250519T193000
DTEND;TZID=Europe/Berlin:20250519T203000
DTSTAMP:20260420T214819
CREATED:20250227T165310Z
LAST-MODIFIED:20250603T124941Z
UID:10001946-1747683000-1747686600@yoqina.goldeneskreuz.de
SUMMARY:Qigong - Yi Jin Jing - Immenstadt
DESCRIPTION:Qigong – Yi Jin Jing\nMuskel- und Sehnen stärkendes Qigong\nDas Yi Jin Jing ist eine Form des Qigong\, die aus 12 Einzelübungen besteht und aus Atmung und Konzentration gesteuert wird. Die Übungsform hat zum Ziel die Stärkung der Muskeln und Lockerung der Faszien\, damit diese ihre natürliche Lage und den Spannungszustand wieder erlangen. Kraft\, Flexibilität und Ausdauer kann gefördert werden. \nBitte mitbringen: bequeme Kleidung\, warme Socken oder Schuhe mit dünnen Sohlen. \nLeitung: Bernhard Schneider\, Lehrer für Qigong und T’ai Chi Ch’uan SKA\n10 Abende\, 05.05.- 21.07.2025\nMontag\, 19:30 – 20:30 Uhr Kosten 92\,- \nAnmeldung über Oberallgäuer Volkshochschule
URL:https://yoqina.goldeneskreuz.de/veranstaltung/qigong-yi-yin-jing-immenstadt-2505/2025-05-19/
LOCATION:StubbS Immenstadt\, Bahnhofstraße 4\, Eingang Schlossgasse\, Immenstadt\, Bayern\, 87509\, Deutschland
CATEGORIES:News,Qigong,vhs Oberallgäuer Volkshochschule,YoQiNa
ATTACH;FMTTYPE=image/jpeg:https://yoqina.goldeneskreuz.de/wp-content/uploads/sites/4/2023/02/iStock-1320098178-2.jpg
ORGANIZER;CN="vhs Oberallg%C3%A4uer Volkshochschule":MAILTO:info@goldeneskreuz.de
END:VEVENT
BEGIN:VEVENT
DTSTART;TZID=Europe/Berlin:20250526T193000
DTEND;TZID=Europe/Berlin:20250526T203000
DTSTAMP:20260420T214819
CREATED:20250227T165310Z
LAST-MODIFIED:20250603T124941Z
UID:10001947-1748287800-1748291400@yoqina.goldeneskreuz.de
SUMMARY:Qigong - Yi Jin Jing - Immenstadt
DESCRIPTION:Qigong – Yi Jin Jing\nMuskel- und Sehnen stärkendes Qigong\nDas Yi Jin Jing ist eine Form des Qigong\, die aus 12 Einzelübungen besteht und aus Atmung und Konzentration gesteuert wird. Die Übungsform hat zum Ziel die Stärkung der Muskeln und Lockerung der Faszien\, damit diese ihre natürliche Lage und den Spannungszustand wieder erlangen. Kraft\, Flexibilität und Ausdauer kann gefördert werden. \nBitte mitbringen: bequeme Kleidung\, warme Socken oder Schuhe mit dünnen Sohlen. \nLeitung: Bernhard Schneider\, Lehrer für Qigong und T’ai Chi Ch’uan SKA\n10 Abende\, 05.05.- 21.07.2025\nMontag\, 19:30 – 20:30 Uhr Kosten 92\,- \nAnmeldung über Oberallgäuer Volkshochschule
URL:https://yoqina.goldeneskreuz.de/veranstaltung/qigong-yi-yin-jing-immenstadt-2505/2025-05-26/
LOCATION:StubbS Immenstadt\, Bahnhofstraße 4\, Eingang Schlossgasse\, Immenstadt\, Bayern\, 87509\, Deutschland
CATEGORIES:News,Qigong,vhs Oberallgäuer Volkshochschule,YoQiNa
ATTACH;FMTTYPE=image/jpeg:https://yoqina.goldeneskreuz.de/wp-content/uploads/sites/4/2023/02/iStock-1320098178-2.jpg
ORGANIZER;CN="vhs Oberallg%C3%A4uer Volkshochschule":MAILTO:info@goldeneskreuz.de
END:VEVENT
END:VCALENDAR