BEGIN:VCALENDAR
VERSION:2.0
PRODID:-//Yoga - QiGong - Natur erleben - ECPv6.15.14//NONSGML v1.0//EN
CALSCALE:GREGORIAN
METHOD:PUBLISH
X-WR-CALNAME:Yoga - QiGong - Natur erleben
X-ORIGINAL-URL:https://yoqina.goldeneskreuz.de
X-WR-CALDESC:Veranstaltungen für Yoga - QiGong - Natur erleben
REFRESH-INTERVAL;VALUE=DURATION:PT1H
X-Robots-Tag:noindex
X-PUBLISHED-TTL:PT1H
BEGIN:VTIMEZONE
TZID:Europe/Berlin
BEGIN:DAYLIGHT
TZOFFSETFROM:+0100
TZOFFSETTO:+0200
TZNAME:CEST
DTSTART:20230326T010000
END:DAYLIGHT
BEGIN:STANDARD
TZOFFSETFROM:+0200
TZOFFSETTO:+0100
TZNAME:CET
DTSTART:20231029T010000
END:STANDARD
BEGIN:DAYLIGHT
TZOFFSETFROM:+0100
TZOFFSETTO:+0200
TZNAME:CEST
DTSTART:20240331T010000
END:DAYLIGHT
BEGIN:STANDARD
TZOFFSETFROM:+0200
TZOFFSETTO:+0100
TZNAME:CET
DTSTART:20241027T010000
END:STANDARD
BEGIN:DAYLIGHT
TZOFFSETFROM:+0100
TZOFFSETTO:+0200
TZNAME:CEST
DTSTART:20250330T010000
END:DAYLIGHT
BEGIN:STANDARD
TZOFFSETFROM:+0200
TZOFFSETTO:+0100
TZNAME:CET
DTSTART:20251026T010000
END:STANDARD
END:VTIMEZONE
BEGIN:VEVENT
DTSTART;TZID=Europe/Berlin:20240702T174500
DTEND;TZID=Europe/Berlin:20240702T184500
DTSTAMP:20260420T053324
CREATED:20231215T102113Z
LAST-MODIFIED:20240611T100349Z
UID:10001206-1719942300-1719945900@yoqina.goldeneskreuz.de
SUMMARY:TaiChi & Qigong im Park - Sonthofen
DESCRIPTION:Taichi & Qigong im Park\nSommer spezial\nEintreten in den eigenen Raum der Stille und trotzdem aufmerksam und wach sein in den Handlungen\, ist das Prinzip von Yin und Yang. Die Verbindung von TaiChi und Qigong führen uns in eine entspannte aufrechte Haltung\, lockern die Gelenke und fördern eine natürliche\, tiefe Atmung. \nDie Übungen sind gut zu erlernen\, brauchen wenig Platz und sind für jedes Alter anpassbar. \nBitte mitbringen: bequeme Kleidung. \nLeitung: Bernhard Schneider\, Lehrer für Qigong und T’ai Chi Ch’uan SKA\n8 Termin(e)\, 04.06.2024 – 23.07.2024\nDienstag\, wöchentlich\, 17:45 – 18:45 Uhr \n70\,- € \nAnmeldung über Oberallgäuer Volkshochschule
URL:https://yoqina.goldeneskreuz.de/veranstaltung/taichi-qigong-im-park-sonthofen-2/2024-07-02/
LOCATION:Sonthofen\, alte Turnhalle\, Frühlingsstr. 4\, Sonthofen\, Bayern\, 87527\, Deutschland
CATEGORIES:News,Qigong,Qigong & TaiChi,TaiChi,vhs Oberallgäuer Volkshochschule,YoQiNa
ATTACH;FMTTYPE=image/jpeg:https://yoqina.goldeneskreuz.de/wp-content/uploads/sites/4/2023/02/qigong_im_park.jpg
ORGANIZER;CN="vhs Oberallg%C3%A4uer Volkshochschule":MAILTO:info@goldeneskreuz.de
END:VEVENT
BEGIN:VEVENT
DTSTART;TZID=Europe/Berlin:20240709T174500
DTEND;TZID=Europe/Berlin:20240709T184500
DTSTAMP:20260420T053324
CREATED:20231215T102113Z
LAST-MODIFIED:20240611T100349Z
UID:10001207-1720547100-1720550700@yoqina.goldeneskreuz.de
SUMMARY:TaiChi & Qigong im Park - Sonthofen
DESCRIPTION:Taichi & Qigong im Park\nSommer spezial\nEintreten in den eigenen Raum der Stille und trotzdem aufmerksam und wach sein in den Handlungen\, ist das Prinzip von Yin und Yang. Die Verbindung von TaiChi und Qigong führen uns in eine entspannte aufrechte Haltung\, lockern die Gelenke und fördern eine natürliche\, tiefe Atmung. \nDie Übungen sind gut zu erlernen\, brauchen wenig Platz und sind für jedes Alter anpassbar. \nBitte mitbringen: bequeme Kleidung. \nLeitung: Bernhard Schneider\, Lehrer für Qigong und T’ai Chi Ch’uan SKA\n8 Termin(e)\, 04.06.2024 – 23.07.2024\nDienstag\, wöchentlich\, 17:45 – 18:45 Uhr \n70\,- € \nAnmeldung über Oberallgäuer Volkshochschule
URL:https://yoqina.goldeneskreuz.de/veranstaltung/taichi-qigong-im-park-sonthofen-2/2024-07-09/
LOCATION:Sonthofen\, alte Turnhalle\, Frühlingsstr. 4\, Sonthofen\, Bayern\, 87527\, Deutschland
CATEGORIES:News,Qigong,Qigong & TaiChi,TaiChi,vhs Oberallgäuer Volkshochschule,YoQiNa
ATTACH;FMTTYPE=image/jpeg:https://yoqina.goldeneskreuz.de/wp-content/uploads/sites/4/2023/02/qigong_im_park.jpg
ORGANIZER;CN="vhs Oberallg%C3%A4uer Volkshochschule":MAILTO:info@goldeneskreuz.de
END:VEVENT
BEGIN:VEVENT
DTSTART;TZID=Europe/Berlin:20240716T174500
DTEND;TZID=Europe/Berlin:20240716T184500
DTSTAMP:20260420T053324
CREATED:20231215T102113Z
LAST-MODIFIED:20240611T100349Z
UID:10001208-1721151900-1721155500@yoqina.goldeneskreuz.de
SUMMARY:TaiChi & Qigong im Park - Sonthofen
DESCRIPTION:Taichi & Qigong im Park\nSommer spezial\nEintreten in den eigenen Raum der Stille und trotzdem aufmerksam und wach sein in den Handlungen\, ist das Prinzip von Yin und Yang. Die Verbindung von TaiChi und Qigong führen uns in eine entspannte aufrechte Haltung\, lockern die Gelenke und fördern eine natürliche\, tiefe Atmung. \nDie Übungen sind gut zu erlernen\, brauchen wenig Platz und sind für jedes Alter anpassbar. \nBitte mitbringen: bequeme Kleidung. \nLeitung: Bernhard Schneider\, Lehrer für Qigong und T’ai Chi Ch’uan SKA\n8 Termin(e)\, 04.06.2024 – 23.07.2024\nDienstag\, wöchentlich\, 17:45 – 18:45 Uhr \n70\,- € \nAnmeldung über Oberallgäuer Volkshochschule
URL:https://yoqina.goldeneskreuz.de/veranstaltung/taichi-qigong-im-park-sonthofen-2/2024-07-16/
LOCATION:Sonthofen\, alte Turnhalle\, Frühlingsstr. 4\, Sonthofen\, Bayern\, 87527\, Deutschland
CATEGORIES:News,Qigong,Qigong & TaiChi,TaiChi,vhs Oberallgäuer Volkshochschule,YoQiNa
ATTACH;FMTTYPE=image/jpeg:https://yoqina.goldeneskreuz.de/wp-content/uploads/sites/4/2023/02/qigong_im_park.jpg
ORGANIZER;CN="vhs Oberallg%C3%A4uer Volkshochschule":MAILTO:info@goldeneskreuz.de
END:VEVENT
BEGIN:VEVENT
DTSTART;TZID=Europe/Berlin:20240723T174500
DTEND;TZID=Europe/Berlin:20240723T184500
DTSTAMP:20260420T053324
CREATED:20231215T102113Z
LAST-MODIFIED:20240611T100349Z
UID:10001209-1721756700-1721760300@yoqina.goldeneskreuz.de
SUMMARY:TaiChi & Qigong im Park - Sonthofen
DESCRIPTION:Taichi & Qigong im Park\nSommer spezial\nEintreten in den eigenen Raum der Stille und trotzdem aufmerksam und wach sein in den Handlungen\, ist das Prinzip von Yin und Yang. Die Verbindung von TaiChi und Qigong führen uns in eine entspannte aufrechte Haltung\, lockern die Gelenke und fördern eine natürliche\, tiefe Atmung. \nDie Übungen sind gut zu erlernen\, brauchen wenig Platz und sind für jedes Alter anpassbar. \nBitte mitbringen: bequeme Kleidung. \nLeitung: Bernhard Schneider\, Lehrer für Qigong und T’ai Chi Ch’uan SKA\n8 Termin(e)\, 04.06.2024 – 23.07.2024\nDienstag\, wöchentlich\, 17:45 – 18:45 Uhr \n70\,- € \nAnmeldung über Oberallgäuer Volkshochschule
URL:https://yoqina.goldeneskreuz.de/veranstaltung/taichi-qigong-im-park-sonthofen-2/2024-07-23/
LOCATION:Sonthofen\, alte Turnhalle\, Frühlingsstr. 4\, Sonthofen\, Bayern\, 87527\, Deutschland
CATEGORIES:News,Qigong,Qigong & TaiChi,TaiChi,vhs Oberallgäuer Volkshochschule,YoQiNa
ATTACH;FMTTYPE=image/jpeg:https://yoqina.goldeneskreuz.de/wp-content/uploads/sites/4/2023/02/qigong_im_park.jpg
ORGANIZER;CN="vhs Oberallg%C3%A4uer Volkshochschule":MAILTO:info@goldeneskreuz.de
END:VEVENT
END:VCALENDAR